Uber Exif Photo
Make : NIKON CORPORATION
Camera Model Name : NIKON Z6_3
Software : Adobe Photoshop Lightroom Classic 14.4 (Macintosh)
Modify Date : 2025:07:28 16:37:51
Artist : AJRimages
Copyright : AJRimages
Exposure Time : 1/60
F Number : 2.8
Exposure Program : Manual
ISO : 100
Sensitivity Type : Recommended Exposure Index
Recommended Exposure Index : 100
Date/Time Original : 2025:07:19 09:32:25
Create Date : 2025:07:19 09:32:25
Shutter Speed Value : 1/60
Aperture Value : 2.8
Exposure Compensation : 0
Metering Mode : Multi-segment
Light Source : Unknown
Flash : No Flash
Focal Length : 29.0 mm
Color Space : sRGB
Sensing Method : One-chip color area
Scene Type : Directly photographed
CFA Pattern : [Red,Green][Green,Blue]
Custom Rendered : Custom
Exposure Mode : Manual
White Balance : Auto
Focal Length In 35mm Format : 29 mm
Scene Capture Type : Standard
Gain Control : None
Contrast : Normal
Saturation : Normal
Sharpness : Normal
Subject Distance Range : Unknown
Serial Number : 3000902
Lens Info : 24-70mm f/2.8
Lens Make : NIKON
Lens Model : NIKKOR Z 24-70mm f/2.8 S
Lens Serial Number : 20057944
Keywords : 20250719, Lyon Museum
By-line : AJRimages
Copyright Notice : AJRimages
Profile Description : sRGB IEC61966-2.1
Creator Tool : Adobe Photoshop Lightroom Classic 14.4 (Macintosh)
Format : image/jpeg
Lens : NIKKOR Z 24-70mm f/2.8 S
Image Number : 3919
Distortion Correction Already Applied : True
Lateral Chromatic Aberration Correction Already Applied:
True
Vignette Correction Already Applied : True
Date Created : 2025:07:19 09:32:25.44-07:00
Preserved File Name : AJR_3914.NEF
Pick : 0
Raw File Name : AJR_3914.NEF
Version : 17.4
Process Version : 15.4
Color Temperature : 4800
Tint : +14
Exposure 2012 : -0.30
Contrast 2012 : +19
Highlights 2012 : -100
Shadows 2012 : +8
Whites 2012 : -21
Blacks 2012 : +59
Texture : +8
Clarity 2012 : +32
Dehaze : 0
Vibrance : 0
Parametric Shadows : 0
Parametric Darks : 0
Parametric Lights : 0
Parametric Highlights : 0
Parametric Shadow Split : 25
Parametric Midtone Split : 50
Parametric Highlight Split : 75
Sharpen Radius : +1.0
Sharpen Detail : 25
Sharpen Edge Masking : 25
Luminance Smoothing : 45
Luminance Noise Reduction Detail : 75
Luminance Noise Reduction Contrast : 0
Color Noise Reduction : 25
Color Noise Reduction Detail : 50
Color Noise Reduction Smoothness : 50
Hue Adjustment Red : 0
Hue Adjustment Orange : 0
Hue Adjustment Yellow : 0
Hue Adjustment Green : 0
Hue Adjustment Aqua : 0
Hue Adjustment Blue : 0
Hue Adjustment Purple : 0
Hue Adjustment Magenta : 0
Saturation Adjustment Red : 0
Saturation Adjustment Orange : 0
Saturation Adjustment Yellow : 0
Saturation Adjustment Green : 0
Saturation Adjustment Aqua : 0
Saturation Adjustment Blue : 0
Saturation Adjustment Purple : 0
Saturation Adjustment Magenta : 0
Luminance Adjustment Red : 0
Luminance Adjustment Orange : 0
Luminance Adjustment Yellow : 0
Luminance Adjustment Green : 0
Luminance Adjustment Aqua : 0
Luminance Adjustment Blue : 0
Luminance Adjustment Purple : 0
Luminance Adjustment Magenta : 0
Split Toning Shadow Hue : 0
Split Toning Shadow Saturation : 0
Split Toning Highlight Hue : 0
Split Toning Highlight Saturation : 0
Split Toning Balance : 0
Color Grade Midtone Hue : 0
Color Grade Midtone Sat : 0
Color Grade Shadow Lum : 0
Color Grade Midtone Lum : 0
Color Grade Highlight Lum : 0
Color Grade Blending : 50
Color Grade Global Hue : 0
Color Grade Global Sat : 0
Color Grade Global Lum : 0
Auto Lateral CA : 1
Lens Profile Enable : 1
Lens Manual Distortion Amount : 0
Vignette Amount : 0
Defringe Purple Amount : 0
Defringe Purple Hue Lo : 30
Defringe Purple Hue Hi : 70
Defringe Green Amount : 0
Defringe Green Hue Lo : 40
Defringe Green Hue Hi : 60
Perspective Upright : Off
Perspective Vertical : 0
Perspective Horizontal : 0
Perspective Rotate : 0.0
Perspective Aspect : 0
Perspective Scale : 100
Perspective X : 0.00
Perspective Y : 0.00
Grain Amount : 0
Post Crop Vignette Amount : 0
Shadow Tint : 0
Red Hue : 0
Red Saturation : 0
Green Hue : 0
Green Saturation : 0
Blue Hue : 0
Blue Saturation : 0
HDR Edit Mode : 0
Convert To Grayscale : False
Override Look Vignette : False
Tone Curve Name 2012 : Linear
Camera Profile : Group: Camera Standard
Lens Profile Setup : LensDefaults
Lens Profile Name : Camera Settings
Lens Profile Is Embedded : True
Lens Profile Distortion Scale : 100
Lens Profile Vignetting Scale : 100
Has Settings : True
Crop Top : 0.105791
Crop Left : 0.126967
Crop Bottom : 0.931338
Crop Right : 0.630511
Crop Angle : 0
Crop Constrain To Warp : 0
Crop Constrain To Unit Square : 1
Has Crop : True
Already Applied : True
Creator : AJRimages
Rights : AJRimages
Subject : 20250719, Lyon Museum
Camera Profiles Author : Adobe
Camera Profiles Make : NIKON CORPORATION
Camera Profiles Model : NIKON Z6_3
Camera Profiles Unique Camera Model : Nikon Z 6 3
Camera Profiles Camera Raw Profile : True
Camera Profiles Auto Scale : False
Camera Profiles Lens : NIKKOR Z 24-70mm f/2.8 S
Camera Profiles Camera Pretty Name : Nikon Z 6 3
Camera Profiles Lens Pretty Name : NIKKOR Z 24-70mm f/2.8 S
Camera Profiles Profile Name : Camera Settings
Camera Profiles Sensor Format Factor : 1.005807
Camera Profiles Focal Length : 29
Camera Profiles Focus Distance : 10000
Camera Profiles Aperture Value : 2.970854
Camera Profiles Perspective Model Version : 2
Camera Profiles Perspective Model Image X Center:
0.500622
Camera Profiles Perspective Model Image Y Center:
0.498248
Camera Profiles Perspective Model Scale Factor:
1.011333
Camera Profiles Perspective Model Radial Distort Param 1:
-0.093933
Camera Profiles Perspective Model Radial Distort Param 2:
0.113347
Camera Profiles Perspective Model Radial Distort Param 3:
-0.004543
Camera Profiles Perspective Model Vignette Model Image X Center:
Camera Profiles Perspective Model Vignette Model Image Y Center:
Camera Profiles Perspective Model Vignette Model Vignette Model Param 1:
1
Camera Profiles Perspective Model Vignette Model Vignette Model Piecewise Param:
Weighted Flat Subject : 20250719, Lyon Museum
Tone Curve PV2012 : 0, 0, 255, 255
Tone Curve PV2012 Red : 0, 0, 255, 255
Tone Curve PV2012 Green : 0, 0, 255, 255
Tone Curve PV2012 Blue : 0, 0, 255, 255
Point Colors : -1.000000, -1.000000, -1.000000, -1.000000, -1.000000, -1.000000, -1.000000, -1.000000, -1.000000, -1.000000, -1.000000, -1.000000, -1.000000, -1.000000, -1.000000, -1.000000, -1.000000, -1.000000, -1.000000
Color Variance : -50.000000
Image Width : 366
Image Height : 400
Bits Per Sample : 8
Color Components : 3
Aperture : 2.8
Image Size : 366x400
Megapixels : 0.146
Scale Factor To 35 mm Equivalent : 1.0
Shutter Speed : 1/60
Create Date : 2025:07:19 09:32:25.44-07:00
Date/Time Original : 2025:07:19 09:32:25.44-07:00
Modify Date : 2025:07:28 16:37:51-07:00
Circle Of Confusion : 0.030 mm
Field Of View : 63.7 deg
Focal Length : 29.0 mm (35 mm equivalent: 29.0 mm)
Hyperfocal Distance : 10.00 m
Light Value : 8.9
Lens ID : NIKKOR Z 24-70mm f/2.8 S