Uber Exif Photo
Make : NIKON CORPORATION
Camera Model Name : NIKON D700
Software : Ver.1.02
Modify Date : 2011:02:17 11:45:58
Artist : Boqdan Zhuk
Copyright : Boqdan Zhuk
Exposure Time : 1/90
F Number : 6.7
Exposure Program : Manual
ISO : 400
Sensitivity Type : Unknown
Date/Time Original : 2011:02:12 08:31:09
Create Date : 2011:02:12 08:31:09
Shutter Speed Value : 1/90
Aperture Value : 6.7
Exposure Compensation : 0
Max Aperture Value : 2.8
Subject Distance : 4294967295 m
Metering Mode : Spot
Light Source : Unknown
Focal Length : 28.0 mm
Sensing Method : One-chip color area
Scene Type : Directly photographed
CFA Pattern : [Red,Green][Green,Blue]
Custom Rendered : Normal
Exposure Mode : Manual
White Balance : Manual
Digital Zoom Ratio : 1
Focal Length In 35mm Format : 28 mm
Scene Capture Type : Standard
Gain Control : Low gain up
Contrast : Normal
Saturation : Normal
Sharpness : Normal
Subject Distance Range : Unknown
Serial Number : 2217163
Lens Info : 17-35mm f/2.8
Lens Model : 17.0-35.0 mm f/2.8
GPS Version ID : 2.2.0.0
GPS Altitude Ref : Above Sea Level
GPS Time Stamp : 06:31:10
GPS Satellites : 07
GPS Map Datum : WGS 84
GPS Date Stamp : 2011:02:12
By-line : Boqdan Zhuk
Copyright Notice : Boqdan Zhuk
Profile Description : sRGB IEC61966-2.1
Date/Time Digitized : 2011:02:12 08:31:09.67+01:00
Exif Image Width : 1417
Exif Image Height : 622
Creator Tool : Adobe Photoshop Lightroom
Lens : 17.0-35.0 mm f/2.8
Image Number : 24937
Approximate Focus Distance : 4294967295
Version : 6.2
Process Version : 5.7
Color Temperature : 4350
Tint : -5
Exposure : +0.20
Shadows : 5
Brightness : +50
Luminance Smoothing : 0
Color Noise Reduction : 25
Chromatic Aberration R : 0
Chromatic Aberration B : 0
Vignette Amount : 0
Shadow Tint : 0
Red Hue : 0
Red Saturation : 0
Green Hue : 0
Green Saturation : 0
Blue Hue : 0
Blue Saturation : 0
Fill Light : 26
Vibrance : 0
Highlight Recovery : 0
Clarity : 0
Defringe : 0
Hue Adjustment Red : 0
Hue Adjustment Orange : 0
Hue Adjustment Yellow : 0
Hue Adjustment Green : 0
Hue Adjustment Aqua : 0
Hue Adjustment Blue : 0
Hue Adjustment Purple : 0
Hue Adjustment Magenta : 0
Saturation Adjustment Red : 0
Saturation Adjustment Orange : 0
Saturation Adjustment Yellow : 0
Saturation Adjustment Green : 0
Saturation Adjustment Aqua : 0
Saturation Adjustment Blue : 0
Saturation Adjustment Purple : 0
Saturation Adjustment Magenta : 0
Luminance Adjustment Red : 0
Luminance Adjustment Orange : 0
Luminance Adjustment Yellow : 0
Luminance Adjustment Green : 0
Luminance Adjustment Aqua : 0
Luminance Adjustment Blue : 0
Luminance Adjustment Purple : 0
Luminance Adjustment Magenta : 0
Split Toning Shadow Hue : 0
Split Toning Shadow Saturation : 0
Split Toning Highlight Hue : 0
Split Toning Highlight Saturation : 0
Split Toning Balance : 0
Parametric Shadows : 0
Parametric Darks : 0
Parametric Lights : 0
Parametric Highlights : 0
Parametric Shadow Split : 25
Parametric Midtone Split : 50
Parametric Highlight Split : 75
Sharpen Radius : +1.0
Sharpen Detail : 25
Sharpen Edge Masking : 0
Post Crop Vignette Amount : 0
Grain Amount : 0
Color Noise Reduction Detail : 50
Lens Profile Enable : 0
Lens Manual Distortion Amount : 0
Perspective Vertical : 0
Perspective Horizontal : 0
Perspective Rotate : 0.0
Perspective Scale : 100
Convert To Grayscale : False
Tone Curve Name : Medium Contrast
Camera Profile : Adobe Standard
Lens Profile Setup : LensDefaults
Has Settings : True
Crop Top : 0
Crop Left : 0
Crop Bottom : 0.659514
Crop Right : 1
Crop Angle : 0
Crop Constrain To Warp : 0
Crop Width : 1417
Crop Height : 622
Crop Unit : pixels
Has Crop : True
Already Applied : True
Flash Fired : False
Flash Return : No return detection
Flash Mode : Unknown
Flash Function : False
Flash Red Eye Mode : False
Creator : Boqdan Zhuk
Rights : Boqdan Zhuk
Tone Curve : 0, 0, 32, 22, 64, 56, 128, 128, 192, 196, 255, 255
Paint Correction What : Correction
Paint Correction Amount : 1.000000
Paint Correction Active : true
Paint Correction Exposure : 0.000000
Paint Correction Saturation : 0.000000
Paint Correction Contrast : -0.023256
Paint Correction Clarity : 0.000000
Paint Correction Sharpness : 0.023256
Paint Correction Brightness : 0.186047
Paint Correction Toning Hue : 309.000000
Paint Correction Toning Saturation : 0.000000
Paint Correction Mask What : Mask/Paint
Paint Correction Mask Value : 1.000000
Paint Correction Mask Radius : 0.068069
Paint Correction Mask Flow : 1.000000
Paint Correction Mask Center Weight : 0.000000
Image Width : 400
Image Height : 176
Bits Per Sample : 8
Color Components : 3
Aperture : 6.7
Image Size : 400x176
Megapixels : 0.070
Scale Factor To 35 mm Equivalent : 1.0
Shutter Speed : 1/90
Create Date : 2011:02:12 08:31:09.67
Date/Time Original : 2011:02:12 08:31:09.67
GPS Altitude : 105 m Above Sea Level
GPS Date/Time : 2011:02:12 06:31:10Z
GPS Latitude : 52 deg 7' 0.97" N
GPS Longitude : 9 deg 33' 20.11" E
Flash : No Flash
GPS Latitude Ref : North
GPS Longitude Ref : East
Circle Of Confusion : 0.030 mm
Depth Of Field : inf (3.89 m - inf)
Field Of View : 65.5 deg
Focal Length : 28.0 mm (35 mm equivalent: 28.0 mm)
GPS Position : 52 deg 7' 0.97" N, 9 deg 33' 20.11" E
Hyperfocal Distance : 3.89 m
Light Value : 10.0
Lens ID : AF-S Nikkor 17-35mm f/2.8D IF-ED