Uber Exif Photo
Make : NIKON CORPORATION
Camera Model Name : NIKON Z 7_2
Software : Adobe Photoshop Lightroom Classic 12.4 (Windows)
Modify Date : 2023:07:25 23:07:26
Exposure Time : 1/320
F Number : 10.0
Exposure Program : Aperture-priority AE
ISO : 400
Sensitivity Type : Recommended Exposure Index
Recommended Exposure Index : 400
Date/Time Original : 2023:07:16 14:46:05
Create Date : 2023:07:16 14:46:05
Shutter Speed Value : 1/320
Aperture Value : 10.0
Exposure Compensation : 0
Metering Mode : Multi-segment
Light Source : Unknown
Flash : No Flash
Focal Length : 53.0 mm
Color Space : sRGB
Sensing Method : One-chip color area
Scene Type : Directly photographed
CFA Pattern : [Red,Green][Green,Blue]
Custom Rendered : Custom
Exposure Mode : Auto
White Balance : Auto
Focal Length In 35mm Format : 53 mm
Scene Capture Type : Standard
Gain Control : None
Contrast : Normal
Saturation : Normal
Sharpness : Normal
Subject Distance Range : Unknown
Serial Number : 5300207
Lens Info : 24-70mm f/4
Lens Make : NIKON
Lens Model : NIKKOR Z 24-70mm f/4 S
Lens Serial Number : 20050717
Profile Description : sRGB IEC61966-2.1
Creator Tool : Adobe Photoshop Lightroom Classic 12.4 (Windows)
Lens : NIKKOR Z 24-70mm f/4 S
Image Number : 6098
Distortion Correction Already Applied : True
Lateral Chromatic Aberration Correction Already Applied:
True
Vignette Correction Already Applied : True
Date Created : 2023:07:16 14:46:05.91+02:00
Preserved File Name : DSC_4856_14158.NEF
Format : image/jpeg
Raw File Name : DSC_4856_14158.NEF
Version : 15.4
Process Version : 15.4
Color Temperature : 7200
Tint : +8
Exposure 2012 : +0.26
Contrast 2012 : -9
Highlights 2012 : -25
Shadows 2012 : +58
Whites 2012 : +17
Blacks 2012 : +5
Texture : 0
Clarity 2012 : +13
Dehaze : +8
Vibrance : +25
Parametric Shadows : 0
Parametric Darks : 0
Parametric Lights : 0
Parametric Highlights : 0
Parametric Shadow Split : 25
Parametric Midtone Split : 50
Parametric Highlight Split : 75
Sharpen Radius : +1.0
Sharpen Detail : 25
Sharpen Edge Masking : 0
Luminance Smoothing : 0
Color Noise Reduction : 25
Color Noise Reduction Detail : 50
Color Noise Reduction Smoothness : 50
Hue Adjustment Red : 0
Hue Adjustment Orange : +3
Hue Adjustment Yellow : -8
Hue Adjustment Green : +15
Hue Adjustment Aqua : -39
Hue Adjustment Blue : +9
Hue Adjustment Purple : 0
Hue Adjustment Magenta : 0
Saturation Adjustment Red : 0
Saturation Adjustment Orange : -6
Saturation Adjustment Yellow : +11
Saturation Adjustment Green : +28
Saturation Adjustment Aqua : 0
Saturation Adjustment Blue : -23
Saturation Adjustment Purple : 0
Saturation Adjustment Magenta : 0
Luminance Adjustment Red : -9
Luminance Adjustment Orange : +3
Luminance Adjustment Yellow : +4
Luminance Adjustment Green : +13
Luminance Adjustment Aqua : 0
Luminance Adjustment Blue : 0
Luminance Adjustment Purple : 0
Luminance Adjustment Magenta : 0
Split Toning Shadow Hue : 158
Split Toning Shadow Saturation : 7
Split Toning Highlight Hue : 104
Split Toning Highlight Saturation : 7
Split Toning Balance : +73
Color Grade Midtone Hue : 0
Color Grade Midtone Sat : 0
Color Grade Shadow Lum : 0
Color Grade Midtone Lum : 0
Color Grade Highlight Lum : 0
Color Grade Blending : 100
Color Grade Global Hue : 0
Color Grade Global Sat : 0
Color Grade Global Lum : 0
Auto Lateral CA : 0
Lens Profile Enable : 1
Lens Manual Distortion Amount : 0
Vignette Amount : 0
Defringe Purple Amount : 0
Defringe Purple Hue Lo : 30
Defringe Purple Hue Hi : 70
Defringe Green Amount : 0
Defringe Green Hue Lo : 40
Defringe Green Hue Hi : 60
Perspective Upright : Auto
Perspective Vertical : 0
Perspective Horizontal : 0
Perspective Rotate : 0.0
Perspective Aspect : 0
Perspective Scale : 100
Perspective X : 0.00
Perspective Y : 0.00
Grain Amount : 0
Post Crop Vignette Amount : 0
Shadow Tint : +4
Red Hue : +17
Red Saturation : -15
Green Hue : +23
Green Saturation : +38
Blue Hue : -38
Blue Saturation : -3
Curve Refine Saturation : 100
Convert To Grayscale : False
Override Look Vignette : False
Tone Curve Name 2012 : Custom
Camera Profile : Camera Standard
Lens Profile Setup : Custom
Lens Profile Name : Adobe (SIGMA 35mm F1.4 DG HSM A012, NIKON CORPORATION)
Lens Profile Filename : NIKON CORPORATION (SIGMA 35mm F1.4 DG HSM A012) - RAW.lcp
Lens Profile Is Embedded : False
Lens Profile Distortion Scale : 200
Lens Profile Vignetting Scale : 33
Has Settings : True
Crop Top : 0
Crop Left : 0
Crop Bottom : 1
Crop Right : 1
Crop Angle : 0
Crop Constrain To Warp : 0
Has Crop : False
Already Applied : True
Tone Curve PV2012 : 0, 0, 58, 52, 129, 128, 190, 194, 255, 255
Tone Curve PV2012 Red : 0, 0, 255, 255
Tone Curve PV2012 Green : 0, 0, 255, 255
Tone Curve PV2012 Blue : 0, 0, 255, 255
Image Width : 267
Image Height : 400
Bits Per Sample : 8
Color Components : 3
Aperture : 10.0
Image Size : 267x400
Megapixels : 0.107
Scale Factor To 35 mm Equivalent : 1.0
Shutter Speed : 1/320
Create Date : 2023:07:16 14:46:05.91+02:00
Date/Time Original : 2023:07:16 14:46:05.91+02:00
Modify Date : 2023:07:25 23:07:26+03:00
Circle Of Confusion : 0.030 mm
Field Of View : 37.5 deg
Focal Length : 53.0 mm (35 mm equivalent: 53.0 mm)
Hyperfocal Distance : 9.35 m
Light Value : 13.0
Lens ID : NIKKOR Z 24-70mm f/4 S