Uber Exif Photo
Make : NIKON CORPORATION
Camera Model Name : NIKON Z 7_2
Software : Adobe Photoshop Lightroom Classic 11.5 (Windows)
Modify Date : 2023:07:25 21:09:34
Exposure Time : 1/250
F Number : 4.0
Exposure Program : Aperture-priority AE
ISO : 200
Sensitivity Type : Recommended Exposure Index
Recommended Exposure Index : 200
Date/Time Original : 2023:07:16 17:41:54
Create Date : 2023:07:16 17:41:54
Shutter Speed Value : 1/250
Aperture Value : 4.0
Exposure Compensation : 0
Metering Mode : Multi-segment
Light Source : Unknown
Flash : No Flash
Focal Length : 53.0 mm
Color Space : sRGB
Sensing Method : One-chip color area
Scene Type : Directly photographed
CFA Pattern : [Red,Green][Green,Blue]
Custom Rendered : Custom
Exposure Mode : Auto
White Balance : Auto
Focal Length In 35mm Format : 53 mm
Scene Capture Type : Landscape
Gain Control : None
Contrast : Normal
Saturation : High
Sharpness : Normal
Subject Distance Range : Unknown
Serial Number : 5300207
Lens Info : 24-70mm f/4
Lens Make : NIKON
Lens Model : NIKKOR Z 24-70mm f/4 S
Lens Serial Number : 20050717
Profile Description : sRGB IEC61966-2.1
Creator Tool : Adobe Photoshop Lightroom Classic 11.5 (Windows)
Lens : NIKKOR Z 24-70mm f/4 S
Image Number : 6145
Distortion Correction Already Applied : True
Lateral Chromatic Aberration Correction Already Applied:
True
Vignette Correction Already Applied : True
Date Created : 2023:07:16 17:41:54.30+02:00
Preserved File Name : DSC_4903_14185.NEF
Format : image/jpeg
Raw File Name : DSC_4903_14185.NEF
Version : 14.5
Process Version : 11.0
Color Temperature : 5300
Tint : -11
Exposure 2012 : +1.00
Contrast 2012 : 0
Highlights 2012 : -70
Shadows 2012 : +35
Whites 2012 : -95
Blacks 2012 : +95
Texture : 0
Clarity 2012 : 0
Dehaze : 0
Vibrance : 0
Parametric Shadows : +5
Parametric Darks : +30
Parametric Lights : 0
Parametric Highlights : 0
Parametric Shadow Split : 25
Parametric Midtone Split : 50
Parametric Highlight Split : 75
Sharpen Detail : 0
Luminance Smoothing : 0
Color Noise Reduction : 25
Color Noise Reduction Detail : 50
Color Noise Reduction Smoothness : 50
Hue Adjustment Red : 0
Hue Adjustment Orange : -5
Hue Adjustment Yellow : -5
Hue Adjustment Green : 0
Hue Adjustment Aqua : 0
Hue Adjustment Blue : 0
Hue Adjustment Purple : 0
Hue Adjustment Magenta : 0
Saturation Adjustment Red : -10
Saturation Adjustment Orange : -25
Saturation Adjustment Yellow : -40
Saturation Adjustment Green : -65
Saturation Adjustment Aqua : -80
Saturation Adjustment Blue : -75
Saturation Adjustment Purple : -60
Saturation Adjustment Magenta : -35
Luminance Adjustment Red : 0
Luminance Adjustment Orange : 0
Luminance Adjustment Yellow : 0
Luminance Adjustment Green : -10
Luminance Adjustment Aqua : -25
Luminance Adjustment Blue : -35
Luminance Adjustment Purple : -30
Luminance Adjustment Magenta : -10
Split Toning Shadow Hue : 0
Split Toning Shadow Saturation : 0
Split Toning Highlight Hue : 0
Split Toning Highlight Saturation : 0
Split Toning Balance : 0
Color Grade Midtone Hue : 0
Color Grade Midtone Sat : 0
Color Grade Shadow Lum : 0
Color Grade Midtone Lum : 0
Color Grade Highlight Lum : 0
Color Grade Blending : 50
Color Grade Global Hue : 0
Color Grade Global Sat : 0
Color Grade Global Lum : 0
Auto Lateral CA : 0
Lens Profile Enable : 0
Lens Manual Distortion Amount : 0
Vignette Amount : 0
Defringe Purple Amount : 0
Defringe Purple Hue Lo : 30
Defringe Purple Hue Hi : 70
Defringe Green Amount : 0
Defringe Green Hue Lo : 40
Defringe Green Hue Hi : 60
Perspective Upright : Off
Perspective Vertical : 0
Perspective Horizontal : 0
Perspective Rotate : 0.0
Perspective Aspect : 0
Perspective Scale : 100
Perspective X : 0.00
Perspective Y : 0.00
Grain Amount : 0
Post Crop Vignette Amount : 0
Shadow Tint : -30
Red Hue : +40
Red Saturation : 0
Green Hue : +95
Green Saturation : -15
Blue Hue : 0
Blue Saturation : -30
Convert To Grayscale : False
Override Look Vignette : False
Tone Curve Name 2012 : Custom
Camera Profile : Adobe Standard
Has Settings : True
Crop Top : 0.030158
Crop Left : 0.008377
Crop Bottom : 0.969842
Crop Right : 0.991623
Crop Angle : -1.1876
Crop Constrain To Warp : 0
Has Crop : True
Already Applied : True
Tone Curve PV2012 : 0, 0, 60, 10, 127, 64, 175, 149, 221, 240, 255, 255
Tone Curve PV2012 Red : 0, 0, 14, 8, 36, 31, 160, 164, 255, 255
Tone Curve PV2012 Green : 0, 0, 72, 72, 184, 186, 255, 255
Tone Curve PV2012 Blue : 0, 4, 110, 113, 255, 255
Image Width : 267
Image Height : 400
Bits Per Sample : 8
Color Components : 3
Aperture : 4.0
Image Size : 267x400
Megapixels : 0.107
Scale Factor To 35 mm Equivalent : 1.0
Shutter Speed : 1/250
Create Date : 2023:07:16 17:41:54.30+02:00
Date/Time Original : 2023:07:16 17:41:54.30+02:00
Modify Date : 2023:07:25 21:09:34+03:00
Circle Of Confusion : 0.030 mm
Field Of View : 37.5 deg
Focal Length : 53.0 mm (35 mm equivalent: 53.0 mm)
Hyperfocal Distance : 23.37 m
Light Value : 11.0
Lens ID : NIKKOR Z 24-70mm f/4 S