Uber Exif Photo
Make : NIKON CORPORATION
Camera Model Name : NIKON Z 7_2
Software : Adobe Photoshop Lightroom Classic 11.5 (Windows)
Modify Date : 2023:05:01 22:55:50
Exposure Time : 1/40
F Number : 4.0
Exposure Program : Manual
ISO : 500
Sensitivity Type : Recommended Exposure Index
Recommended Exposure Index : 500
Date/Time Original : 2023:04:30 15:30:28
Create Date : 2023:04:30 15:30:28
Shutter Speed Value : 1/40
Aperture Value : 4.0
Exposure Compensation : 0
Metering Mode : Multi-segment
Light Source : Unknown
Flash : No Flash
Focal Length : 37.0 mm
Color Space : sRGB
Sensing Method : One-chip color area
Scene Type : Directly photographed
CFA Pattern : [Red,Green][Green,Blue]
Custom Rendered : Custom
Exposure Mode : Manual
White Balance : Auto
Focal Length In 35mm Format : 37 mm
Scene Capture Type : Portrait
Gain Control : None
Contrast : Normal
Saturation : Normal
Sharpness : Normal
Subject Distance Range : Unknown
Serial Number : 5300207
Lens Info : 24-70mm f/4
Lens Make : NIKON
Lens Model : NIKKOR Z 24-70mm f/4 S
Lens Serial Number : 20050717
Profile Description : sRGB IEC61966-2.1
Creator Tool : Adobe Photoshop Lightroom Classic 11.5 (Windows)
Lens : NIKKOR Z 24-70mm f/4 S
Image Number : 2906
Distortion Correction Already Applied : True
Lateral Chromatic Aberration Correction Already Applied:
True
Vignette Correction Already Applied : True
Date Created : 2023:04:30 15:30:28.93+02:00
Preserved File Name : DSC_1565_11061.NEF
Format : image/jpeg
Raw File Name : DSC_1565_11061.NEF
Version : 14.5
Process Version : 11.0
Color Temperature : 5070
Tint : -3
Exposure 2012 : +2.98
Contrast 2012 : 0
Highlights 2012 : -23
Shadows 2012 : -18
Whites 2012 : -25
Blacks 2012 : +16
Texture : 0
Clarity 2012 : +10
Dehaze : 0
Vibrance : +9
Parametric Shadows : -9
Parametric Darks : -6
Parametric Lights : +8
Parametric Highlights : +23
Parametric Shadow Split : 25
Parametric Midtone Split : 50
Parametric Highlight Split : 75
Luminance Smoothing : 0
Color Noise Reduction : 25
Color Noise Reduction Detail : 50
Color Noise Reduction Smoothness : 50
Hue Adjustment Red : 0
Hue Adjustment Orange : +5
Hue Adjustment Yellow : +10
Hue Adjustment Green : +20
Hue Adjustment Aqua : +30
Hue Adjustment Blue : +10
Hue Adjustment Purple : -10
Hue Adjustment Magenta : +10
Saturation Adjustment Red : -5
Saturation Adjustment Orange : -15
Saturation Adjustment Yellow : -57
Saturation Adjustment Green : -55
Saturation Adjustment Aqua : -50
Saturation Adjustment Blue : -40
Saturation Adjustment Purple : -25
Saturation Adjustment Magenta : -10
Luminance Adjustment Red : +7
Luminance Adjustment Orange : +10
Luminance Adjustment Yellow : +7
Luminance Adjustment Green : -10
Luminance Adjustment Aqua : -35
Luminance Adjustment Blue : -55
Luminance Adjustment Purple : -30
Luminance Adjustment Magenta : +3
Split Toning Shadow Hue : 0
Split Toning Shadow Saturation : 0
Split Toning Highlight Hue : 0
Split Toning Highlight Saturation : 0
Split Toning Balance : 0
Color Grade Midtone Hue : 0
Color Grade Midtone Sat : 0
Color Grade Shadow Lum : 0
Color Grade Midtone Lum : 0
Color Grade Highlight Lum : 0
Color Grade Blending : 50
Color Grade Global Hue : 0
Color Grade Global Sat : 0
Color Grade Global Lum : 0
Auto Lateral CA : 0
Lens Profile Enable : 0
Lens Manual Distortion Amount : 0
Vignette Amount : 0
Defringe Purple Amount : 0
Defringe Purple Hue Lo : 30
Defringe Purple Hue Hi : 70
Defringe Green Amount : 0
Defringe Green Hue Lo : 40
Defringe Green Hue Hi : 60
Perspective Upright : Off
Perspective Vertical : 0
Perspective Horizontal : 0
Perspective Rotate : 0.0
Perspective Aspect : 0
Perspective Scale : 100
Perspective X : 0.00
Perspective Y : 0.00
Grain Amount : 0
Post Crop Vignette Amount : 0
Shadow Tint : +30
Red Hue : +40
Red Saturation : +5
Green Hue : +90
Green Saturation : -60
Blue Hue : 0
Blue Saturation : +10
Convert To Grayscale : False
Override Look Vignette : False
Tone Curve Name 2012 : Custom
Camera Profile : Adobe Standard
Has Settings : True
Crop Top : 0.05319
Crop Left : 0.004052
Crop Bottom : 0.941505
Crop Right : 0.879199
Crop Angle : 0.396074
Crop Constrain To Warp : 0
Has Crop : True
Already Applied : True
Tone Curve PV2012 : 0, 10, 157, 110, 218, 221, 237, 247, 255, 255
Tone Curve PV2012 Red : 0, 0, 255, 255
Tone Curve PV2012 Green : 0, 0, 24, 22, 231, 231, 255, 255
Tone Curve PV2012 Blue : 0, 0, 255, 255
Image Width : 400
Image Height : 267
Bits Per Sample : 8
Color Components : 3
Aperture : 4.0
Image Size : 400x267
Megapixels : 0.107
Scale Factor To 35 mm Equivalent : 1.0
Shutter Speed : 1/40
Create Date : 2023:04:30 15:30:28.93+02:00
Date/Time Original : 2023:04:30 15:30:28.93+02:00
Modify Date : 2023:05:01 22:55:50+03:00
Circle Of Confusion : 0.030 mm
Field Of View : 51.9 deg
Focal Length : 37.0 mm (35 mm equivalent: 37.0 mm)
Hyperfocal Distance : 11.39 m
Light Value : 7.0
Lens ID : NIKKOR Z 24-70mm f/4 S