Uber Exif Photo
Make : NIKON CORPORATION
Camera Model Name : NIKON D3400
Orientation : Horizontal (normal)
Software : Adobe Photoshop Lightroom Classic 8.2.1 (Windows)
Modify Date : 2023:04:18 22:33:42
CFA Pattern 2 :
Exposure Time : 1/1250
F Number : 9.0
Exposure Program : Manual
ISO : 800
Sensitivity Type : Recommended Exposure Index
Recommended Exposure Index : 800
Date/Time Original : 2023:04:16 15:14:01
Create Date : 2023:04:16 15:14:01
Shutter Speed Value : 1/1250
Aperture Value : 9.0
Exposure Compensation : 0
Max Aperture Value : 1.7
Metering Mode : Multi-segment
Light Source : Unknown
Flash : Off, Did not fire
Focal Length : 50.0 mm
Color Space : Uncalibrated
Exif Image Width : 2560
Exif Image Height : 1707
Sensing Method : One-chip color area
Scene Type : Directly photographed
CFA Pattern : [Red,Green][Green,Blue]
Custom Rendered : Custom
Exposure Mode : Manual
White Balance : Auto
Focal Length In 35mm Format : 75 mm
Scene Capture Type : Standard
Gain Control : Low gain up
Contrast : Normal
Saturation : Normal
Sharpness : Normal
Subject Distance Range : Unknown
Serial Number : 3288854
Lens Info : 50mm f/1.8
Lens Model : 50.0 mm f/1.8
Creator Tool : Adobe Photoshop Lightroom Classic 8.2.1 (Windows)
Lens : 50.0 mm f/1.8
Image Number : 31787
Approximate Focus Distance : 5.01
Format : image/jpeg
Raw File Name : _MVP5677.NEF
Version : 11.2.1
Process Version : 11.0
Color Temperature : 5400
Tint : +49
Luminance Smoothing : 0
Color Noise Reduction : 25
Vignette Amount : 0
Shadow Tint : 0
Red Hue : 0
Red Saturation : -100
Green Hue : 0
Green Saturation : -100
Blue Hue : 0
Blue Saturation : -100
Gray Mixer Red : 0
Gray Mixer Orange : 0
Gray Mixer Yellow : 0
Gray Mixer Green : 0
Gray Mixer Aqua : 0
Gray Mixer Blue : 0
Gray Mixer Purple : 0
Gray Mixer Magenta : 0
Split Toning Shadow Hue : 0
Split Toning Shadow Saturation : 0
Split Toning Highlight Hue : 0
Split Toning Highlight Saturation : 0
Split Toning Balance : 0
Parametric Shadows : 0
Parametric Darks : 0
Parametric Lights : 0
Parametric Highlights : 0
Parametric Shadow Split : 25
Parametric Midtone Split : 50
Parametric Highlight Split : 75
Sharpen Radius : +1.0
Sharpen Detail : 25
Sharpen Edge Masking : 0
Post Crop Vignette Amount : 0
Grain Amount : 0
Color Noise Reduction Detail : 50
Color Noise Reduction Smoothness : 50
Lens Profile Enable : 0
Lens Manual Distortion Amount : 0
Perspective Vertical : 0
Perspective Horizontal : 0
Perspective Rotate : 0.0
Perspective Scale : 100
Perspective Aspect : 0
Perspective Upright : Auto
Perspective X : 0.00
Perspective Y : 0.00
Auto Lateral CA : 0
Exposure 2012 : 0.00
Contrast 2012 : +10
Highlights 2012 : 0
Shadows 2012 : 0
Whites 2012 : +8
Blacks 2012 : 0
Clarity 2012 : +28
Dehaze : +10
Tone Map Strength : 0
Convert To Grayscale : True
Override Look Vignette : False
Tone Curve Name : Linear
Tone Curve Name 2012 : Linear
Camera Profile : Adobe Standard
Lens Profile Setup : LensDefaults
Has Settings : True
Crop Top : 0.019943
Crop Left : 0.019943
Crop Bottom : 1
Crop Right : 1
Crop Angle : 0
Crop Constrain To Warp : 0
Has Crop : True
Already Applied : True
Tone Curve : 0, 0, 255, 255
Tone Curve Red : 0, 0, 255, 255
Tone Curve Green : 0, 0, 255, 255
Tone Curve Blue : 0, 0, 255, 255
Tone Curve PV2012 : 0, 0, 255, 255
Tone Curve PV2012 Red : 0, 0, 255, 255
Tone Curve PV2012 Green : 0, 0, 255, 255
Tone Curve PV2012 Blue : 0, 0, 255, 255
Gradient Based Corr What : Correction
Gradient Based Corr Amount : 1.000000
Gradient Based Corr Active : true
Gradient Based Corr Saturation : 0.000000
Gradient Based Corr Sharpness : 0.000000
Gradient Based Corr Brightness : 0.000000
Gradient Based Corr Toning Hue : 240.000000
Gradient Based Corr Toning Saturation : 0.000000
Gradient Based Corr Exposure 2012 : 0.125000
Gradient Based Corr Contrast 2012 : 0.000000
Gradient Based Corr Highlights 2012 : 0.035710
Gradient Based Corr Shadows 2012 : -1.000000
Gradient Based Corr Whites 2012 : 0.312500
Gradient Based Corr Blacks 2012 : -1.000000
Gradient Based Corr Clarity 2012 : 0.000000
Gradient Based Corr Dehaze : 0.000000
Gradient Based Corr Luminance Noise : 0.000000
Gradient Based Corr Moire : 0.000000
Gradient Based Corr Defringe : 0.000000
Gradient Based Corr Temperature : 0.000000
Gradient Based Corr Tint : 0.000000
Gradient Based Corr Mask What : Mask/Gradient
Gradient Based Corr Mask Value : 1.000000
Gradient Based Corr Mask Zero X : 0.235124
Gradient Based Corr Mask Zero Y : 0.423468
Gradient Based Corr Mask Full X : 0.231159
Gradient Based Corr Mask Full Y : 0.156287
Gradient Based Corr Range Mask Version : +2
Gradient Based Corr Range Mask Type : 0
Gradient Based Corr Range Mask Color Amount : 0.500000
Gradient Based Corr Range Mask Lum Min : 0.000000
Gradient Based Corr Range Mask Lum Max : 1.000000
Gradient Based Corr Range Mask Lum Feather : 0.500000
Gradient Based Corr Range Mask Depth Min : 0.000000
Gradient Based Corr Range Mask Depth Max : 1.000000
Gradient Based Corr Range Mask Depth Feather : 0.500000
Look Name : Adobe Monochrome
Look Amount : 1.000000
Look Supports Amount : false
Look Supports Monochrome : false
Look Supports Output Referred : false
Look Group : Profiles
Look Parameters Version : 11.2.1
Look Parameters Process Version : 11.0
Look Parameters Clarity 2012 : +8
Look Parameters Convert To Grayscale : True
Look Parameters Camera Profile : Adobe Standard
Look Parameters Look Table : 73ED6C18DDE909DD7EA2D771F5AC282D
Look Parameters Tone Curve PV2012 : 0, 0, 64, 56, 128, 128, 192, 197, 255, 255
Look Parameters Tone Curve PV2012 Red : 0, 0, 255, 255
Look Parameters Tone Curve PV2012 Green : 0, 0, 255, 255
Look Parameters Tone Curve PV2012 Blue : 0, 0, 255, 255
Date Created : 2023:04:16
Profile Description : sRGB
Chromaticity Channels : 3
Chromaticity Colorant : Unknown
Chromaticity Channel 1 : 0.64 0.33
Chromaticity Channel 2 : 0.3 0.60001
Chromaticity Channel 3 : 0.14999 0.06
Image Width : 400
Image Height : 267
Bits Per Sample : 8
Color Components : 3
Aperture : 9.0
Image Size : 400x267
Megapixels : 0.107
Scale Factor To 35 mm Equivalent : 1.5
Shutter Speed : 1/1250
Create Date : 2023:04:16 15:14:01.77
Date/Time Original : 2023:04:16 15:14:01.77
Circle Of Confusion : 0.020 mm
Depth Of Field : 4.11 m (3.69 - 7.80 m)
Field Of View : 27.0 deg
Focal Length : 50.0 mm (35 mm equivalent: 75.0 mm)
Hyperfocal Distance : 13.87 m
Light Value : 13.6
Lens ID : AF-S Nikkor 50mm f/1.8G