Uber Exif Photo
Make : NIKON CORPORATION
Camera Model Name : NIKON D3400
Orientation : Horizontal (normal)
Software : Adobe Photoshop Lightroom Classic 8.2.1 (Windows)
Modify Date : 2023:07:20 11:56:28
CFA Pattern 2 :
Exposure Time : 1/2000
F Number : 10.0
Exposure Program : Manual
ISO : 800
Sensitivity Type : Recommended Exposure Index
Recommended Exposure Index : 800
Date/Time Original : 2023:05:05 17:04:34
Create Date : 2023:05:05 17:04:34
Shutter Speed Value : 1/2000
Aperture Value : 10.0
Exposure Compensation : 0
Max Aperture Value : 1.7
Metering Mode : Multi-segment
Light Source : Unknown
Flash : Off, Did not fire
Focal Length : 35.0 mm
Color Space : Uncalibrated
Exif Image Width : 2560
Exif Image Height : 1969
Sensing Method : One-chip color area
Scene Type : Directly photographed
CFA Pattern : [Red,Green][Green,Blue]
Custom Rendered : Custom
Exposure Mode : Manual
White Balance : Auto
Focal Length In 35mm Format : 52 mm
Scene Capture Type : Standard
Gain Control : Low gain up
Contrast : Normal
Saturation : Normal
Sharpness : Normal
Subject Distance Range : Unknown
Serial Number : 3288854
Lens Info : 35mm f/1.8
Lens Model : 35.0 mm f/1.8
Creator Tool : Adobe Photoshop Lightroom Classic 8.2.1 (Windows)
Lens : 35.0 mm f/1.8
Image Number : 35101
Approximate Focus Distance : 4294967295
Lateral Chromatic Aberration Correction Already Applied:
True
Format : image/jpeg
Raw File Name : _MVP8898.NEF
Version : 11.2.1
Process Version : 11.0
Color Temperature : 5000
Tint : +47
Luminance Smoothing : 0
Color Noise Reduction : 25
Vignette Amount : 0
Shadow Tint : 0
Red Hue : 0
Red Saturation : 0
Green Hue : 0
Green Saturation : 0
Blue Hue : 0
Blue Saturation : 0
Vibrance : 0
Hue Adjustment Red : 0
Hue Adjustment Orange : +22
Hue Adjustment Yellow : +50
Hue Adjustment Green : +34
Hue Adjustment Aqua : 0
Hue Adjustment Blue : +43
Hue Adjustment Purple : -16
Hue Adjustment Magenta : 0
Saturation Adjustment Red : 0
Saturation Adjustment Orange : +8
Saturation Adjustment Yellow : -13
Saturation Adjustment Green : -14
Saturation Adjustment Aqua : 0
Saturation Adjustment Blue : 0
Saturation Adjustment Purple : 0
Saturation Adjustment Magenta : 0
Luminance Adjustment Red : 0
Luminance Adjustment Orange : -27
Luminance Adjustment Yellow : +26
Luminance Adjustment Green : +100
Luminance Adjustment Aqua : 0
Luminance Adjustment Blue : -9
Luminance Adjustment Purple : -6
Luminance Adjustment Magenta : 0
Split Toning Shadow Hue : 0
Split Toning Shadow Saturation : 39
Split Toning Highlight Hue : 189
Split Toning Highlight Saturation : 18
Split Toning Balance : +68
Parametric Shadows : +17
Parametric Darks : +10
Parametric Lights : -20
Parametric Highlights : +9
Parametric Shadow Split : 25
Parametric Midtone Split : 50
Parametric Highlight Split : 65
Sharpen Radius : +1.0
Sharpen Detail : 25
Sharpen Edge Masking : 82
Post Crop Vignette Amount : 0
Grain Amount : 24
Grain Size : 56
Grain Frequency : 56
Color Noise Reduction Detail : 50
Color Noise Reduction Smoothness : 50
Lens Profile Enable : 0
Lens Manual Distortion Amount : 0
Perspective Vertical : 0
Perspective Horizontal : 0
Perspective Rotate : 0.0
Perspective Scale : 100
Perspective Aspect : 0
Perspective Upright : Auto
Perspective X : 0.00
Perspective Y : 0.00
Auto Lateral CA : 1
Exposure 2012 : +0.57
Contrast 2012 : +10
Highlights 2012 : +21
Shadows 2012 : 0
Whites 2012 : +35
Blacks 2012 : +38
Clarity 2012 : +24
Defringe Purple Amount : 0
Defringe Purple Hue Lo : 30
Defringe Purple Hue Hi : 70
Defringe Green Amount : 0
Defringe Green Hue Lo : 40
Defringe Green Hue Hi : 60
Dehaze : +13
Tone Map Strength : 0
Convert To Grayscale : False
Override Look Vignette : False
Tone Curve Name : Linear
Tone Curve Name 2012 : Custom
Camera Profile : Adobe Standard
Lens Profile Setup : LensDefaults
Has Settings : True
Crop Top : 0.109221
Crop Left : 0.141775
Crop Bottom : 0.955137
Crop Right : 0.87516
Crop Angle : 0
Crop Constrain To Warp : 0
Has Crop : True
Already Applied : True
Tone Curve : 0, 0, 255, 255
Tone Curve Red : 0, 0, 255, 255
Tone Curve Green : 0, 0, 255, 255
Tone Curve Blue : 0, 0, 255, 255
Tone Curve PV2012 : 4, 30, 37, 42, 67, 59, 101, 74, 132, 101, 188, 193, 251, 232
Tone Curve PV2012 Red : 0, 0, 255, 255
Tone Curve PV2012 Green : 0, 0, 255, 255
Tone Curve PV2012 Blue : 0, 0, 255, 255
Look Name : Adobe Color
Look Amount : 1.000000
Look Supports Amount : false
Look Supports Monochrome : false
Look Supports Output Referred : false
Look Group : Profiles
Look Parameters Version : 11.2.1
Look Parameters Process Version : 11.0
Look Parameters Convert To Grayscale : False
Look Parameters Camera Profile : Adobe Standard
Look Parameters Look Table : E1095149FDB39D7A057BAB208837E2E1
Look Parameters Tone Curve PV2012 : 0, 0, 22, 16, 40, 35, 127, 127, 224, 230, 240, 246, 255, 255
Look Parameters Tone Curve PV2012 Red : 0, 0, 255, 255
Look Parameters Tone Curve PV2012 Green : 0, 0, 255, 255
Look Parameters Tone Curve PV2012 Blue : 0, 0, 255, 255
Date Created : 2023:05:05
Profile Description : sRGB
Chromaticity Channels : 3
Chromaticity Colorant : Unknown
Chromaticity Channel 1 : 0.64 0.33
Chromaticity Channel 2 : 0.3 0.60001
Chromaticity Channel 3 : 0.14999 0.06
Image Width : 400
Image Height : 308
Bits Per Sample : 8
Color Components : 3
Aperture : 10.0
Image Size : 400x308
Megapixels : 0.123
Scale Factor To 35 mm Equivalent : 1.5
Shutter Speed : 1/2000
Create Date : 2023:05:05 17:04:34.27
Date/Time Original : 2023:05:05 17:04:34.27
Circle Of Confusion : 0.020 mm
Depth Of Field : inf (6.06 m - inf)
Field Of View : 38.2 deg
Focal Length : 35.0 mm (35 mm equivalent: 52.0 mm)
Hyperfocal Distance : 6.06 m
Light Value : 14.6
Lens ID : AF-S DX Nikkor 35mm f/1.8G