Uber Exif Photo
Make : NIKON CORPORATION
Camera Model Name : NIKON D5500
Orientation : Horizontal (normal)
Software : Adobe Photoshop Lightroom Classic 8.2.1 (Windows)
Modify Date : 2023:12:29 22:10:01
Artist : Tom_Fournier_Park
CFA Pattern 2 :
Exposure Time : 1/250
F Number : 2.8
Exposure Program : Manual
ISO : 2500
Sensitivity Type : Recommended Exposure Index
Date/Time Original : 2023:12:28 08:12:16
Create Date : 2023:12:28 08:12:16
Shutter Speed Value : 1/250
Aperture Value : 2.8
Exposure Compensation : -1/3
Max Aperture Value : 2.8
Metering Mode : Spot
Light Source : Unknown
Flash : Off, Did not fire
Focal Length : 24.0 mm
Color Space : sRGB
Exif Image Width : 2560
Exif Image Height : 1707
Sensing Method : One-chip color area
Scene Type : Directly photographed
CFA Pattern : [Red,Green][Green,Blue]
Custom Rendered : Custom
Exposure Mode : Manual
White Balance : Auto
Digital Zoom Ratio : 1
Focal Length In 35mm Format : 36 mm
Scene Capture Type : Standard
Gain Control : High gain up
Contrast : Normal
Saturation : Normal
Sharpness : Normal
Subject Distance Range : Unknown
Serial Number : 7507016
Lens Info : 24mm f/2.8
Lens Model : 24.0 mm f/2.8
Creator Tool : Adobe Photoshop Lightroom Classic 8.2.1 (Windows)
Format : image/jpeg
Lens : 24.0 mm f/2.8
Image Number : 31323
Approximate Focus Distance : 0.01
Raw File Name : _DSC0027.NEF
Version : 11.2.1
Process Version : 11.0
Color Temperature : 3650
Tint : +19
Luminance Smoothing : 28
Color Noise Reduction : 25
Vignette Amount : 0
Shadow Tint : 0
Red Hue : 0
Red Saturation : 0
Green Hue : 0
Green Saturation : 0
Blue Hue : 0
Blue Saturation : 0
Gray Mixer Red : +1
Gray Mixer Orange : -6
Gray Mixer Yellow : -25
Gray Mixer Green : 0
Gray Mixer Aqua : 0
Gray Mixer Blue : -21
Gray Mixer Purple : 0
Gray Mixer Magenta : 0
Split Toning Shadow Hue : 0
Split Toning Shadow Saturation : 0
Split Toning Highlight Hue : 0
Split Toning Highlight Saturation : 0
Split Toning Balance : 0
Parametric Shadows : 0
Parametric Darks : 0
Parametric Lights : 0
Parametric Highlights : 0
Parametric Shadow Split : 25
Parametric Midtone Split : 50
Parametric Highlight Split : 75
Sharpen Radius : +3.0
Sharpen Detail : 25
Sharpen Edge Masking : 90
Post Crop Vignette Amount : 0
Grain Amount : 0
Luminance Noise Reduction Detail : 100
Color Noise Reduction Detail : 50
Luminance Noise Reduction Contrast : 100
Color Noise Reduction Smoothness : 50
Lens Profile Enable : 0
Lens Manual Distortion Amount : 0
Perspective Vertical : 0
Perspective Horizontal : 0
Perspective Rotate : +0.4
Perspective Scale : 100
Perspective Aspect : 0
Perspective Upright : Level
Perspective X : 0.00
Perspective Y : 0.00
Auto Lateral CA : 0
Exposure 2012 : 0.00
Contrast 2012 : 0
Highlights 2012 : -32
Shadows 2012 : -35
Whites 2012 : +7
Blacks 2012 : -5
Clarity 2012 : +9
Dehaze : +9
Tone Map Strength : 0
Convert To Grayscale : True
Override Look Vignette : False
Tone Curve Name : Linear
Tone Curve Name 2012 : Custom
Camera Profile : Adobe Standard
Lens Profile Setup : LensDefaults
Has Settings : True
Has Crop : False
Already Applied : True
Creator : Tom_Fournier_Park
Tone Curve : 0, 0, 255, 255
Tone Curve Red : 0, 0, 255, 255
Tone Curve Green : 0, 0, 255, 255
Tone Curve Blue : 0, 0, 255, 255
Tone Curve PV2012 : 0, 0, 28, 25, 96, 80, 163, 162, 255, 255
Tone Curve PV2012 Red : 0, 0, 255, 255
Tone Curve PV2012 Green : 0, 0, 255, 255
Tone Curve PV2012 Blue : 0, 0, 255, 255
Paint Correction Range Mask Version : +2, +2
Paint Correction Range Mask Type : 0, 0
Paint Correction Range Mask Color Amount : 0.500000, 0.500000
Paint Correction Range Mask Lum Min : 0.000000, 0.000000
Paint Correction Range Mask Lum Max : 1.000000, 1.000000
Paint Correction Range Mask Lum Feather : 0.500000, 0.500000
Paint Correction Range Mask Depth Min : 0.000000, 0.000000
Paint Correction Range Mask Depth Max : 1.000000, 1.000000
Paint Correction Range Mask Depth Feather : 0.500000, 0.500000
Paint Correction What : Correction
Paint Correction Amount : 1.000000
Paint Correction Active : true
Paint Correction Saturation : 0.000000
Paint Correction Sharpness : 0.000000
Paint Correction Brightness : 0.000000
Paint Correction Toning Hue : 240.000000
Paint Correction Toning Saturation : 0.000000
Paint Correction Exposure 2012 : -0.071500
Paint Correction Contrast 2012 : 0.098210
Paint Correction Highlights 2012 : 0.000000
Paint Correction Shadows 2012 : 0.000000
Paint Correction Whites 2012 : 0.000000
Paint Correction Blacks 2012 : 0.000000
Paint Correction Clarity 2012 : 0.330360
Paint Correction Dehaze : 0.000000
Paint Correction Luminance Noise : 0.000000
Paint Correction Moire : 0.000000
Paint Correction Defringe : 0.000000
Paint Correction Temperature : 0.000000
Paint Correction Tint : 0.000000
Paint Correction Mask What : Mask/Paint
Paint Correction Mask Value : 1.000000
Paint Correction Mask Radius : 0.004912
Paint Correction Mask Flow : 1.000000
Paint Correction Mask Center Weight : 0.183783
Circ Grad Based Corr What : Correction
Circ Grad Based Corr Amount : 1.000000
Circ Grad Based Corr Active : true
Circ Grad Based Corr Saturation : 0.000000
Circ Grad Based Corr Sharpness : 0.000000
Circ Grad Based Corr Brightness : 0.000000
Circ Grad Based Corr Toning Hue : 240.000000
Circ Grad Based Corr Toning Saturation : 0.000000
Circ Grad Based Corr Exposure 2012 : 0.000000
Circ Grad Based Corr Contrast 2012 : 0.000000
Circ Grad Based Corr Highlights 2012 : 0.000000
Circ Grad Based Corr Shadows 2012 : 0.000000
Circ Grad Based Corr Whites 2012 : 0.000000
Circ Grad Based Corr Blacks 2012 : 0.000000
Circ Grad Based Corr Clarity 2012 : 0.000000
Circ Grad Based Corr Dehaze : -0.464290
Circ Grad Based Corr Luminance Noise : 0.000000
Circ Grad Based Corr Moire : 0.000000
Circ Grad Based Corr Defringe : 0.000000
Circ Grad Based Corr Temperature : 0.000000
Circ Grad Based Corr Tint : 0.000000
Circ Grad Based Corr Mask What : Mask/CircularGradient
Circ Grad Based Corr Mask Value : 1.000000
Circ Grad Based Corr Mask Top : 0.151634
Circ Grad Based Corr Mask Left : 0.193001
Circ Grad Based Corr Mask Bottom : 0.902651
Circ Grad Based Corr Mask Right : 0.418944
Circ Grad Based Corr Mask Angle : 0.000000
Circ Grad Based Corr Mask Midpoint : +50
Circ Grad Based Corr Mask Roundness : 0
Circ Grad Based Corr Mask Feather : +56
Circ Grad Based Corr Mask Flipped : true
Circ Grad Based Corr Mask Version : +2
Circ Grad Based Corr Range Mask Version : +2
Circ Grad Based Corr Range Mask Type : 0
Circ Grad Based Corr Range Mask Color Amount : 0.500000
Circ Grad Based Corr Range Mask Lum Min : 0.000000
Circ Grad Based Corr Range Mask Lum Max : 1.000000
Circ Grad Based Corr Range Mask Lum Feather : 0.500000
Circ Grad Based Corr Range Mask Depth Min : 0.000000
Circ Grad Based Corr Range Mask Depth Max : 1.000000
Circ Grad Based Corr Range Mask Depth Feather : 0.500000
Look Name : Adobe Monochrome
Look Amount : 1.000000
Look Supports Amount : false
Look Supports Monochrome : false
Look Supports Output Referred : false
Look Group : Profiles
Look Parameters Version : 11.2.1
Look Parameters Process Version : 11.0
Look Parameters Clarity 2012 : +8
Look Parameters Convert To Grayscale : True
Look Parameters Camera Profile : Adobe Standard
Look Parameters Look Table : 73ED6C18DDE909DD7EA2D771F5AC282D
Look Parameters Tone Curve PV2012 : 0, 0, 64, 56, 128, 128, 192, 197, 255, 255
Look Parameters Tone Curve PV2012 Red : 0, 0, 255, 255
Look Parameters Tone Curve PV2012 Green : 0, 0, 255, 255
Look Parameters Tone Curve PV2012 Blue : 0, 0, 255, 255
Date Created : 2023:12:28
By-line : Tom_Fournier_Park
Profile Description : sRGB
Chromaticity Channels : 3
Chromaticity Colorant : Unknown
Chromaticity Channel 1 : 0.64 0.33
Chromaticity Channel 2 : 0.3 0.60001
Chromaticity Channel 3 : 0.14999 0.06
Image Width : 400
Image Height : 267
Bits Per Sample : 8
Color Components : 3
Aperture : 2.8
Image Size : 400x267
Megapixels : 0.107
Scale Factor To 35 mm Equivalent : 1.5
Shutter Speed : 1/250
Create Date : 2023:12:28 08:12:16.34
Date/Time Original : 2023:12:28 08:12:16.34
Circle Of Confusion : 0.020 mm
Depth Of Field : -0.00 m (0.01 - 0.01 m)
Field Of View : 53.1 deg
Focal Length : 24.0 mm (35 mm equivalent: 36.0 mm)
Hyperfocal Distance : 10.27 m
Light Value : 6.3
Lens ID : Sigma 24mm F2.8 Super Wide II Macro