Uber Exif Photo
Make : NIKON CORPORATION
Camera Model Name : NIKON D6
Software : Adobe Photoshop Lightroom Classic 13.4 (Macintosh)
Modify Date : 2024:07:24 10:18:43
Copyright : AJRIMAGES
Exposure Time : 1/8000
F Number : 7.1
Exposure Program : Aperture-priority AE
ISO : 800
Sensitivity Type : Recommended Exposure Index
Recommended Exposure Index : 800
Date/Time Original : 2021:09:25 10:35:11
Create Date : 2021:09:25 10:35:11
Shutter Speed Value : 1/8000
Aperture Value : 7.1
Exposure Compensation : 0
Metering Mode : Multi-segment
Light Source : Unknown
Flash : No Flash
Focal Length : 500.0 mm
Color Space : sRGB
Sensing Method : One-chip color area
Scene Type : Directly photographed
CFA Pattern : [Red,Green][Green,Blue]
Custom Rendered : Custom
Exposure Mode : Auto
White Balance : Auto
Focal Length In 35mm Format : 500 mm
Scene Capture Type : Standard
Gain Control : Low gain up
Contrast : Normal
Saturation : Normal
Sharpness : Normal
Subject Distance Range : Unknown
Serial Number : 3000719
Lens Info : 500mm f/5.6
Lens Make : NIKON
Lens Model : AF-S NIKKOR 500mm f/5.6E PF ED VR
Lens Serial Number : 216817
Keywords : Best, D & B, Dog Surfing HB 2021
Copyright Notice : AJRIMAGES
Profile Description : sRGB IEC61966-2.1
Creator Tool : Adobe Photoshop Lightroom Classic 13.4 (Macintosh)
Format : image/jpeg
Lens : AF-S NIKKOR 500mm f/5.6E PF ED VR
Image Number : 6630
Approximate Focus Distance : 23.7
Distortion Correction Already Applied : True
Vignette Correction Already Applied : True
Date Created : 2021:09:25 10:35:11.40-07:00
Preserved File Name : _AJR6630.NEF
Pick : 0
Raw File Name : _AJR6630.NEF
Version : 16.4
Process Version : 11.0
Color Temperature : 5400
Tint : +22
Exposure 2012 : -0.10
Contrast 2012 : 0
Highlights 2012 : 0
Shadows 2012 : +43
Whites 2012 : 0
Blacks 2012 : -30
Texture : 0
Clarity 2012 : +20
Dehaze : 0
Vibrance : 0
Parametric Shadows : 0
Parametric Darks : 0
Parametric Lights : 0
Parametric Highlights : 0
Parametric Shadow Split : 25
Parametric Midtone Split : 50
Parametric Highlight Split : 75
Sharpen Radius : +1.0
Sharpen Detail : 25
Sharpen Edge Masking : 0
Luminance Smoothing : 0
Color Noise Reduction : 25
Color Noise Reduction Detail : 50
Color Noise Reduction Smoothness : 50
Hue Adjustment Red : 0
Hue Adjustment Orange : 0
Hue Adjustment Yellow : 0
Hue Adjustment Green : 0
Hue Adjustment Aqua : 0
Hue Adjustment Blue : 0
Hue Adjustment Purple : 0
Hue Adjustment Magenta : 0
Saturation Adjustment Red : 0
Saturation Adjustment Orange : 0
Saturation Adjustment Yellow : 0
Saturation Adjustment Green : 0
Saturation Adjustment Aqua : 0
Saturation Adjustment Blue : 0
Saturation Adjustment Purple : 0
Saturation Adjustment Magenta : 0
Luminance Adjustment Red : 0
Luminance Adjustment Orange : 0
Luminance Adjustment Yellow : 0
Luminance Adjustment Green : 0
Luminance Adjustment Aqua : 0
Luminance Adjustment Blue : 0
Luminance Adjustment Purple : 0
Luminance Adjustment Magenta : 0
Split Toning Shadow Hue : 0
Split Toning Shadow Saturation : 0
Split Toning Highlight Hue : 0
Split Toning Highlight Saturation : 0
Split Toning Balance : 0
Color Grade Midtone Hue : 0
Color Grade Midtone Sat : 0
Color Grade Shadow Lum : 0
Color Grade Midtone Lum : 0
Color Grade Highlight Lum : 0
Color Grade Blending : 50
Color Grade Global Hue : 0
Color Grade Global Sat : 0
Color Grade Global Lum : 0
Auto Lateral CA : 0
Lens Profile Enable : 1
Lens Manual Distortion Amount : 0
Vignette Amount : 0
Defringe Purple Amount : 0
Defringe Purple Hue Lo : 30
Defringe Purple Hue Hi : 70
Defringe Green Amount : 0
Defringe Green Hue Lo : 40
Defringe Green Hue Hi : 60
Perspective Upright : Off
Perspective Vertical : 0
Perspective Horizontal : 0
Perspective Rotate : 0.0
Perspective Aspect : 0
Perspective Scale : 100
Perspective X : 0.00
Perspective Y : 0.00
Grain Amount : 0
Post Crop Vignette Amount : 0
Shadow Tint : 0
Red Hue : 0
Red Saturation : 0
Green Hue : 0
Green Saturation : 0
Blue Hue : 0
Blue Saturation : 0
HDR Edit Mode : 0
Override Look Vignette : False
Tone Curve Name 2012 : Linear
Camera Profile : Adobe Standard
Lens Profile Setup : LensDefaults
Lens Profile Name : Adobe (Nikon AF-S NIKKOR 500mm f/5.6E PF ED VR)
Lens Profile Filename : NIKON CORPORATION (Nikon AF-S NIKKOR 500mm f5.6 PF ED VR) - RAW.lcp
Lens Profile Is Embedded : False
Lens Profile Distortion Scale : 100
Lens Profile Vignetting Scale : 100
Has Settings : True
Crop Top : 0.057077
Crop Left : 0.13976
Crop Bottom : 0.944769
Crop Right : 0.888249
Crop Angle : 0
Crop Constrain To Warp : 0
Has Crop : True
Already Applied : True
Rights : AJRIMAGES
Subject : Best, D & B, Dog Surfing HB 2021
Weighted Flat Subject : Dog Surfing HB 2021, Best, D & B
Tone Curve PV2012 : 0, 0, 255, 255
Tone Curve PV2012 Red : 0, 0, 255, 255
Tone Curve PV2012 Green : 0, 0, 255, 255
Tone Curve PV2012 Blue : 0, 0, 255, 255
Point Colors : -1.000000, -1.000000, -1.000000, -1.000000, -1.000000, -1.000000, -1.000000, -1.000000, -1.000000, -1.000000, -1.000000, -1.000000, -1.000000, -1.000000, -1.000000, -1.000000, -1.000000, -1.000000, -1.000000
Look Name : Adobe Color
Look Amount : 1
Look Supports Amount : false
Look Supports Monochrome : false
Look Supports Output Referred : false
Look Group : Profiles
Look Parameters Version : 16.4
Look Parameters Process Version : 15.4
Look Parameters Convert To Grayscale : False
Look Parameters Camera Profile : Adobe Standard
Look Parameters Look Table : E1095149FDB39D7A057BAB208837E2E1
Look Parameters Tone Curve PV2012 : 0, 0, 22, 16, 40, 35, 127, 127, 224, 230, 240, 246, 255, 255
Look Parameters Tone Curve PV2012 Red : 0, 0, 255, 255
Look Parameters Tone Curve PV2012 Green : 0, 0, 255, 255
Look Parameters Tone Curve PV2012 Blue : 0, 0, 255, 255
Image Width : 400
Image Height : 316
Bits Per Sample : 8
Color Components : 3
Aperture : 7.1
Image Size : 400x316
Megapixels : 0.126
Scale Factor To 35 mm Equivalent : 1.0
Shutter Speed : 1/8000
Create Date : 2021:09:25 10:35:11.40-07:00
Date/Time Original : 2021:09:25 10:35:11.40-07:00
Modify Date : 2024:07:24 10:18:43-07:00
Circle Of Confusion : 0.030 mm
Depth Of Field : 0.94 m (23.24 - 24.18 m)
Field Of View : 4.1 deg
Focal Length : 500.0 mm (35 mm equivalent: 500.0 mm)
Hyperfocal Distance : 1171.90 m
Light Value : 15.6
Lens ID : AF-S Nikkor 500mm f/5.6E PF ED VR