Uber Exif Photo
Make : NIKON CORPORATION
Camera Model Name : NIKON D5
Software : Adobe Photoshop Lightroom Classic 13.4 (Macintosh)
Modify Date : 2024:07:24 10:31:29
Copyright : AJR IMAGES
Exposure Time : 1/1600
F Number : 8.0
Exposure Program : Aperture-priority AE
ISO : 400
Sensitivity Type : Recommended Exposure Index
Recommended Exposure Index : 400
Date/Time Original : 2018:03:24 14:48:05
Create Date : 2018:03:24 14:48:05
Shutter Speed Value : 1/1600
Aperture Value : 8.0
Exposure Compensation : 0
Max Aperture Value : 4.0
Metering Mode : Multi-segment
Light Source : Unknown
Flash : No Flash
Focal Length : 420.0 mm
Color Space : sRGB
Sensing Method : One-chip color area
Scene Type : Directly photographed
CFA Pattern : [Red,Green][Green,Blue]
Custom Rendered : Normal
Exposure Mode : Auto
White Balance : Auto
Focal Length In 35mm Format : 420 mm
Scene Capture Type : Standard
Gain Control : None
Contrast : Normal
Saturation : Normal
Sharpness : Normal
Subject Distance Range : Unknown
Serial Number : 3005729
Lens Info : 300mm f/2.8
Lens Model : 300.0 mm f/2.8
Keywords : LA County Air Show
Copyright Notice : AJR IMAGES
Profile Description : sRGB IEC61966-2.1
Creator Tool : Adobe Photoshop Lightroom Classic 13.4 (Macintosh)
Format : image/jpeg
Lens : 300.0 mm f/2.8
Image Number : 13771
Approximate Focus Distance : 4294967295
Date Created : 2018:03:24 14:48:05.27
Pick : 0
Raw File Name : ND5_3770.NEF
Version : 16.4
Process Version : 11.0
Color Temperature : 5350
Tint : +9
Exposure 2012 : 0.00
Contrast 2012 : +19
Highlights 2012 : -45
Shadows 2012 : +92
Whites 2012 : -21
Blacks 2012 : +67
Texture : 0
Clarity 2012 : +16
Dehaze : +46
Vibrance : 0
Parametric Shadows : 0
Parametric Darks : 0
Parametric Lights : 0
Parametric Highlights : 0
Parametric Shadow Split : 25
Parametric Midtone Split : 50
Parametric Highlight Split : 75
Sharpen Radius : +1.0
Sharpen Detail : 25
Sharpen Edge Masking : 0
Luminance Smoothing : 81
Luminance Noise Reduction Detail : 50
Luminance Noise Reduction Contrast : 0
Color Noise Reduction : 25
Color Noise Reduction Detail : 50
Color Noise Reduction Smoothness : 50
Gray Mixer Red : -10
Gray Mixer Orange : -19
Gray Mixer Yellow : -23
Gray Mixer Green : -27
Gray Mixer Aqua : -18
Gray Mixer Blue : +11
Gray Mixer Purple : +16
Gray Mixer Magenta : +4
Hue Adjustment Red : 0
Hue Adjustment Orange : 0
Hue Adjustment Yellow : 0
Hue Adjustment Green : 0
Hue Adjustment Aqua : 0
Hue Adjustment Blue : 0
Hue Adjustment Purple : 0
Hue Adjustment Magenta : 0
Saturation Adjustment Red : 0
Saturation Adjustment Orange : 0
Saturation Adjustment Yellow : 0
Saturation Adjustment Green : 0
Saturation Adjustment Aqua : 0
Saturation Adjustment Blue : 0
Saturation Adjustment Purple : 0
Saturation Adjustment Magenta : 0
Luminance Adjustment Red : 0
Luminance Adjustment Orange : 0
Luminance Adjustment Yellow : 0
Luminance Adjustment Green : 0
Luminance Adjustment Aqua : 0
Luminance Adjustment Blue : 0
Luminance Adjustment Purple : 0
Luminance Adjustment Magenta : 0
Split Toning Shadow Hue : 0
Split Toning Shadow Saturation : 0
Split Toning Highlight Hue : 0
Split Toning Highlight Saturation : 0
Split Toning Balance : 0
Color Grade Midtone Hue : 0
Color Grade Midtone Sat : 0
Color Grade Shadow Lum : 0
Color Grade Midtone Lum : 0
Color Grade Highlight Lum : 0
Color Grade Blending : 50
Color Grade Global Hue : 0
Color Grade Global Sat : 0
Color Grade Global Lum : 0
Auto Lateral CA : 0
Lens Profile Enable : 0
Lens Manual Distortion Amount : 0
Vignette Amount : 0
Defringe Purple Amount : 0
Defringe Purple Hue Lo : 30
Defringe Purple Hue Hi : 70
Defringe Green Amount : 0
Defringe Green Hue Lo : 40
Defringe Green Hue Hi : 60
Perspective Upright : Off
Perspective Vertical : 0
Perspective Horizontal : 0
Perspective Rotate : 0.0
Perspective Aspect : 0
Perspective Scale : 100
Perspective X : 0.00
Perspective Y : 0.00
Grain Amount : 0
Post Crop Vignette Amount : 0
Shadow Tint : 0
Red Hue : 0
Red Saturation : 0
Green Hue : 0
Green Saturation : 0
Blue Hue : 0
Blue Saturation : 0
HDR Edit Mode : 0
Convert To Grayscale : False
Override Look Vignette : False
Tone Curve Name 2012 : Linear
Camera Profile : Adobe Standard
Has Settings : True
Crop Top : 0.175715
Crop Left : 0.1965
Crop Bottom : 0.595559
Crop Right : 0.762268
Crop Angle : -2.81204
Crop Constrain To Warp : 0
Has Crop : True
Already Applied : True
Rights : AJR IMAGES
Subject : LA County Air Show
Weighted Flat Subject : LA County Air Show
Tone Curve PV2012 : 0, 0, 255, 255
Tone Curve PV2012 Red : 0, 0, 255, 255
Tone Curve PV2012 Green : 0, 0, 255, 255
Tone Curve PV2012 Blue : 0, 0, 255, 255
Point Colors : -1.000000, -1.000000, -1.000000, -1.000000, -1.000000, -1.000000, -1.000000, -1.000000, -1.000000, -1.000000, -1.000000, -1.000000, -1.000000, -1.000000, -1.000000, -1.000000, -1.000000, -1.000000, -1.000000
Image Width : 400
Image Height : 223
Bits Per Sample : 8
Color Components : 3
Aperture : 8.0
Image Size : 400x223
Megapixels : 0.089
Scale Factor To 35 mm Equivalent : 1.0
Shutter Speed : 1/1600
Create Date : 2018:03:24 14:48:05.27-07:00
Date/Time Original : 2018:03:24 14:48:05.27-07:00
Modify Date : 2024:07:24 10:31:29-07:00
Circle Of Confusion : 0.030 mm
Depth Of Field : inf (733.87 m - inf)
Field Of View : 4.9 deg
Focal Length : 420.0 mm (35 mm equivalent: 420.0 mm)
Hyperfocal Distance : 733.87 m
Light Value : 14.6
Lens ID : AF-S Nikkor 300mm f/2.8G IF-ED VR II