Uber Exif Photo
Make : NIKON CORPORATION
Camera Model Name : NIKON Z 9
Software : Adobe Photoshop Lightroom Classic 13.5 (Macintosh)
Modify Date : 2024:08:29 14:27:18
Copyright : AJRIMAGES
Exposure Time : 1/200
F Number : 4.5
Exposure Program : Manual
ISO : 160
Sensitivity Type : Recommended Exposure Index
Recommended Exposure Index : 160
Date/Time Original : 2024:05:27 13:59:38
Create Date : 2024:05:27 13:59:38
Shutter Speed Value : 1/200
Aperture Value : 4.5
Exposure Compensation : +1/3
Metering Mode : Multi-segment
Light Source : Unknown
Flash : No Flash
Focal Length : 400.0 mm
Color Space : sRGB
Sensing Method : One-chip color area
Scene Type : Directly photographed
CFA Pattern : [Red,Green][Green,Blue]
Custom Rendered : Custom
Exposure Mode : Manual
White Balance : Auto
Focal Length In 35mm Format : 400 mm
Scene Capture Type : Standard
Gain Control : None
Contrast : Normal
Saturation : Normal
Sharpness : Normal
Subject Distance Range : Unknown
Serial Number : 3022527
Lens Info : 400mm f/2.8
Lens Make : NIKON
Lens Model : NIKKOR Z 400mm f/2.8 TC VR S
Lens Serial Number : 20007302
Keywords : 2024, Best Aircraft, Flower Drop
Copyright Notice : AJRIMAGES
Profile Description : sRGB IEC61966-2.1
Creator Tool : Adobe Photoshop Lightroom Classic 13.5 (Macintosh)
Format : image/jpeg
Lens : NIKKOR Z 400mm f/2.8 TC VR S
Image Number : 19307
Distortion Correction Already Applied : True
Lateral Chromatic Aberration Correction Already Applied:
True
Vignette Correction Already Applied : True
Date Created : 2024:05:27 13:59:38.40-07:00
Preserved File Name : _AJR9308.NEF
Pick : 0
Raw File Name : _AJR9308.NEF
Version : 16.5
Process Version : 15.4
Color Temperature : 6921
Tint : +13
Exposure 2012 : +0.20
Contrast 2012 : +17
Highlights 2012 : 0
Shadows 2012 : +56
Whites 2012 : 0
Blacks 2012 : 0
Texture : +8
Clarity 2012 : +26
Dehaze : 0
Vibrance : 0
Parametric Shadows : 0
Parametric Darks : 0
Parametric Lights : 0
Parametric Highlights : 0
Parametric Shadow Split : 25
Parametric Midtone Split : 50
Parametric Highlight Split : 75
Sharpen Radius : +2.0
Sharpen Detail : 25
Sharpen Edge Masking : 0
Luminance Smoothing : 47
Luminance Noise Reduction Detail : 75
Luminance Noise Reduction Contrast : 0
Color Noise Reduction : 25
Color Noise Reduction Detail : 50
Color Noise Reduction Smoothness : 50
Hue Adjustment Red : 0
Hue Adjustment Orange : 0
Hue Adjustment Yellow : 0
Hue Adjustment Green : 0
Hue Adjustment Aqua : 0
Hue Adjustment Blue : 0
Hue Adjustment Purple : 0
Hue Adjustment Magenta : 0
Saturation Adjustment Red : 0
Saturation Adjustment Orange : 0
Saturation Adjustment Yellow : 0
Saturation Adjustment Green : 0
Saturation Adjustment Aqua : 0
Saturation Adjustment Blue : 0
Saturation Adjustment Purple : 0
Saturation Adjustment Magenta : 0
Luminance Adjustment Red : 0
Luminance Adjustment Orange : 0
Luminance Adjustment Yellow : 0
Luminance Adjustment Green : 0
Luminance Adjustment Aqua : 0
Luminance Adjustment Blue : 0
Luminance Adjustment Purple : 0
Luminance Adjustment Magenta : 0
Split Toning Shadow Hue : 0
Split Toning Shadow Saturation : 0
Split Toning Highlight Hue : 0
Split Toning Highlight Saturation : 0
Split Toning Balance : 0
Color Grade Midtone Hue : 0
Color Grade Midtone Sat : 0
Color Grade Shadow Lum : 0
Color Grade Midtone Lum : 0
Color Grade Highlight Lum : 0
Color Grade Blending : 50
Color Grade Global Hue : 0
Color Grade Global Sat : 0
Color Grade Global Lum : 0
Auto Lateral CA : 1
Lens Profile Enable : 1
Lens Manual Distortion Amount : 0
Vignette Amount : 0
Defringe Purple Amount : 0
Defringe Purple Hue Lo : 30
Defringe Purple Hue Hi : 70
Defringe Green Amount : 0
Defringe Green Hue Lo : 40
Defringe Green Hue Hi : 60
Perspective Upright : Off
Perspective Vertical : 0
Perspective Horizontal : 0
Perspective Rotate : 0.0
Perspective Aspect : 0
Perspective Scale : 100
Perspective X : 0.00
Perspective Y : 0.00
Grain Amount : 0
Post Crop Vignette Amount : 0
Shadow Tint : 0
Red Hue : 0
Red Saturation : 0
Green Hue : 0
Green Saturation : 0
Blue Hue : 0
Blue Saturation : 0
HDR Edit Mode : 0
Convert To Grayscale : False
Override Look Vignette : False
Tone Curve Name 2012 : Linear
Camera Profile : Camera Standard
Lens Profile Setup : LensDefaults
Lens Profile Name : Camera Settings
Lens Profile Is Embedded : True
Lens Profile Distortion Scale : 100
Lens Profile Vignetting Scale : 100
Has Settings : True
Crop Top : 0.085557
Crop Left : 0.108299
Crop Bottom : 0.809298
Crop Right : 0.963172
Crop Angle : 0
Crop Constrain To Warp : 0
Has Crop : True
Already Applied : True
Rights : AJRIMAGES
Subject : 2024, Best Aircraft, Flower Drop
Camera Profiles Author : Adobe
Camera Profiles Make : NIKON CORPORATION
Camera Profiles Model : NIKON Z 9
Camera Profiles Unique Camera Model : Nikon Z 9
Camera Profiles Camera Raw Profile : True
Camera Profiles Auto Scale : False
Camera Profiles Lens : NIKKOR Z 400mm f/2.8 TC VR S
Camera Profiles Camera Pretty Name : Nikon Z 9
Camera Profiles Lens Pretty Name : NIKKOR Z 400mm f/2.8 TC VR S
Camera Profiles Profile Name : Camera Settings
Camera Profiles Sensor Format Factor : 1.003485
Camera Profiles Focal Length : 400
Camera Profiles Focus Distance : 10000
Camera Profiles Aperture Value : 4.33985
Camera Profiles Perspective Model Version : 2
Camera Profiles Perspective Model Image X Center:
0.514119
Camera Profiles Perspective Model Image Y Center:
0.506264
Camera Profiles Perspective Model Scale Factor:
1.000118
Camera Profiles Perspective Model Radial Distort Param 1:
0.005367
Camera Profiles Perspective Model Radial Distort Param 2:
-187.468316
Camera Profiles Perspective Model Radial Distort Param 3:
-1619.59611
Camera Profiles Perspective Model Vignette Model Image X Center:
Camera Profiles Perspective Model Vignette Model Image Y Center:
Camera Profiles Perspective Model Vignette Model Vignette Model Param 1:
1
Camera Profiles Perspective Model Vignette Model Vignette Model Piecewise Param:
Weighted Flat Subject : 2024, Flower Drop, Best Aircraft
Tone Curve PV2012 : 0, 0, 255, 255
Tone Curve PV2012 Red : 0, 0, 255, 255
Tone Curve PV2012 Green : 0, 0, 255, 255
Tone Curve PV2012 Blue : 0, 0, 255, 255
Point Colors : -1.000000, -1.000000, -1.000000, -1.000000, -1.000000, -1.000000, -1.000000, -1.000000, -1.000000, -1.000000, -1.000000, -1.000000, -1.000000, -1.000000, -1.000000, -1.000000, -1.000000, -1.000000, -1.000000
Image Width : 400
Image Height : 226
Bits Per Sample : 8
Color Components : 3
Aperture : 4.5
Image Size : 400x226
Megapixels : 0.090
Scale Factor To 35 mm Equivalent : 1.0
Shutter Speed : 1/200
Create Date : 2024:05:27 13:59:38.40-07:00
Date/Time Original : 2024:05:27 13:59:38.40-07:00
Modify Date : 2024:08:29 14:27:18-07:00
Circle Of Confusion : 0.030 mm
Field Of View : 5.2 deg
Focal Length : 400.0 mm (35 mm equivalent: 400.0 mm)
Hyperfocal Distance : 1183.36 m
Light Value : 11.3
Lens ID : NIKKOR Z 400mm f/2.8 TC VR S