Uber Exif Photo
Make : NIKON CORPORATION
Camera Model Name : NIKON Z6_3
Software : Adobe Photoshop Lightroom Classic 14.0.1 (Macintosh)
Modify Date : 2024:10:21 15:49:52
Artist : AJRimages
Copyright : AJRimages
Exposure Time : 1/2000
F Number : 7.1
Exposure Program : Manual
ISO : 560
Sensitivity Type : Recommended Exposure Index
Recommended Exposure Index : 560
Date/Time Original : 2024:10:17 11:25:22
Create Date : 2024:10:17 11:25:22
Shutter Speed Value : 1/2000
Aperture Value : 7.1
Exposure Compensation : 0
Metering Mode : Multi-segment
Light Source : Unknown
Flash : No Flash
Focal Length : 38.0 mm
Color Space : sRGB
Sensing Method : One-chip color area
Scene Type : Directly photographed
CFA Pattern : [Red,Green][Green,Blue]
Custom Rendered : Custom
Exposure Mode : Manual
White Balance : Auto
Focal Length In 35mm Format : 38 mm
Scene Capture Type : Standard
Gain Control : None
Contrast : Normal
Saturation : Normal
Sharpness : Normal
Subject Distance Range : Unknown
Serial Number : 3000902
Lens Info : 24-120mm f/4
Lens Make : NIKON
Lens Model : NIKKOR Z 24-120mm f/4 S
Lens Serial Number : 20019286
Keywords : 20241017, Ostrich Farm
By-line : AJRimages
Copyright Notice : AJRimages
Profile Description : sRGB IEC61966-2.1
Creator Tool : Adobe Photoshop Lightroom Classic 14.0.1 (Macintosh)
Format : image/jpeg
Lens : NIKKOR Z 24-120mm f/4 S
Image Number : 1075
Distortion Correction Already Applied : True
Lateral Chromatic Aberration Correction Already Applied:
True
Vignette Correction Already Applied : True
Date Created : 2024:10:17 11:25:22.49-07:00
Preserved File Name : AJR_1070.NEF
Pick : 0
Raw File Name : AJR_1070.NEF
Version : 17.0
Process Version : 15.4
Color Temperature : 4700
Tint : +17
Exposure 2012 : +0.20
Contrast 2012 : -6
Highlights 2012 : 0
Shadows 2012 : +100
Whites 2012 : 0
Blacks 2012 : 0
Texture : +9
Clarity 2012 : +22
Dehaze : 0
Vibrance : 0
Parametric Shadows : 0
Parametric Darks : 0
Parametric Lights : 0
Parametric Highlights : 0
Parametric Shadow Split : 25
Parametric Midtone Split : 50
Parametric Highlight Split : 75
Sharpen Radius : +2.0
Sharpen Detail : 25
Sharpen Edge Masking : 0
Luminance Smoothing : 52
Luminance Noise Reduction Detail : 75
Luminance Noise Reduction Contrast : 0
Color Noise Reduction : 25
Color Noise Reduction Detail : 50
Color Noise Reduction Smoothness : 50
Hue Adjustment Red : 0
Hue Adjustment Orange : 0
Hue Adjustment Yellow : 0
Hue Adjustment Green : 0
Hue Adjustment Aqua : 0
Hue Adjustment Blue : 0
Hue Adjustment Purple : 0
Hue Adjustment Magenta : 0
Saturation Adjustment Red : 0
Saturation Adjustment Orange : 0
Saturation Adjustment Yellow : 0
Saturation Adjustment Green : 0
Saturation Adjustment Aqua : 0
Saturation Adjustment Blue : 0
Saturation Adjustment Purple : 0
Saturation Adjustment Magenta : 0
Luminance Adjustment Red : 0
Luminance Adjustment Orange : 0
Luminance Adjustment Yellow : 0
Luminance Adjustment Green : 0
Luminance Adjustment Aqua : 0
Luminance Adjustment Blue : 0
Luminance Adjustment Purple : 0
Luminance Adjustment Magenta : 0
Split Toning Shadow Hue : 0
Split Toning Shadow Saturation : 0
Split Toning Highlight Hue : 0
Split Toning Highlight Saturation : 0
Split Toning Balance : 0
Color Grade Midtone Hue : 0
Color Grade Midtone Sat : 0
Color Grade Shadow Lum : 0
Color Grade Midtone Lum : 0
Color Grade Highlight Lum : 0
Color Grade Blending : 50
Color Grade Global Hue : 0
Color Grade Global Sat : 0
Color Grade Global Lum : 0
Auto Lateral CA : 0
Lens Profile Enable : 0
Lens Manual Distortion Amount : 0
Vignette Amount : 0
Defringe Purple Amount : 0
Defringe Purple Hue Lo : 30
Defringe Purple Hue Hi : 70
Defringe Green Amount : 0
Defringe Green Hue Lo : 40
Defringe Green Hue Hi : 60
Perspective Upright : Off
Perspective Vertical : 0
Perspective Horizontal : 0
Perspective Rotate : 0.0
Perspective Aspect : 0
Perspective Scale : 100
Perspective X : 0.00
Perspective Y : 0.00
Grain Amount : 0
Post Crop Vignette Amount : 0
Shadow Tint : 0
Red Hue : 0
Red Saturation : 0
Green Hue : 0
Green Saturation : 0
Blue Hue : 0
Blue Saturation : 0
HDR Edit Mode : 0
Convert To Grayscale : False
Override Look Vignette : False
Tone Curve Name 2012 : Linear
Camera Profile : Group: Camera Standard
Has Settings : True
Crop Top : 0.033509
Crop Left : 0.045474
Crop Bottom : 0.637863
Crop Right : 0.85711
Crop Angle : -1.6
Crop Constrain To Warp : 0
Has Crop : True
Already Applied : True
Creator : AJRimages
Rights : AJRimages
Subject : 20241017, Ostrich Farm
Weighted Flat Subject : 20241017, Ostrich Farm
Tone Curve PV2012 : 0, 0, 255, 255
Tone Curve PV2012 Red : 0, 0, 255, 255
Tone Curve PV2012 Green : 0, 0, 255, 255
Tone Curve PV2012 Blue : 0, 0, 255, 255
Point Colors : -1.000000, -1.000000, -1.000000, -1.000000, -1.000000, -1.000000, -1.000000, -1.000000, -1.000000, -1.000000, -1.000000, -1.000000, -1.000000, -1.000000, -1.000000, -1.000000, -1.000000, -1.000000, -1.000000
Image Width : 400
Image Height : 213
Bits Per Sample : 8
Color Components : 3
Aperture : 7.1
Image Size : 400x213
Megapixels : 0.085
Scale Factor To 35 mm Equivalent : 1.0
Shutter Speed : 1/2000
Create Date : 2024:10:17 11:25:22.49-07:00
Date/Time Original : 2024:10:17 11:25:22.49-07:00
Modify Date : 2024:10:21 15:49:52-07:00
Circle Of Confusion : 0.030 mm
Field Of View : 50.7 deg
Focal Length : 38.0 mm (35 mm equivalent: 38.0 mm)
Hyperfocal Distance : 6.77 m
Light Value : 14.1
Lens ID : NIKKOR Z 24-120mm f/4 S