Uber Exif Photo
Photometric Interpretation : RGB
Make : NIKON CORPORATION
Camera Model Name : NIKON Z 8
Orientation : Horizontal (normal)
Samples Per Pixel : 3
Planar Configuration : Chunky
Software : Adobe Photoshop 25.3 (Windows)
Modify Date : 2024:10:27 00:04:26
Exposure Time : 1/125
F Number : 1.8
Exposure Program : Manual
ISO : 64
Sensitivity Type : Recommended Exposure Index
Recommended Exposure Index : 64
Date/Time Original : 2024:10:26 16:12:04
Create Date : 2024:10:26 16:12:04
Shutter Speed Value : 1/125
Aperture Value : 1.8
Exposure Compensation : 0
Subject Distance : 2.11 m
Metering Mode : Multi-segment
Light Source : Unknown
Flash : No Flash
Focal Length : 135.0 mm
User Comment :
Color Space : sRGB
Exif Image Width : 1644
Exif Image Height : 1164
Sensing Method : One-chip color area
Scene Type : Directly photographed
CFA Pattern : [Red,Green][Green,Blue]
Custom Rendered : Custom
Exposure Mode : Manual
White Balance : Auto
Focal Length In 35mm Format : 135 mm
Scene Capture Type : Standard
Gain Control : None
Contrast : Normal
Saturation : Normal
Sharpness : Normal
Subject Distance Range : Unknown
Serial Number : 3029750
Lens Info : 135mm f/1.8
Lens Make : NIKON
Lens Model : NIKKOR Z 135mm f/1.8 S Plena
Lens Serial Number : 20012462
Composite Image : Not a Composite Image
GPS Version ID : 2.3.0.0
Creator Tool : DxO PhotoLab 7.6
Rating : 0
Rating Percent : 0
Luminance Noise Reduction Detail : 75
Luminance Noise Reduction Contrast : 0
Lens : NIKKOR Z 135mm f/1.8 S Plena
Image Number : 28630
Sidecar For Extension : NEF
Date Created : 2024:10:26 16:12:04.013-08:00
Color Mode : RGB
ICC Profile Name : sRGB IEC61966-2.1
Preserved File Name : Z8C_8719.NEF
Format : image/jpeg
Version : 16.1
Process Version : 15.4
Color Temperature : 4950
Tint : +12
Exposure 2012 : +0.10
Contrast 2012 : 0
Highlights 2012 : 0
Shadows 2012 : +62
Whites 2012 : 0
Blacks 2012 : -36
Texture : 0
Clarity 2012 : -1
Dehaze : -2
Vibrance : 0
Parametric Shadows : 0
Parametric Darks : -7
Parametric Lights : +7
Parametric Highlights : +21
Parametric Shadow Split : 25
Parametric Midtone Split : 50
Parametric Highlight Split : 75
Sharpen Radius : +1.0
Sharpen Detail : 25
Sharpen Edge Masking : 0
Luminance Smoothing : 0
Color Noise Reduction : 25
Color Noise Reduction Detail : 50
Color Noise Reduction Smoothness : 50
Hue Adjustment Red : 0
Hue Adjustment Orange : 0
Hue Adjustment Yellow : 0
Hue Adjustment Green : 0
Hue Adjustment Aqua : 0
Hue Adjustment Blue : 0
Hue Adjustment Purple : 0
Hue Adjustment Magenta : 0
Saturation Adjustment Red : -4
Saturation Adjustment Orange : 0
Saturation Adjustment Yellow : 0
Saturation Adjustment Green : 0
Saturation Adjustment Aqua : 0
Saturation Adjustment Blue : 0
Saturation Adjustment Purple : 0
Saturation Adjustment Magenta : 0
Luminance Adjustment Red : 0
Luminance Adjustment Orange : 0
Luminance Adjustment Yellow : 0
Luminance Adjustment Green : 0
Luminance Adjustment Aqua : 0
Luminance Adjustment Blue : 0
Luminance Adjustment Purple : 0
Luminance Adjustment Magenta : 0
Split Toning Shadow Hue : 0
Split Toning Shadow Saturation : 0
Split Toning Highlight Hue : 0
Split Toning Highlight Saturation : 0
Split Toning Balance : 0
Color Grade Midtone Hue : 0
Color Grade Midtone Sat : 0
Color Grade Shadow Lum : 0
Color Grade Midtone Lum : 0
Color Grade Highlight Lum : 0
Color Grade Blending : 50
Color Grade Global Hue : 0
Color Grade Global Sat : 0
Color Grade Global Lum : 0
Auto Lateral CA : 0
Lens Profile Enable : 1
Lens Manual Distortion Amount : 0
Vignette Amount : 0
Defringe Purple Amount : 0
Defringe Purple Hue Lo : 30
Defringe Purple Hue Hi : 70
Defringe Green Amount : 0
Defringe Green Hue Lo : 40
Defringe Green Hue Hi : 60
Perspective Upright : Off
Perspective Vertical : 0
Perspective Horizontal : 0
Perspective Rotate : 0.0
Perspective Aspect : 0
Perspective Scale : 100
Perspective X : 0.00
Perspective Y : 0.00
Grain Amount : 0
Post Crop Vignette Amount : 0
Shadow Tint : 0
Red Hue : 0
Red Saturation : 0
Green Hue : 0
Green Saturation : 0
Blue Hue : 0
Blue Saturation : 0
HDR Edit Mode : 0
Override Look Vignette : False
Tone Curve Name 2012 : Linear
Lens Profile Setup : LensDefaults
Lens Profile Name : Camera Settings
Lens Profile Is Embedded : True
Lens Profile Distortion Scale : 100
Lens Profile Vignetting Scale : 100
Has Settings : True
Has Crop : False
Already Applied : True
Camera Profile : Adobe Standard
Raw File Name : Z8C_8719.NEF
Camera Profiles Author : Adobe
Camera Profiles Make : NIKON CORPORATION
Camera Profiles Model : NIKON Z 8
Camera Profiles Unique Camera Model : Nikon Z 8
Camera Profiles Camera Raw Profile : True
Camera Profiles Auto Scale : False
Camera Profiles Lens : NIKKOR Z 135mm f/1.8 S Plena
Camera Profiles Camera Pretty Name : Nikon Z 8
Camera Profiles Lens Pretty Name : NIKKOR Z 135mm f/1.8 S Plena
Camera Profiles Profile Name : Camera Settings
Camera Profiles Sensor Format Factor : 1.003485
Camera Profiles Focal Length : 135
Camera Profiles Focus Distance : 10000
Camera Profiles Aperture Value : 1.695994
Camera Profiles Perspective Model Version : 2
Camera Profiles Perspective Model Image X Center:
0.508296
Camera Profiles Perspective Model Image Y Center:
0.507495
Camera Profiles Perspective Model Scale Factor:
0.982692
Camera Profiles Perspective Model Radial Distort Param 1:
0.705528
Camera Profiles Perspective Model Radial Distort Param 2:
-2.279892
Camera Profiles Perspective Model Radial Distort Param 3:
-25.68032
Camera Profiles Perspective Model Vignette Model Image X Center:
Camera Profiles Perspective Model Vignette Model Image Y Center:
Camera Profiles Perspective Model Vignette Model Vignette Model Param 1:
1
Camera Profiles Perspective Model Vignette Model Vignette Model Piecewise Param:
Tone Curve PV2012 : 0, 0, 255, 255
Tone Curve PV2012 Red : 0, 0, 255, 255
Tone Curve PV2012 Green : 0, 0, 255, 255
Tone Curve PV2012 Blue : 0, 0, 255, 255
Point Colors : -1.000000, -1.000000, -1.000000, -1.000000, -1.000000, -1.000000, -1.000000, -1.000000, -1.000000, -1.000000, -1.000000, -1.000000, -1.000000, -1.000000, -1.000000, -1.000000, -1.000000, -1.000000, -1.000000
Look Name : Adobe Color
Look Amount : 1
Look Supports Amount : false
Look Supports Monochrome : false
Look Supports Output Referred : false
Look Copyright : © 2018 Adobe Systems, Inc.
Look Group : Profiles
Look Parameters Version : 16.1
Look Parameters Process Version : 15.4
Look Parameters Convert To Grayscale : False
Look Parameters Camera Profile : Adobe Standard
Look Parameters Look Table : E1095149FDB39D7A057BAB208837E2E1
Look Parameters Tone Curve PV2012 : 0, 0, 22, 16, 40, 35, 127, 127, 224, 230, 240, 246, 255, 255
Look Parameters Tone Curve PV2012 Red : 0, 0, 255, 255
Look Parameters Tone Curve PV2012 Green : 0, 0, 255, 255
Look Parameters Tone Curve PV2012 Blue : 0, 0, 255, 255
Profile Description : sRGB IEC61966-2.1
Image Width : 400
Image Height : 283
Bits Per Sample : 8
Color Components : 3
Aperture : 1.8
Image Size : 400x283
Megapixels : 0.113
Scale Factor To 35 mm Equivalent : 1.0
Shutter Speed : 1/125
Create Date : 2024:10:26 16:12:04.13-08:00
Date/Time Original : 2024:10:26 16:12:04.13-08:00
Modify Date : 2024:10:27 00:04:26-07:00
Circle Of Confusion : 0.030 mm
Depth Of Field : 0.02 m (2.10 - 2.12 m)
Field Of View : 15.2 deg
Focal Length : 135.0 mm (35 mm equivalent: 135.0 mm)
Hyperfocal Distance : 336.98 m
Light Value : 9.3
Lens ID : NIKKOR Z 135mm f/1.8 S Plena