Uber Exif Photo
Make : FUJIFILM
Camera Model Name : GFX 50R
Orientation : Horizontal (normal)
Software : Adobe Photoshop 26.2 (Windows)
Modify Date : 2025:01:19 14:47:18
Artist : BARRY GOSSAGE
Copyright : FO-TIK PHOTOGRAPHY 2022
Exposure Time : 1/2000
F Number : 16.0
Exposure Program : Manual
ISO : 4000
Sensitivity Type : Standard Output Sensitivity
Standard Output Sensitivity : 4000
Date/Time Original : 2023:09:29 16:27:18
Create Date : 2023:09:29 16:27:18
Shutter Speed Value : 1/2000
Aperture Value : 16.0
Brightness Value : 8.66
Exposure Compensation : 0
Max Aperture Value : 4.0
Metering Mode : Multi-segment
Light Source : Unknown
Flash : No Flash
Focal Length : 56.5 mm
Color Space : Uncalibrated
Exif Image Width : 2500
Exif Image Height : 1300
Sensing Method : One-chip color area
Scene Type : Directly photographed
Custom Rendered : Normal
Exposure Mode : Manual
White Balance : Auto
Focal Length In 35mm Format : 45 mm
Scene Capture Type : Standard
Sharpness : Normal
Subject Distance Range : Unknown
Serial Number : 93050551
Lens Info : 32-64mm f/4
Lens Make : FUJIFILM
Lens Model : GF32-64mmF4 R LM WR
Lens Serial Number : 87A00384
By-line : BARRY GOSSAGE
Copyright Notice : FO-TIK PHOTOGRAPHY 2022
Rating : 0
Creator Tool : Digital Camera GFX 50R Ver3.00
Fuji Rating Already Applied : True
Lens : GF32-64mmF4 R LM WR
Is Merged HDR : True
Distortion Correction Already Applied : True
Lateral Chromatic Aberration Correction Already Applied:
True
Vignette Correction Already Applied : True
Format : image/jpeg
Date Created : 2023:09:29 16:27:18-07:00
Color Mode : RGB
ICC Profile Name : Rec. 2020
Version : 17.1
Process Version : 15.4
Incremental Temperature : 0
Incremental Tint : 0
Exposure 2012 : -0.03
Contrast 2012 : +6
Highlights 2012 : -6
Shadows 2012 : +32
Whites 2012 : +6
Blacks 2012 : -17
Texture : 0
Clarity 2012 : 0
Dehaze : 0
Vibrance : +10
Saturation : 0
Parametric Shadows : 0
Parametric Darks : 0
Parametric Lights : 0
Parametric Highlights : 0
Parametric Shadow Split : 25
Parametric Midtone Split : 50
Parametric Highlight Split : 75
Luminance Smoothing : 0
Color Noise Reduction : 0
Hue Adjustment Red : 0
Hue Adjustment Orange : 0
Hue Adjustment Yellow : 0
Hue Adjustment Green : 0
Hue Adjustment Aqua : 0
Hue Adjustment Blue : 0
Hue Adjustment Purple : 0
Hue Adjustment Magenta : 0
Saturation Adjustment Red : 0
Saturation Adjustment Orange : 0
Saturation Adjustment Yellow : 0
Saturation Adjustment Green : 0
Saturation Adjustment Aqua : 0
Saturation Adjustment Blue : 0
Saturation Adjustment Purple : 0
Saturation Adjustment Magenta : 0
Luminance Adjustment Red : 0
Luminance Adjustment Orange : 0
Luminance Adjustment Yellow : 0
Luminance Adjustment Green : 0
Luminance Adjustment Aqua : 0
Luminance Adjustment Blue : 0
Luminance Adjustment Purple : 0
Luminance Adjustment Magenta : 0
Split Toning Shadow Hue : 0
Split Toning Shadow Saturation : 0
Split Toning Highlight Hue : 0
Split Toning Highlight Saturation : 0
Split Toning Balance : 0
Color Grade Midtone Hue : 0
Color Grade Midtone Sat : 0
Color Grade Shadow Lum : 0
Color Grade Midtone Lum : 0
Color Grade Highlight Lum : 0
Color Grade Blending : 50
Color Grade Global Hue : 0
Color Grade Global Sat : 0
Color Grade Global Lum : 0
Auto Lateral CA : 0
Lens Profile Enable : 0
Lens Manual Distortion Amount : 0
Vignette Amount : 0
Defringe Purple Amount : 0
Defringe Purple Hue Lo : 30
Defringe Purple Hue Hi : 70
Defringe Green Amount : 0
Defringe Green Hue Lo : 40
Defringe Green Hue Hi : 60
Perspective Upright : Off
Perspective Vertical : 0
Perspective Horizontal : 0
Perspective Rotate : 0.0
Perspective Aspect : 0
Perspective Scale : 100
Perspective X : 0.00
Perspective Y : 0.00
Grain Amount : 0
Post Crop Vignette Amount : 0
Shadow Tint : 0
Red Hue : 0
Red Saturation : 0
Green Hue : 0
Green Saturation : 0
Blue Hue : 0
Blue Saturation : 0
HDR Edit Mode : 0
Convert To Grayscale : False
Override Look Vignette : False
Tone Curve Name 2012 : Linear
Camera Profile : Embedded
Has Settings : True
Has Crop : False
Already Applied : True
Creator : BARRY GOSSAGE
Rights : FO-TIK PHOTOGRAPHY 2022
Tone Curve PV2012 : 0, 0, 255, 255
Tone Curve PV2012 Red : 0, 0, 255, 255
Tone Curve PV2012 Green : 0, 0, 255, 255
Tone Curve PV2012 Blue : 0, 0, 255, 255
Point Colors : -1.000000, -1.000000, -1.000000, -1.000000, -1.000000, -1.000000, -1.000000, -1.000000, -1.000000, -1.000000, -1.000000, -1.000000, -1.000000, -1.000000, -1.000000, -1.000000, -1.000000, -1.000000, -1.000000
Profile Description : Rec. 2020
Image Width : 400
Image Height : 208
Bits Per Sample : 8
Color Components : 3
Aperture : 16.0
Image Size : 400x208
Megapixels : 0.083
Scale Factor To 35 mm Equivalent : 0.8
Shutter Speed : 1/2000
Create Date : 2023:09:29 16:27:18.1-07:00
Date/Time Original : 2023:09:29 16:27:18.1-07:00
Modify Date : 2025:01:19 14:47:18-08:00
Circle Of Confusion : 0.038 mm
Field Of View : 43.6 deg
Focal Length : 56.5 mm (35 mm equivalent: 45.0 mm)
Hyperfocal Distance : 5.29 m
Light Value : 13.6
Lens ID : GF32-64mm F4 R LM WR