Uber Exif Photo
Make : NIKON CORPORATION
Camera Model Name : NIKON Z 8
Software : Adobe Photoshop Lightroom Classic 14.1.1 (Macintosh)
Modify Date : 2025:02:08 07:32:42
Artist : John SIchenze
Copyright : Copyright 2024
Exposure Time : 1/125
F Number : 1.2
Exposure Program : Manual
ISO : 125
Sensitivity Type : Recommended Exposure Index
Recommended Exposure Index : 125
Date/Time Original : 2025:02:03 18:15:14
Create Date : 2025:02:03 18:15:14
Shutter Speed Value : 1/125
Aperture Value : 1.2
Exposure Compensation : 0
Metering Mode : Spot
Light Source : Unknown
Flash : No Flash
Focal Length : 50.0 mm
Color Space : sRGB
Sensing Method : One-chip color area
Scene Type : Directly photographed
CFA Pattern : [Red,Green][Green,Blue]
Custom Rendered : Custom
Exposure Mode : Manual
White Balance : Manual
Focal Length In 35mm Format : 50 mm
Scene Capture Type : Standard
Gain Control : None
Contrast : Normal
Saturation : Normal
Sharpness : Normal
Subject Distance Range : Unknown
Serial Number : 3022592
Lens Info : 50mm f/1.2
Lens Make : NIKON
Lens Model : NIKKOR Z 50mm f/1.2 S
Lens Serial Number : 20002248
Keywords : Insaatitablesplash portrait Rope
By-line : John SIchenze
Copyright Notice : Copyright 2024
Copyright Flag : True
Profile Description : sRGB IEC61966-2.1
Creator Tool : Adobe Photoshop Lightroom Classic 14.1.1 (Macintosh)
Rating : 3
Format : image/jpeg
Lens : NIKKOR Z 50mm f/1.2 S
Image Number : 30549
Distortion Correction Already Applied : True
Lateral Chromatic Aberration Correction Already Applied:
True
Vignette Correction Already Applied : True
Date Created : 2025:02:03 18:15:14.035-04:00
Preserved File Name : _DSC0665.NEF
Marked : True
Pick : 1
Good : true
Raw File Name : InsatiableSlash-20250203JAS_DSC0665-Edit.psd
Version : 17.1
Compatible Version : 268632064
Process Version : 15.4
Incremental Temperature : 0
Incremental Tint : 0
Exposure 2012 : 0.00
Contrast 2012 : 0
Highlights 2012 : -29
Shadows 2012 : 0
Whites 2012 : 0
Blacks 2012 : 0
Texture : 0
Clarity 2012 : 0
Dehaze : 0
Vibrance : 0
Parametric Shadows : 0
Parametric Darks : 0
Parametric Lights : 0
Parametric Highlights : 0
Parametric Shadow Split : 25
Parametric Midtone Split : 50
Parametric Highlight Split : 75
Luminance Smoothing : 0
Color Noise Reduction : 0
Hue Adjustment Red : 0
Hue Adjustment Orange : 0
Hue Adjustment Yellow : 0
Hue Adjustment Green : 0
Hue Adjustment Aqua : 0
Hue Adjustment Blue : 0
Hue Adjustment Purple : 0
Hue Adjustment Magenta : 0
Saturation Adjustment Red : 0
Saturation Adjustment Orange : 0
Saturation Adjustment Yellow : 0
Saturation Adjustment Green : 0
Saturation Adjustment Aqua : 0
Saturation Adjustment Blue : 0
Saturation Adjustment Purple : 0
Saturation Adjustment Magenta : 0
Luminance Adjustment Red : 0
Luminance Adjustment Orange : 0
Luminance Adjustment Yellow : 0
Luminance Adjustment Green : 0
Luminance Adjustment Aqua : 0
Luminance Adjustment Blue : 0
Luminance Adjustment Purple : 0
Luminance Adjustment Magenta : 0
Split Toning Shadow Hue : 0
Split Toning Shadow Saturation : 0
Split Toning Highlight Hue : 0
Split Toning Highlight Saturation : 0
Split Toning Balance : 0
Color Grade Midtone Hue : 0
Color Grade Midtone Sat : 0
Color Grade Shadow Lum : 0
Color Grade Midtone Lum : 0
Color Grade Highlight Lum : 0
Color Grade Blending : 50
Color Grade Global Hue : 0
Color Grade Global Sat : 0
Color Grade Global Lum : 0
Auto Lateral CA : 0
Lens Profile Enable : 0
Lens Manual Distortion Amount : 0
Vignette Amount : 0
Defringe Purple Amount : 0
Defringe Purple Hue Lo : 30
Defringe Purple Hue Hi : 70
Defringe Green Amount : 0
Defringe Green Hue Lo : 40
Defringe Green Hue Hi : 60
Perspective Upright : Off
Perspective Vertical : 0
Perspective Horizontal : 0
Perspective Rotate : 0.0
Perspective Aspect : 0
Perspective Scale : 100
Perspective X : 0.00
Perspective Y : 0.00
Grain Amount : 0
Post Crop Vignette Amount : 0
Shadow Tint : 0
Red Hue : 0
Red Saturation : 0
Green Hue : 0
Green Saturation : 0
Blue Hue : 0
Blue Saturation : 0
HDR Edit Mode : 0
Convert To Grayscale : False
Override Look Vignette : False
Tone Curve Name 2012 : Linear
Camera Profile : Embedded
Has Settings : True
Crop Top : 0.012655
Crop Left : 0.042845
Crop Bottom : 0.969809
Crop Right : 1
Crop Angle : 0
Crop Constrain To Warp : 0
Has Crop : True
Already Applied : True
Provenance : https://cai-manifests.adobe.com/manifests/adobe-urn-uuid-b5e21c9a-b40f-47d4-ab97-0ceca5a58b40
Creator : John SIchenze
Rights : Copyright 2024
Subject : Insaatitablesplash portrait Rope
Camera Profiles Author : Adobe
Camera Profiles Make : NIKON CORPORATION
Camera Profiles Model : NIKON Z 8
Camera Profiles Unique Camera Model : Nikon Z 8
Camera Profiles Camera Raw Profile : True
Camera Profiles Auto Scale : False
Camera Profiles Lens : NIKKOR Z 50mm f/1.2 S
Camera Profiles Camera Pretty Name : Nikon Z 8
Camera Profiles Lens Pretty Name : NIKKOR Z 50mm f/1.2 S
Camera Profiles Profile Name : Camera Settings
Camera Profiles Sensor Format Factor : 1.003485
Camera Profiles Focal Length : 50
Camera Profiles Focus Distance : 10000
Camera Profiles Aperture Value : 0.526069
Camera Profiles Perspective Model Version : 2
Camera Profiles Perspective Model Image X Center:
0.494265
Camera Profiles Perspective Model Image Y Center:
0.502425
Camera Profiles Perspective Model Scale Factor:
0.996952
Camera Profiles Perspective Model Radial Distort Param 1:
-0.019473
Camera Profiles Perspective Model Radial Distort Param 2:
0.07041
Camera Profiles Perspective Model Radial Distort Param 3:
0.577991
Camera Profiles Perspective Model Vignette Model Image X Center:
Camera Profiles Perspective Model Vignette Model Image Y Center:
Camera Profiles Perspective Model Vignette Model Vignette Model Param 1:
1
Camera Profiles Perspective Model Vignette Model Vignette Model Piecewise Param:
Weighted Flat Subject : Insaatitablesplash portrait Rope
Tone Curve PV2012 : 0, 0, 255, 255
Tone Curve PV2012 Red : 0, 0, 255, 255
Tone Curve PV2012 Green : 0, 0, 255, 255
Tone Curve PV2012 Blue : 0, 0, 255, 255
Point Colors : -1.000000, -1.000000, -1.000000, -1.000000, -1.000000, -1.000000, -1.000000, -1.000000, -1.000000, -1.000000, -1.000000, -1.000000, -1.000000, -1.000000, -1.000000, -1.000000, -1.000000, -1.000000, -1.000000
Remove Areas Spot Type : heal_patchmatch
Remove Areas Source State : sourceAutoComputed
Remove Areas Opacity : 1
Remove Areas Seed : 2
Remove Areas Pm patch : CFB4F0A757EF5C99A7B3DDE362FC8860
Remove Areas Pm remap info 0 : 0.000000000,0.982833624,0.000000000,1.000000000
Remove Areas Pm remap info 1 : 0.000000000,0.851255059,0.000000000,1.000000000
Remove Areas Pm remap info 2 : 0.000000000,1.000000000,0.000000000,1.000000000
Remove Areas Pm gamma type : 1
Remove Areas Pm whole image top : 0
Remove Areas Pm whole image left : 0
Remove Areas Pm whole image bottom : 5258
Remove Areas Pm whole image right : 7887
Remove Areas Pm target top : 4491
Remove Areas Pm target left : 944
Remove Areas Pm target bottom : 5258
Remove Areas Pm target right : 3191
Remove Areas Pm search top : 3469
Remove Areas Pm search left : 502
Remove Areas Pm search bottom : 5258
Remove Areas Pm search right : 3633
Remove Areas Pm source type : full
Remove Areas Pm version : 327680
Remove Areas Fill method : firefly
Remove Areas Pm black level : 0
Remove Areas Pm patch mask : 3804CC3DBC487A889040F6612E815F79
Remove Areas Pm mask remap info : 0.000000000,1.000000000,0.000000000,1.000000000
Remove Areas Pm clio model version : 1.0.5-beta.1-1.2_1.2-8c2cea4-0.1.27.1r16.2
Remove Areas Ingest Info : 0897F3B753CF18C2DB82DCCE67574D17
Remove Areas Pm remap info variation 0 0 : 0.000000000,1.000000000,0.000000000,1.000000000
Remove Areas Pm remap info variation 0 1 : 0.000000000,1.000000000,0.000000000,1.000000000
Remove Areas Pm remap info variation 0 2 : 0.000000000,1.000000000,0.000000000,1.000000000
Remove Areas Pm remap info variation 1 0 : 0.000000000,1.000000000,0.000000000,1.000000000
Remove Areas Pm remap info variation 1 1 : 0.000000000,1.000000000,0.000000000,1.000000000
Remove Areas Pm remap info variation 1 2 : 0.000000000,1.000000000,0.000000000,1.000000000
Remove Areas Pm patch variations Pm patch variation:
426A1FC6133CE76ED3B685A46037130F
Remove Areas Masks What : Mask/Image
Remove Areas Masks Mask Active : true
Remove Areas Masks Mask Blend Mode : 0
Remove Areas Masks Mask Inverted : false
Remove Areas Masks Mask Sync ID : 1AC6E2515A61409888E0BD03814E0F29
Remove Areas Masks Mask Value : 1
Remove Areas Masks Mask Version : 1
Remove Areas Masks Mask Sub Type : 0
Remove Areas Masks Reference Point : 0.335938 0.938416
Remove Areas Masks Whole Image Area : 0/1,0/1,1920/1,2880/1
Remove Areas Masks Origin : 351,1646
Remove Areas Masks Model Version : 234881976
Remove Areas Masks Gesture What : Mask/Paint
Remove Areas Masks Gesture Mask Active : true
Remove Areas Masks Gesture Mask Blend Mode : 0
Remove Areas Masks Gesture Mask Inverted : false
Remove Areas Masks Gesture Mask Sync ID : 71D733171A1C419CB487B8A72CB8F22F
Remove Areas Masks Gesture Mask Value : 1
Remove Areas Masks Gesture Radius : 0
Remove Areas Masks Gesture Flow : 1
Remove Areas Masks Gesture Center Weight : 0
Remove Areas Masks Gesture Brush Gesture Interpretation:
0
Image Width : 400
Image Height : 267
Bits Per Sample : 8
Color Components : 3
Aperture : 1.2
Image Size : 400x267
Megapixels : 0.107
Scale Factor To 35 mm Equivalent : 1.0
Shutter Speed : 1/125
Create Date : 2025:02:03 18:15:14.35-04:00
Date/Time Original : 2025:02:03 18:15:14.35-04:00
Modify Date : 2025:02:08 07:32:42-05:00
Circle Of Confusion : 0.030 mm
Field Of View : 39.6 deg
Focal Length : 50.0 mm (35 mm equivalent: 50.0 mm)
Hyperfocal Distance : 69.34 m
Light Value : 7.2
Lens ID : NIKKOR Z 50mm f/1.2 S