Uber Exif Photo
Make : NIKON CORPORATION
Camera Model Name : NIKON Z 8
Orientation : Horizontal (normal)
Software : Adobe Photoshop 26.8 (Windows)
Modify Date : 2025:06:30 20:29:08
Artist : Barry Gossage fo-tik.photography
Copyright : Copyright 2025 all rights reserved
Exposure Time : 1/2500
F Number : 6.3
Exposure Program : Manual
ISO : 7200
Sensitivity Type : Recommended Exposure Index
Recommended Exposure Index : 7200
Date/Time Original : 2025:06:30 08:43:30
Create Date : 2025:06:30 08:43:30
Shutter Speed Value : 1/2500
Aperture Value : 6.3
Exposure Compensation : 0
Subject Distance : 12.59 m
Metering Mode : Other
Light Source : Unknown
Flash : No Flash
Focal Length : 400.0 mm
User Comment : fo-tik.photographyBarry_Gossage_2024
Color Space : Uncalibrated
Exif Image Width : 1290
Exif Image Height : 978
Sensing Method : One-chip color area
Scene Type : Directly photographed
CFA Pattern : [Red,Green][Green,Blue]
Custom Rendered : Custom
Exposure Mode : Manual
White Balance : Auto
Focal Length In 35mm Format : 600 mm
Scene Capture Type : Standard
Gain Control : High gain up
Contrast : Normal
Saturation : Normal
Sharpness : Soft
Subject Distance Range : Unknown
Serial Number : 3027201
Lens Info : 100-400mm f/4.5-5.6
Lens Model : NIKKOR Z 100-400mm f/4.5-5.6 VR S
By-line : Barry Gossage fo-tik.photogr
Copyright Notice : Copyright 2025 all rights reserved
Creator Tool : DxO PureRAW 5
Rating : 0
Preserved File Name : _BXG3907.NEF
White Level : 30750
Adobe White Level : 29024
Lens : NIKKOR Z 100-400mm f/4.5-5.6 VR S
Image Number : 3906
Approximate Focus Distance : 12.59
Date Created : 2025:06:30 08:43:30.024-08:00
Color Mode : RGB
ICC Profile Name : Rec. 2020
Format : image/jpeg
Version : 17.4
Process Version : 15.4
Color Temperature : 4650
Tint : +21
Exposure 2012 : +0.82
Contrast 2012 : +7
Highlights 2012 : -66
Shadows 2012 : +48
Whites 2012 : +25
Blacks 2012 : -34
Texture : +3
Clarity 2012 : +12
Dehaze : +12
Vibrance : +20
Parametric Shadows : 0
Parametric Darks : 0
Parametric Lights : 0
Parametric Highlights : 0
Parametric Shadow Split : 25
Parametric Midtone Split : 50
Parametric Highlight Split : 75
Luminance Smoothing : 0
Color Noise Reduction : 0
Hue Adjustment Red : 0
Hue Adjustment Orange : 0
Hue Adjustment Yellow : 0
Hue Adjustment Green : 0
Hue Adjustment Aqua : 0
Hue Adjustment Blue : 0
Hue Adjustment Purple : 0
Hue Adjustment Magenta : 0
Saturation Adjustment Red : 0
Saturation Adjustment Orange : 0
Saturation Adjustment Yellow : 0
Saturation Adjustment Green : 0
Saturation Adjustment Aqua : 0
Saturation Adjustment Blue : 0
Saturation Adjustment Purple : 0
Saturation Adjustment Magenta : 0
Luminance Adjustment Red : 0
Luminance Adjustment Orange : 0
Luminance Adjustment Yellow : 0
Luminance Adjustment Green : 0
Luminance Adjustment Aqua : 0
Luminance Adjustment Blue : 0
Luminance Adjustment Purple : 0
Luminance Adjustment Magenta : 0
Split Toning Shadow Hue : 0
Split Toning Shadow Saturation : 0
Split Toning Highlight Hue : 0
Split Toning Highlight Saturation : 0
Split Toning Balance : 0
Color Grade Midtone Hue : 0
Color Grade Midtone Sat : 0
Color Grade Shadow Lum : 0
Color Grade Midtone Lum : 0
Color Grade Highlight Lum : 0
Color Grade Blending : 50
Color Grade Global Hue : 0
Color Grade Global Sat : 0
Color Grade Global Lum : 0
Auto Lateral CA : 0
Lens Profile Enable : 0
Lens Manual Distortion Amount : 0
Vignette Amount : 0
Defringe Purple Amount : 0
Defringe Purple Hue Lo : 30
Defringe Purple Hue Hi : 70
Defringe Green Amount : 0
Defringe Green Hue Lo : 40
Defringe Green Hue Hi : 60
Perspective Upright : Off
Perspective Vertical : 0
Perspective Horizontal : 0
Perspective Rotate : 0.0
Perspective Aspect : 0
Perspective Scale : 100
Perspective X : 0.00
Perspective Y : 0.00
Grain Amount : 0
Post Crop Vignette Amount : 0
Shadow Tint : 0
Red Hue : 0
Red Saturation : 0
Green Hue : 0
Green Saturation : 0
Blue Hue : 0
Blue Saturation : 0
HDR Edit Mode : 0
Override Look Vignette : False
Tone Curve Name 2012 : Linear
Camera Profile : Adobe Standard
Has Settings : True
Has Crop : False
Already Applied : True
Creator : Barry Gossage fo-tik.photography
Rights : Copyright 2025 all rights reserved
Tone Curve PV2012 : 0, 0, 255, 255
Tone Curve PV2012 Red : 0, 0, 255, 255
Tone Curve PV2012 Green : 0, 0, 255, 255
Tone Curve PV2012 Blue : 0, 0, 255, 255
Point Colors : -1.000000, -1.000000, -1.000000, -1.000000, -1.000000, -1.000000, -1.000000, -1.000000, -1.000000, -1.000000, -1.000000, -1.000000, -1.000000, -1.000000, -1.000000, -1.000000, -1.000000, -1.000000, -1.000000
Color Variance : -50.000000
Look Name : Adobe Color
Look Amount : 1
Look Parameters Version : 17.4
Look Parameters Process Version : 15.4
Look Parameters Convert To Grayscale : False
Look Parameters Camera Profile : Adobe Standard
Look Parameters Look Table : E1095149FDB39D7A057BAB208837E2E1
Look Parameters Tone Curve PV2012 : 0, 0, 22, 16, 40, 35, 127, 127, 224, 230, 240, 246, 255, 255
Profile Description : Rec. 2020
Image Width : 400
Image Height : 303
Bits Per Sample : 8
Color Components : 3
Aperture : 6.3
Image Size : 400x303
Megapixels : 0.121
Scale Factor To 35 mm Equivalent : 1.5
Shutter Speed : 1/2500
Create Date : 2025:06:30 08:43:30.24-08:00
Date/Time Original : 2025:06:30 08:43:30.24-08:00
Modify Date : 2025:06:30 20:29:08-07:00
Circle Of Confusion : 0.020 mm
Depth Of Field : 0.24 m (12.47 - 12.71 m)
Field Of View : 3.4 deg
Focal Length : 400.0 mm (35 mm equivalent: 600.0 mm)
Hyperfocal Distance : 1267.89 m
Light Value : 10.4
Lens ID : NIKKOR Z 100-400mm f/4.5-5.6 VR S