Uber Exif Photo
Make : NIKON CORPORATION
Camera Model Name : NIKON Z 9
Software : Adobe Photoshop Lightroom Classic 14.5.1 (Macintosh)
Modify Date : 2025:10:06 14:40:07
Copyright : AJRIMAGES
Exposure Time : 1/8000
F Number : 5.6
Exposure Program : Manual
ISO : 800
Sensitivity Type : Recommended Exposure Index
Recommended Exposure Index : 800
Date/Time Original : 2025:10:03 15:41:17
Create Date : 2025:10:03 15:41:17
Shutter Speed Value : 1/8000
Aperture Value : 5.6
Exposure Compensation : +1/3
Metering Mode : Multi-segment
Light Source : Unknown
Flash : No Flash
Focal Length : 560.0 mm
Color Space : sRGB
Sensing Method : One-chip color area
Scene Type : Directly photographed
CFA Pattern : [Red,Green][Green,Blue]
Custom Rendered : Custom
Exposure Mode : Manual
White Balance : Auto
Focal Length In 35mm Format : 560 mm
Scene Capture Type : Standard
Gain Control : None
Contrast : Normal
Saturation : Normal
Sharpness : Normal
Subject Distance Range : Unknown
Serial Number : 3022527
Lens Info : 560mm f/4
Lens Make : NIKON
Lens Model : NIKKOR Z 400mm f/2.8 TC VR S
Lens Serial Number : 20007302
Keywords : 2025, Huntington Beach Air Show
Copyright Notice : AJRIMAGES
Profile Description : sRGB IEC61966-2.1
Creator Tool : Adobe Photoshop Lightroom Classic 14.5.1 (Macintosh)
Format : image/jpeg
Lens : NIKKOR Z 400mm f/2.8 TC VR S
Image Number : 31150
Distortion Correction Already Applied : True
Lateral Chromatic Aberration Correction Already Applied:
True
Vignette Correction Already Applied : True
Date Created : 2025:10:03 15:41:17.86-07:00
Preserved File Name : _AJR1153.NEF
Pick : 0
Raw File Name : _AJR1153.NEF
Version : 17.5
Compatible Version : 285212672
Process Version : 15.4
Color Temperature : 5650
Tint : +17
Exposure 2012 : +1.05
Contrast 2012 : +48
Highlights 2012 : -64
Shadows 2012 : +76
Whites 2012 : 0
Blacks 2012 : +13
Texture : +8
Clarity 2012 : +30
Dehaze : +51
Vibrance : 0
Parametric Shadows : 0
Parametric Darks : 0
Parametric Lights : 0
Parametric Highlights : 0
Parametric Shadow Split : 25
Parametric Midtone Split : 50
Parametric Highlight Split : 75
Sharpen Radius : +1.0
Sharpen Detail : 25
Sharpen Edge Masking : 17
Luminance Smoothing : 0
Luminance Noise Reduction Detail : 75
Color Noise Reduction : 0
Hue Adjustment Red : 0
Hue Adjustment Orange : 0
Hue Adjustment Yellow : 0
Hue Adjustment Green : 0
Hue Adjustment Aqua : 0
Hue Adjustment Blue : 0
Hue Adjustment Purple : 0
Hue Adjustment Magenta : 0
Saturation Adjustment Red : 0
Saturation Adjustment Orange : 0
Saturation Adjustment Yellow : 0
Saturation Adjustment Green : 0
Saturation Adjustment Aqua : 0
Saturation Adjustment Blue : 0
Saturation Adjustment Purple : 0
Saturation Adjustment Magenta : 0
Luminance Adjustment Red : 0
Luminance Adjustment Orange : 0
Luminance Adjustment Yellow : 0
Luminance Adjustment Green : 0
Luminance Adjustment Aqua : 0
Luminance Adjustment Blue : 0
Luminance Adjustment Purple : 0
Luminance Adjustment Magenta : 0
Split Toning Shadow Hue : 0
Split Toning Shadow Saturation : 0
Split Toning Highlight Hue : 0
Split Toning Highlight Saturation : 0
Split Toning Balance : 0
Color Grade Midtone Hue : 0
Color Grade Midtone Sat : 0
Color Grade Shadow Lum : 0
Color Grade Midtone Lum : 0
Color Grade Highlight Lum : 0
Color Grade Blending : 50
Color Grade Global Hue : 0
Color Grade Global Sat : 0
Color Grade Global Lum : 0
Auto Lateral CA : 1
Lens Profile Enable : 1
Lens Manual Distortion Amount : 0
Vignette Amount : 0
Defringe Purple Amount : 0
Defringe Purple Hue Lo : 30
Defringe Purple Hue Hi : 70
Defringe Green Amount : 0
Defringe Green Hue Lo : 40
Defringe Green Hue Hi : 60
Perspective Upright : Off
Perspective Vertical : 0
Perspective Horizontal : 0
Perspective Rotate : 0.0
Perspective Aspect : 0
Perspective Scale : 100
Perspective X : 0.00
Perspective Y : 0.00
Grain Amount : 0
Post Crop Vignette Amount : 0
Shadow Tint : 0
Red Hue : 0
Red Saturation : 0
Green Hue : 0
Green Saturation : 0
Blue Hue : 0
Blue Saturation : 0
HDR Edit Mode : 0
Convert To Grayscale : False
Override Look Vignette : False
Tone Curve Name 2012 : Linear
Camera Profile : Camera Standard
Lens Profile Setup : LensDefaults
Lens Profile Name : Camera Settings
Lens Profile Is Embedded : True
Lens Profile Distortion Scale : 100
Lens Profile Vignetting Scale : 100
Allow Filters : 1
Has Settings : True
Crop Top : 0.03341
Crop Left : 0.019102
Crop Bottom : 0.846913
Crop Right : 0.80528
Crop Angle : 0
Crop Constrain To Warp : 0
Crop Constrain To Unit Square : 1
Has Crop : True
Already Applied : True
Rights : AJRIMAGES
Subject : 2025, Huntington Beach Air Show
Camera Profiles Author : Adobe
Camera Profiles Make : NIKON CORPORATION
Camera Profiles Model : NIKON Z 9
Camera Profiles Unique Camera Model : Nikon Z 9
Camera Profiles Camera Raw Profile : True
Camera Profiles Auto Scale : False
Camera Profiles Lens : NIKKOR Z 400mm f/2.8 TC VR S
Camera Profiles Camera Pretty Name : Nikon Z 9
Camera Profiles Lens Pretty Name : NIKKOR Z 400mm f/2.8 TC VR S
Camera Profiles Profile Name : Camera Settings
Camera Profiles Sensor Format Factor : 1.003485
Camera Profiles Focal Length : 560
Camera Profiles Focus Distance : 10000
Camera Profiles Aperture Value : 4.970854
Camera Profiles Perspective Model Version : 2
Camera Profiles Perspective Model Image X Center:
0.511951
Camera Profiles Perspective Model Image Y Center:
0.489817
Camera Profiles Perspective Model Scale Factor:
0.979917
Camera Profiles Perspective Model Radial Distort Param 1:
13.294801
Camera Profiles Perspective Model Radial Distort Param 2:
3.035913
Camera Profiles Perspective Model Radial Distort Param 3:
-83216.09122
Camera Profiles Perspective Model Vignette Model Image X Center:
Camera Profiles Perspective Model Vignette Model Image Y Center:
Camera Profiles Perspective Model Vignette Model Vignette Model Param 1:
1
Camera Profiles Perspective Model Vignette Model Vignette Model Piecewise Param:
Weighted Flat Subject : 2025, Huntington Beach Air Show
Tone Curve PV2012 : 0, 0, 255, 255
Tone Curve PV2012 Red : 0, 0, 255, 255
Tone Curve PV2012 Green : 0, 0, 255, 255
Tone Curve PV2012 Blue : 0, 0, 255, 255
Point Colors : -1.000000, -1.000000, -1.000000, -1.000000, -1.000000, -1.000000, -1.000000, -1.000000, -1.000000, -1.000000, -1.000000, -1.000000, -1.000000, -1.000000, -1.000000, -1.000000, -1.000000, -1.000000, -1.000000
Color Variance : -50.000000
Filter List Filters Name : Enhance
Filter List Filters Title : $$$/CRaw/Filter/Title/Denoise=Denoise
Filter List Filters Filter ID : 1
Filter List Filters Min Display Version : 285212672
Filter List Filters Min Edit Version : 285212672
Filter List Filters Order Index N : 100000
Filter List Filters Order Index D : 1
Filter List Filters Src Bounds Top : 0
Filter List Filters Src Bounds Left : 0
Filter List Filters Src Bounds Bottom : 5520
Filter List Filters Src Bounds Right : 8280
Filter List Filters Dst Bounds Top : 0
Filter List Filters Dst Bounds Left : 0
Filter List Filters Dst Bounds Bottom : 5520
Filter List Filters Dst Bounds Right : 8280
Filter List Filters Src Default Crop Area Top : 8
Filter List Filters Src Default Crop Area Left:
12
Filter List Filters Src Default Crop Area Bottom:
5512
Filter List Filters Src Default Crop Area Right:
8268
Filter List Filters Dst Default Crop Area Top : 8
Filter List Filters Dst Default Crop Area Left:
Filter List Filters Dst Default Crop Area Bottom:
Filter List Filters Dst Default Crop Area Right:
Filter List Filters Should Delete Images Due To Upstream:
true
Filter List Filters Compressed Settings : 0DA5471E2D7C6364EFB8266EED12326C
Filter List Filters Images Reference Image Area Top:
0
Filter List Filters Images Reference Image Area Left:
Filter List Filters Images Reference Image Area Bottom:
5520
Filter List Filters Images Reference Image Area Right:
8280
Filter List Filters Images Reference Default Crop Area Top:
8
Filter List Filters Images Reference Default Crop Area Left:
Filter List Filters Images Reference Default Crop Area Bottom:
Filter List Filters Images Reference Default Crop Area Right:
Filter List Filters Images Blend Type : 1
Filter List Filters Images Blend White Balance Mode:
2
Filter List Filters Images Matrix Type A : 1
Filter List Filters Images Matrix Type B : 1
Filter List Filters Images Matrix Type C : 4
Filter List Filters Images Opacity : 1,1
B2C97AE425DD751B0E48A3ACAE79CF4A
Filter List Filters Images Blend Params : 0.700000000186265, 0.75, 1, 1
Filter List Filters Images Matrix Params A : 0.25, 0.25
Filter List Filters Images Matrix Params B : 0.25, 0.25
Filter List Filters Images Color Variations Linearization Map Polynomial:
0.0070383520796895, 0.0105279982089996, 0, 0.157919979654253, 0.0167812574654818, 0.0228003114461899, 0, 0.342004667967558, 0.0154126882553101, 0.0183616280555725, 0, 0.275424418970942
Filter List Filters Images Color Variations Black Levels Black:
0,1
E9536DABFDD96215FDCF23F304D71CDE
59B401F29C31CA184653F1807C2A815A
Filter List Filters Images Color Variations Image Group Size X:
Filter List Filters Images Color Variations Image Group Size Y:
Filter List Filters Images Color Variations Image Group Stage 3X:
8256
Filter List Filters Images Color Variations Image Group Stage 3Y:
5504
Filter List Filters Images Color Variations Image Group Pixel Type:
3
Filter List Filters Images Color Variations Image Group Planes:
Image Width : 400
Image Height : 276
Bits Per Sample : 8
Color Components : 3
Aperture : 5.6
Image Size : 400x276
Megapixels : 0.110
Scale Factor To 35 mm Equivalent : 1.0
Shutter Speed : 1/8000
Create Date : 2025:10:03 15:41:17.86-07:00
Date/Time Original : 2025:10:03 15:41:17.86-07:00
Modify Date : 2025:10:06 14:40:07-07:00
Circle Of Confusion : 0.030 mm
Field Of View : 3.7 deg
Focal Length : 560.0 mm (35 mm equivalent: 560.0 mm)
Hyperfocal Distance : 1863.79 m
Light Value : 14.9
Lens ID : NIKKOR Z 400mm f/2.8 TC VR S