Uber Exif Photo
Make : NIKON CORPORATION
Camera Model Name : NIKON D850
Software : Adobe Photoshop Lightroom Classic 15.1 (Windows)
Modify Date : 2026:01:01 21:58:21
Copyright : Tony Johansson 2024 All Righs Reserved.
Exposure Time : 0.6
F Number : 2.8
Exposure Program : Aperture-priority AE
ISO : 64
Sensitivity Type : Recommended Exposure Index
Recommended Exposure Index : 64
Date/Time Original : 2025:12:31 18:03:59
Create Date : 2025:12:31 18:03:59
Shutter Speed Value : 0.6
Aperture Value : 2.8
Exposure Compensation : 0
Max Aperture Value : 2.8
Metering Mode : Other
Light Source : Unknown
Flash : No Flash
Focal Length : 50.0 mm
Color Space : sRGB
Sensing Method : One-chip color area
Scene Type : Directly photographed
CFA Pattern : [Red,Green][Green,Blue]
Custom Rendered : Normal
Exposure Mode : Auto
White Balance : Auto
Focal Length In 35mm Format : 50 mm
Scene Capture Type : Standard
Gain Control : None
Contrast : Normal
Saturation : Normal
Sharpness : Normal
Subject Distance Range : Unknown
Serial Number : 6067175
Lens Info : 24-70mm f/2.8
Lens Model : TAMRON SP 24-70mm F/2.8 Di VC USD G2 A032N
Copyright Notice : Tony Johansson 2024 All Righs Reserved.
Profile Description : sRGB IEC61966-2.1
Creator Tool : Adobe Photoshop Lightroom Classic 15.1 (Windows)
Format : image/jpeg
Lens : TAMRON SP 24-70mm F/2.8 Di VC USD G2 A032N
Image Number : 12810
Approximate Focus Distance : 4.47
Distortion Correction Already Applied : True
Lateral Chromatic Aberration Correction Already Applied:
True
Vignette Correction Already Applied : True
Date Created : 2025:12:31 18:03:59.04+02:00
Preserved File Name : _8502478.NEF
Pick : 0
Raw File Name : _8502478.NEF
Version : 18.1
Compatible Version : 285212672
Process Version : 15.4
Auto White Version : 134348800
Color Temperature : 3450
Tint : 0
Exposure 2012 : +2.00
Contrast 2012 : +15
Highlights 2012 : -89
Shadows 2012 : +11
Whites 2012 : -73
Blacks 2012 : +15
Texture : +10
Clarity 2012 : +12
Dehaze : +9
Vibrance : +38
Parametric Shadows : 0
Parametric Darks : 0
Parametric Lights : 0
Parametric Highlights : 0
Parametric Shadow Split : 25
Parametric Midtone Split : 50
Parametric Highlight Split : 75
Sharpen Radius : +0.8
Sharpen Detail : 11
Sharpen Edge Masking : 100
Luminance Smoothing : 0
Color Noise Reduction : 0
Hue Adjustment Red : 0
Hue Adjustment Orange : 0
Hue Adjustment Yellow : 0
Hue Adjustment Green : 0
Hue Adjustment Aqua : 0
Hue Adjustment Blue : +15
Hue Adjustment Purple : 0
Hue Adjustment Magenta : 0
Saturation Adjustment Red : 0
Saturation Adjustment Orange : 0
Saturation Adjustment Yellow : 0
Saturation Adjustment Green : 0
Saturation Adjustment Aqua : 0
Saturation Adjustment Blue : +9
Saturation Adjustment Purple : 0
Saturation Adjustment Magenta : 0
Luminance Adjustment Red : 0
Luminance Adjustment Orange : 0
Luminance Adjustment Yellow : 0
Luminance Adjustment Green : 0
Luminance Adjustment Aqua : 0
Luminance Adjustment Blue : -6
Luminance Adjustment Purple : 0
Luminance Adjustment Magenta : 0
Split Toning Shadow Hue : 0
Split Toning Shadow Saturation : 0
Split Toning Highlight Hue : 0
Split Toning Highlight Saturation : 0
Split Toning Balance : 0
Color Grade Midtone Hue : 0
Color Grade Midtone Sat : 0
Color Grade Shadow Lum : 0
Color Grade Midtone Lum : 0
Color Grade Highlight Lum : 0
Color Grade Blending : 50
Color Grade Global Hue : 0
Color Grade Global Sat : 0
Color Grade Global Lum : 0
Auto Lateral CA : 1
Lens Profile Enable : 1
Lens Manual Distortion Amount : 0
Vignette Amount : 0
Defringe Purple Amount : 0
Defringe Purple Hue Lo : 30
Defringe Purple Hue Hi : 70
Defringe Green Amount : 0
Defringe Green Hue Lo : 40
Defringe Green Hue Hi : 60
Perspective Upright : Off
Perspective Vertical : 0
Perspective Horizontal : 0
Perspective Rotate : 0.0
Perspective Aspect : 0
Perspective Scale : 100
Perspective X : 0.00
Perspective Y : 0.00
Grain Amount : 0
Post Crop Vignette Amount : -21
Post Crop Vignette Midpoint : 59
Post Crop Vignette Feather : 50
Post Crop Vignette Roundness : +41
Post Crop Vignette Style : Highlight Priority
Post Crop Vignette Highlight Contrast : 0
Shadow Tint : 0
Red Hue : 0
Red Saturation : 0
Green Hue : 0
Green Saturation : 0
Blue Hue : 0
Blue Saturation : 0
HDR Edit Mode : 0
Override Look Vignette : False
Tone Curve Name 2012 : Linear
Camera Profile : Adobe Standard
Lens Profile Setup : LensDefaults
Lens Profile Name : Adobe (TAMRON SP 24-70mm F/2.8 Di VC USD G2 A032N, NIKON CORPORATION)
Lens Profile Filename : NIKON CORPORATION (TAMRON SP 24-70mm F_2.8 Di VC USD G2 A032N) - RAW.lcp
Lens Profile Is Embedded : False
Lens Profile Distortion Scale : 100
Lens Profile Vignetting Scale : 100
Allow Filters : 1
Has Settings : True
Crop Top : 0.141379
Crop Left : 0.14138
Crop Bottom : 1
Crop Right : 1
Crop Angle : 0
Crop Constrain To Warp : 0
Crop Constrain To Unit Square : 1
Has Crop : True
Already Applied : True
Rights : Tony Johansson 2024 All Righs Reserved.
Tone Curve PV2012 : 0, 0, 255, 255
Tone Curve PV2012 Red : 0, 0, 255, 255
Tone Curve PV2012 Green : 0, 0, 255, 255
Tone Curve PV2012 Blue : 0, 0, 255, 255
Point Colors : 0.104536, 0.511289, 0.737927, 0.000000, 0.000000, -0.300000, 0.500000, 0.000000, 0.330000, 0.670000, 1.000000, 0.000000, 0.330000, 0.690000, 1.000000, 0.140000, 0.690000, 1.000000, 1.000000
Color Variance : 0.000000
Remove Areas Spot Type : heal_patchmatch
Remove Areas Source State : sourceAutoComputed
Remove Areas Opacity : 1
Remove Areas Seed : 2
Remove Areas Pm patch : 8169AD5F1464B11E55AC85D257CEFD9D
Remove Areas Pm remap info 0 : 0.027573053,1.000000000,0.000000000,1.000000000
Remove Areas Pm remap info 1 : 0.026688030,1.000000000,0.000000000,1.000000000
Remove Areas Pm remap info 2 : 0.026596475,0.993652225,0.000000000,1.000000000
Remove Areas Pm gamma type : 1
Remove Areas Pm whole image top : 8
Remove Areas Pm whole image left : 16
Remove Areas Pm whole image bottom : 5512
Remove Areas Pm whole image right : 8272
Remove Areas Pm target top : 2725
Remove Areas Pm target left : 1013
Remove Areas Pm target bottom : 3780
Remove Areas Pm target right : 1487
Remove Areas Pm search top : 2478
Remove Areas Pm search left : 766
Remove Areas Pm search bottom : 4026
Remove Areas Pm search right : 1970
Remove Areas Pm source type : full
Remove Areas Pm version : 327680
Remove Areas Fill method : firefly
Remove Areas Pm black level : 1689
Remove Areas Pm patch mask : BE76ED5673B2E1E719B99EE601F14F72
Remove Areas Pm mask remap info : 0.000000000,1.000000000,0.000000000,1.000000000
Remove Areas Pm current variation index : 1
Remove Areas Pm clio model version : clio-erase-2.0#epoch=0-step=4000.clio-erase-c2-2025-03-19T10-37-32
Remove Areas Ingest Info : F35E6ACDF0657AC64200E3927135ACFC
Remove Areas Pm remap info variation 0 0 : 0.027588312,1.000000000,0.000000000,1.000000000
Remove Areas Pm remap info variation 0 1 : 0.026688030,1.000000000,0.000000000,1.000000000
Remove Areas Pm remap info variation 0 2 : 0.026596475,0.993652225,0.000000000,1.000000000
Remove Areas Pm remap info variation 1 0 : 0.027573053,1.000000000,0.000000000,1.000000000
Remove Areas Pm remap info variation 1 1 : 0.026688030,1.000000000,0.000000000,1.000000000
Remove Areas Pm remap info variation 1 2 : 0.026596475,0.993652225,0.000000000,1.000000000
Remove Areas Pm patch variations Pm patch variation:
5690E726E054DA8F660BC3C36FAF7D39
Remove Areas Masks What : Mask/Image
Remove Areas Masks Mask Active : true
Remove Areas Masks Mask Blend Mode : 0
Remove Areas Masks Mask Inverted : false
Remove Areas Masks Mask Sync ID : 472FB5B6C18AB04A958B40642CC9B509
Remove Areas Masks Mask Value : 1
Remove Areas Masks Mask Version : 1
Remove Areas Masks Mask Sub Type : 0
Remove Areas Masks Reference Point : 0.146947 0.541557
Remove Areas Masks Whole Image Area : 91086/32768,182185/32768,62757938/32768,94189655/32768
Remove Areas Masks Origin : 362,972
Remove Areas Masks Full Mask Size : 2880,1918
Remove Areas Masks Model Version : 234881976
Remove Areas Masks Gesture What : Mask/Paint
Remove Areas Masks Gesture Mask Active : true
Remove Areas Masks Gesture Mask Blend Mode : 0
Remove Areas Masks Gesture Mask Inverted : false
Remove Areas Masks Gesture Mask Sync ID : 3EE84DC78F1ECB47864BF625373619FD
Remove Areas Masks Gesture Mask Value : 1
Remove Areas Masks Gesture Radius : 0
Remove Areas Masks Gesture Flow : 1
Remove Areas Masks Gesture Center Weight : 0
Remove Areas Masks Gesture Brush Gesture Interpretation:
0
Remove Areas Masks Radius : 0.017419
Remove Areas Masks Flow : 1
Remove Areas Masks Center Weight : 1
100
Filter List Filters Name : Enhance
Filter List Filters Title : $$$/CRaw/Filter/Title/Denoise=Denoise
Filter List Filters Filter ID : 1
Filter List Filters Min Display Version : 285212672
Filter List Filters Min Edit Version : 285212672
Filter List Filters Order Index N : 100000
Filter List Filters Order Index D : 1
Filter List Filters Src Bounds Top : 0
Filter List Filters Src Bounds Left : 0
Filter List Filters Src Bounds Bottom : 5520
Filter List Filters Src Bounds Right : 8288
Filter List Filters Dst Bounds Top : 0
Filter List Filters Dst Bounds Left : 0
Filter List Filters Dst Bounds Bottom : 5520
Filter List Filters Dst Bounds Right : 8288
Filter List Filters Src Default Crop Area Top : 8
Filter List Filters Src Default Crop Area Left:
16
Filter List Filters Src Default Crop Area Bottom:
5512
Filter List Filters Src Default Crop Area Right:
8272
Filter List Filters Dst Default Crop Area Top : 8
Filter List Filters Dst Default Crop Area Left:
Filter List Filters Dst Default Crop Area Bottom:
Filter List Filters Dst Default Crop Area Right:
Filter List Filters Should Delete Images Due To Upstream:
true
Filter List Filters Compressed Settings : C6A12FF54B9B741A8475A0193EF7C77E
Filter List Filters Images Reference Image Area Top:
Filter List Filters Images Reference Image Area Left:
Filter List Filters Images Reference Image Area Bottom:
5520
Filter List Filters Images Reference Image Area Right:
8288
Filter List Filters Images Reference Default Crop Area Top:
8
Filter List Filters Images Reference Default Crop Area Left:
Filter List Filters Images Reference Default Crop Area Bottom:
Filter List Filters Images Reference Default Crop Area Right:
Filter List Filters Images Blend Type : 1
Filter List Filters Images Blend White Balance Mode:
2
Filter List Filters Images Matrix Type A : 1
Filter List Filters Images Matrix Type B : 1
Filter List Filters Images Matrix Type C : 4
Filter List Filters Images Opacity : 1,1
B2C97AE425DD751B0E48A3ACAE79CF4A
Filter List Filters Images Blend Params : 0.700000000186265, 0.75, 1, 1
Filter List Filters Images Matrix Params A : 0.25, 0.25
Filter List Filters Images Matrix Params B : 0.25, 0.25
Filter List Filters Images Color Variations Linearization Map Polynomial:
0.000203615054488182, 0.0624872744083405, 0, 0.937309110537171, 0.000391567125916481, 0.0624755267053843, 0, 0.937132906168699, 0.000234940089285374, 0.062485315836966, 0, 0.937279743142426
Filter List Filters Images Color Variations Black Levels Black:
0,1
5F2851FF25F95C61DBF8960B6715E9A9
971EA74ECD95F96C0D0FEC3463C13D14
Filter List Filters Images Color Variations Image Group Size X:
Filter List Filters Images Color Variations Image Group Size Y:
Filter List Filters Images Color Variations Image Group Stage 3X:
8256
Filter List Filters Images Color Variations Image Group Stage 3Y:
5504
Filter List Filters Images Color Variations Image Group Pixel Type:
3
Filter List Filters Images Color Variations Image Group Planes:
Look Name : Adobe Color
Look Amount : 1
Look Supports Amount : false
Look Supports Monochrome : false
Look Supports Output Referred : false
Look Copyright : © 2018 Adobe Systems, Inc.
Look Group : Profiles
Look Parameters Version : 18.1
Look Parameters Process Version : 15.4
Look Parameters Convert To Grayscale : False
Look Parameters Camera Profile : Adobe Standard
Look Parameters Look Table : E1095149FDB39D7A057BAB208837E2E1
Look Parameters Tone Curve PV2012 : 0, 0, 22, 16, 40, 35, 127, 127, 224, 230, 240, 246, 255, 255
Look Parameters Tone Curve PV2012 Red : 0, 0, 255, 255
Look Parameters Tone Curve PV2012 Green : 0, 0, 255, 255
Look Parameters Tone Curve PV2012 Blue : 0, 0, 255, 255
Look Parameters Point Colors : -1.000000, -1.000000, -1.000000, -1.000000, -1.000000, -1.000000, -1.000000, -1.000000, -1.000000, -1.000000, -1.000000, -1.000000, -1.000000, -1.000000, -1.000000, -1.000000, -1.000000, -1.000000, -1.000000
Look Parameters Color Variance : -50.000000
Image Width : 267
Image Height : 400
Bits Per Sample : 8
Color Components : 3
Aperture : 2.8
Image Size : 267x400
Megapixels : 0.107
Scale Factor To 35 mm Equivalent : 1.0
Shutter Speed : 0.6
Create Date : 2025:12:31 18:03:59.04+02:00
Date/Time Original : 2025:12:31 18:03:59.04+02:00
Modify Date : 2026:01:01 21:58:21+01:00
Circle Of Confusion : 0.030 mm
Depth Of Field : 1.36 m (3.89 - 5.25 m)
Field Of View : 39.6 deg
Focal Length : 50.0 mm (35 mm equivalent: 50.0 mm)
Hyperfocal Distance : 29.72 m
Light Value : 4.4
Lens ID : Tamron SP 24-70mm f/2.8 Di VC USD G2 (A032)