Uber Exif Photo
Make : NIKON CORPORATION
Camera Model Name : NIKON D850
Software : Adobe Photoshop Lightroom Classic 15.1 (Windows)
Modify Date : 2026:01:01 22:09:57
Copyright : Tony Johansson 2024 All Righs Reserved.
Exposure Time : 4
F Number : 2.8
Exposure Program : Aperture-priority AE
ISO : 64
Sensitivity Type : Recommended Exposure Index
Recommended Exposure Index : 64
Date/Time Original : 2025:12:31 18:05:02
Create Date : 2025:12:31 18:05:02
Shutter Speed Value : 4
Aperture Value : 2.8
Exposure Compensation : 0
Max Aperture Value : 2.8
Metering Mode : Other
Light Source : Unknown
Flash : No Flash
Focal Length : 50.0 mm
Color Space : sRGB
Sensing Method : One-chip color area
Scene Type : Directly photographed
CFA Pattern : [Red,Green][Green,Blue]
Custom Rendered : Normal
Exposure Mode : Auto
White Balance : Auto
Focal Length In 35mm Format : 50 mm
Scene Capture Type : Standard
Gain Control : None
Contrast : Normal
Saturation : Normal
Sharpness : Normal
Subject Distance Range : Unknown
Serial Number : 6067175
Lens Info : 24-70mm f/2.8
Lens Model : TAMRON SP 24-70mm F/2.8 Di VC USD G2 A032N
Copyright Notice : Tony Johansson 2024 All Righs Reserved.
Profile Description : sRGB IEC61966-2.1
Creator Tool : Adobe Photoshop Lightroom Classic 15.1 (Windows)
Format : image/jpeg
Lens : TAMRON SP 24-70mm F/2.8 Di VC USD G2 A032N
Image Number : 12819
Approximate Focus Distance : 4.47
Distortion Correction Already Applied : True
Lateral Chromatic Aberration Correction Already Applied:
True
Vignette Correction Already Applied : True
Date Created : 2025:12:31 18:05:02.90+02:00
Preserved File Name : _8502487.NEF
Pick : 0
Raw File Name : _8502487.NEF
Version : 18.1
Compatible Version : 285212672
Process Version : 15.4
Auto White Version : 134348800
Color Temperature : 4000
Tint : 0
Exposure 2012 : +0.07
Contrast 2012 : +5
Highlights 2012 : -100
Shadows 2012 : -1
Whites 2012 : -89
Blacks 2012 : -26
Texture : +26
Clarity 2012 : +16
Dehaze : 0
Vibrance : +15
Parametric Shadows : 0
Parametric Darks : 0
Parametric Lights : 0
Parametric Highlights : 0
Parametric Shadow Split : 25
Parametric Midtone Split : 50
Parametric Highlight Split : 75
Sharpen Radius : +0.7
Sharpen Detail : 45
Sharpen Edge Masking : 71
Luminance Smoothing : 0
Color Noise Reduction : 0
Hue Adjustment Red : 0
Hue Adjustment Orange : 0
Hue Adjustment Yellow : 0
Hue Adjustment Green : 0
Hue Adjustment Aqua : 0
Hue Adjustment Blue : +4
Hue Adjustment Purple : 0
Hue Adjustment Magenta : 0
Saturation Adjustment Red : 0
Saturation Adjustment Orange : 0
Saturation Adjustment Yellow : +18
Saturation Adjustment Green : 0
Saturation Adjustment Aqua : 0
Saturation Adjustment Blue : +4
Saturation Adjustment Purple : 0
Saturation Adjustment Magenta : 0
Luminance Adjustment Red : 0
Luminance Adjustment Orange : 0
Luminance Adjustment Yellow : +53
Luminance Adjustment Green : 0
Luminance Adjustment Aqua : 0
Luminance Adjustment Blue : +11
Luminance Adjustment Purple : 0
Luminance Adjustment Magenta : 0
Split Toning Shadow Hue : 0
Split Toning Shadow Saturation : 0
Split Toning Highlight Hue : 0
Split Toning Highlight Saturation : 0
Split Toning Balance : 0
Color Grade Midtone Hue : 0
Color Grade Midtone Sat : 0
Color Grade Shadow Lum : 0
Color Grade Midtone Lum : 0
Color Grade Highlight Lum : 0
Color Grade Blending : 50
Color Grade Global Hue : 0
Color Grade Global Sat : 0
Color Grade Global Lum : 0
Auto Lateral CA : 1
Lens Profile Enable : 1
Lens Manual Distortion Amount : 0
Vignette Amount : 0
Defringe Purple Amount : 0
Defringe Purple Hue Lo : 30
Defringe Purple Hue Hi : 70
Defringe Green Amount : 0
Defringe Green Hue Lo : 40
Defringe Green Hue Hi : 60
Perspective Upright : Off
Perspective Vertical : 0
Perspective Horizontal : 0
Perspective Rotate : 0.0
Perspective Aspect : 0
Perspective Scale : 100
Perspective X : 0.00
Perspective Y : 0.00
Grain Amount : 0
Post Crop Vignette Amount : 0
Shadow Tint : 0
Red Hue : 0
Red Saturation : 0
Green Hue : 0
Green Saturation : 0
Blue Hue : 0
Blue Saturation : 0
HDR Edit Mode : 0
Override Look Vignette : False
Tone Curve Name 2012 : Linear
Camera Profile : Adobe Standard
Lens Profile Setup : LensDefaults
Lens Profile Name : Adobe (TAMRON SP 24-70mm F/2.8 Di VC USD G2 A032N, NIKON CORPORATION)
Lens Profile Filename : NIKON CORPORATION (TAMRON SP 24-70mm F_2.8 Di VC USD G2 A032N) - RAW.lcp
Lens Profile Is Embedded : False
Lens Profile Distortion Scale : 100
Lens Profile Vignetting Scale : 100
Allow Filters : 1
Has Settings : True
Crop Top : 0.223992
Crop Left : 0.22192
Crop Bottom : 0.995327
Crop Right : 1
Crop Angle : -0.23
Crop Constrain To Warp : 0
Crop Constrain To Unit Square : 1
Has Crop : True
Already Applied : True
Rights : Tony Johansson 2024 All Righs Reserved.
Tone Curve PV2012 : 0, 0, 255, 255
Tone Curve PV2012 Red : 0, 0, 255, 255
Tone Curve PV2012 Green : 0, 0, 255, 255
Tone Curve PV2012 Blue : 0, 0, 255, 255
Point Colors : -1.000000, -1.000000, -1.000000, -1.000000, -1.000000, -1.000000, -1.000000, -1.000000, -1.000000, -1.000000, -1.000000, -1.000000, -1.000000, -1.000000, -1.000000, -1.000000, -1.000000, -1.000000, -1.000000
Color Variance : -50.000000
Filter List Filters Name : Enhance
Filter List Filters Title : $$$/CRaw/Filter/Title/Denoise=Denoise
Filter List Filters Filter ID : 1
Filter List Filters Min Display Version : 285212672
Filter List Filters Min Edit Version : 285212672
Filter List Filters Order Index N : 100000
Filter List Filters Order Index D : 1
Filter List Filters Src Bounds Top : 0
Filter List Filters Src Bounds Left : 0
Filter List Filters Src Bounds Bottom : 5520
Filter List Filters Src Bounds Right : 8288
Filter List Filters Dst Bounds Top : 0
Filter List Filters Dst Bounds Left : 0
Filter List Filters Dst Bounds Bottom : 5520
Filter List Filters Dst Bounds Right : 8288
Filter List Filters Src Default Crop Area Top : 8
Filter List Filters Src Default Crop Area Left:
16
Filter List Filters Src Default Crop Area Bottom:
5512
Filter List Filters Src Default Crop Area Right:
8272
Filter List Filters Dst Default Crop Area Top : 8
Filter List Filters Dst Default Crop Area Left:
Filter List Filters Dst Default Crop Area Bottom:
Filter List Filters Dst Default Crop Area Right:
Filter List Filters Should Delete Images Due To Upstream:
true
Filter List Filters Compressed Settings : C6A12FF54B9B741A8475A0193EF7C77E
Filter List Filters Images Reference Image Area Top:
0
Filter List Filters Images Reference Image Area Left:
Filter List Filters Images Reference Image Area Bottom:
5520
Filter List Filters Images Reference Image Area Right:
8288
Filter List Filters Images Reference Default Crop Area Top:
8
Filter List Filters Images Reference Default Crop Area Left:
Filter List Filters Images Reference Default Crop Area Bottom:
Filter List Filters Images Reference Default Crop Area Right:
Filter List Filters Images Blend Type : 1
Filter List Filters Images Blend White Balance Mode:
2
Filter List Filters Images Matrix Type A : 1
Filter List Filters Images Matrix Type B : 1
Filter List Filters Images Matrix Type C : 4
Filter List Filters Images Opacity : 1,1
B2C97AE425DD751B0E48A3ACAE79CF4A
Filter List Filters Images Blend Params : 0.700000000186265, 0.75, 1, 1
Filter List Filters Images Matrix Params A : 0.25, 0.25
Filter List Filters Images Matrix Params B : 0.25, 0.25
Filter List Filters Images Color Variations Linearization Map Polynomial:
0, 0.0625, 0, 0.9375, 0, 0.0625, 0, 0.9375, 0, 0.0625, 0, 0.9375
Filter List Filters Images Color Variations Black Levels Black:
4612,65535
8AB2C2A5DFEA70DFB39809C58B5162EA
11B94A85E47B9C3DE841E936F7EB266D
Filter List Filters Images Color Variations Image Group Size X:
Filter List Filters Images Color Variations Image Group Size Y:
Filter List Filters Images Color Variations Image Group Stage 3X:
8256
Filter List Filters Images Color Variations Image Group Stage 3Y:
5504
Filter List Filters Images Color Variations Image Group Pixel Type:
3
Filter List Filters Images Color Variations Image Group Planes:
Look Name : Adobe Color
Look Amount : 1
Look Supports Amount : false
Look Supports Monochrome : false
Look Supports Output Referred : false
Look Copyright : © 2018 Adobe Systems, Inc.
Look Group : Profiles
Look Parameters Version : 18.1
Look Parameters Process Version : 15.4
Look Parameters Convert To Grayscale : False
Look Parameters Camera Profile : Adobe Standard
Look Parameters Look Table : E1095149FDB39D7A057BAB208837E2E1
Look Parameters Tone Curve PV2012 : 0, 0, 22, 16, 40, 35, 127, 127, 224, 230, 240, 246, 255, 255
Look Parameters Tone Curve PV2012 Red : 0, 0, 255, 255
Look Parameters Tone Curve PV2012 Green : 0, 0, 255, 255
Look Parameters Tone Curve PV2012 Blue : 0, 0, 255, 255
Look Parameters Point Colors : -1.000000, -1.000000, -1.000000, -1.000000, -1.000000, -1.000000, -1.000000, -1.000000, -1.000000, -1.000000, -1.000000, -1.000000, -1.000000, -1.000000, -1.000000, -1.000000, -1.000000, -1.000000, -1.000000
Look Parameters Color Variance : -50.000000
Image Width : 267
Image Height : 400
Bits Per Sample : 8
Color Components : 3
Aperture : 2.8
Image Size : 267x400
Megapixels : 0.107
Scale Factor To 35 mm Equivalent : 1.0
Shutter Speed : 4
Create Date : 2025:12:31 18:05:02.90+02:00
Date/Time Original : 2025:12:31 18:05:02.90+02:00
Modify Date : 2026:01:01 22:09:57+01:00
Circle Of Confusion : 0.030 mm
Depth Of Field : 1.36 m (3.89 - 5.25 m)
Field Of View : 39.6 deg
Focal Length : 50.0 mm (35 mm equivalent: 50.0 mm)
Hyperfocal Distance : 29.72 m
Light Value : 1.6
Lens ID : Tamron SP 24-70mm f/2.8 Di VC USD G2 (A032)