Uber Exif Photo
Make : NIKON CORPORATION
Camera Model Name : NIKON D850
Software : Adobe Photoshop Lightroom Classic 15.2 (Windows)
Modify Date : 2026:03:24 01:45:54
Copyright : Tony Johansson 2024 All Righs Reserved.
Exposure Time : 1/320
F Number : 3.2
Exposure Program : Aperture-priority AE
ISO : 125
Sensitivity Type : Recommended Exposure Index
Recommended Exposure Index : 125
Date/Time Original : 2024:10:13 03:14:26
Create Date : 2024:10:13 03:14:26
Shutter Speed Value : 1/320
Aperture Value : 3.2
Exposure Compensation : 0
Max Aperture Value : 2.8
Metering Mode : Multi-segment
Light Source : Unknown
Flash : No Flash
Focal Length : 200.0 mm
Color Space : Uncalibrated
Sensing Method : One-chip color area
Scene Type : Directly photographed
CFA Pattern : [Red,Green][Green,Blue]
Custom Rendered : Normal
Exposure Mode : Auto
White Balance : Auto
Focal Length In 35mm Format : 200 mm
Scene Capture Type : Standard
Gain Control : None
Contrast : Normal
Saturation : Normal
Sharpness : Normal
Subject Distance Range : Unknown
Serial Number : 6067175
Lens Info : 70-200mm f/2.8
Lens Model : 70.0-200.0 mm f/2.8
GPS Version ID : 2.3.0.0
GPS Latitude Ref : North
GPS Longitude Ref : East
GPS Altitude Ref : Above Sea Level
GPS Time Stamp : 01:14:26
GPS Satellites : 08
GPS Map Datum : WGS84
GPS Date Stamp : 2024:10:13
Copyright Notice : Tony Johansson 2024 All Righs Reserved.
Profile Description : ProPhoto RGB
Creator Tool : Adobe Photoshop Lightroom Classic 15.2 (Windows)
Format : image/jpeg
Lens : 70.0-200.0 mm f/2.8
Image Number : 11559
Approximate Focus Distance : 39.8
Distortion Correction Already Applied : True
Lateral Chromatic Aberration Correction Already Applied:
True
Vignette Correction Already Applied : True
Date Created : 2024:10:13 03:14:26.51+02:00
Preserved File Name : _8501385.NEF
Pick : 0
Raw File Name : _8501385.NEF
Version : 18.2
Compatible Version : 285212672
Process Version : 15.4
Color Temperature : 4450
Tint : -22
Exposure 2012 : 0.00
Contrast 2012 : +7
Highlights 2012 : -100
Shadows 2012 : +100
Whites 2012 : -98
Blacks 2012 : +100
Texture : +41
Clarity 2012 : +36
Dehaze : +11
Vibrance : +14
Parametric Shadows : 0
Parametric Darks : 0
Parametric Lights : 0
Parametric Highlights : 0
Parametric Shadow Split : 25
Parametric Midtone Split : 50
Parametric Highlight Split : 75
Sharpen Radius : +0.5
Sharpen Detail : 40
Sharpen Edge Masking : 92
Luminance Smoothing : 0
Color Noise Reduction : 0
Hue Adjustment Red : 0
Hue Adjustment Orange : -2
Hue Adjustment Yellow : -57
Hue Adjustment Green : -7
Hue Adjustment Aqua : 0
Hue Adjustment Blue : +14
Hue Adjustment Purple : +5
Hue Adjustment Magenta : 0
Saturation Adjustment Red : 0
Saturation Adjustment Orange : 0
Saturation Adjustment Yellow : 0
Saturation Adjustment Green : 0
Saturation Adjustment Aqua : +13
Saturation Adjustment Blue : +13
Saturation Adjustment Purple : +5
Saturation Adjustment Magenta : 0
Luminance Adjustment Red : 0
Luminance Adjustment Orange : -2
Luminance Adjustment Yellow : -13
Luminance Adjustment Green : 0
Luminance Adjustment Aqua : 0
Luminance Adjustment Blue : +47
Luminance Adjustment Purple : +8
Luminance Adjustment Magenta : 0
Split Toning Shadow Hue : 0
Split Toning Shadow Saturation : 0
Split Toning Highlight Hue : 0
Split Toning Highlight Saturation : 0
Split Toning Balance : 0
Color Grade Midtone Hue : 0
Color Grade Midtone Sat : 0
Color Grade Shadow Lum : -17
Color Grade Midtone Lum : 0
Color Grade Highlight Lum : 0
Color Grade Blending : 50
Color Grade Global Hue : 0
Color Grade Global Sat : 0
Color Grade Global Lum : 0
Auto Lateral CA : 1
Lens Profile Enable : 1
Lens Manual Distortion Amount : 0
Vignette Amount : 0
Defringe Purple Amount : 0
Defringe Purple Hue Lo : 30
Defringe Purple Hue Hi : 70
Defringe Green Amount : 0
Defringe Green Hue Lo : 40
Defringe Green Hue Hi : 60
Perspective Upright : Auto
Perspective Vertical : 0
Perspective Horizontal : 0
Perspective Rotate : 0.0
Perspective Aspect : 0
Perspective Scale : 100
Perspective X : 0.00
Perspective Y : 0.00
Grain Amount : 0
Post Crop Vignette Amount : -38
Post Crop Vignette Midpoint : 61
Post Crop Vignette Feather : 68
Post Crop Vignette Roundness : +14
Post Crop Vignette Style : Highlight Priority
Post Crop Vignette Highlight Contrast : 0
Shadow Tint : 0
Red Hue : 0
Red Saturation : 0
Green Hue : -2
Green Saturation : -12
Blue Hue : 0
Blue Saturation : 0
HDR Edit Mode : 0
HDR Max Value : +4.00
Override Look Vignette : False
Tone Curve Name 2012 : Linear
Camera Profile : Adobe Standard
Lens Profile Setup : Custom
Lens Profile Name : Adobe (TAMRON SP 70-200mm F2.8 Di A001N, NIKON CORPORATION)
Lens Profile Filename : NIKON CORPORATION (TAMRON SP 70-200mm F2.8 Di A001N) - RAW.lcp
Lens Profile Is Embedded : False
Lens Profile Distortion Scale : 100
Lens Profile Vignetting Scale : 100
Allow Filters : 1
Has Settings : True
Crop Top : 0.316292
Crop Left : 0.343879
Crop Bottom : 0.75409
Crop Right : 0.781678
Crop Angle : 0
Crop Constrain To Warp : 0
Crop Constrain To Unit Square : 1
Has Crop : True
Already Applied : True
Rights : Tony Johansson 2024 All Righs Reserved.
Tone Curve PV2012 : 0, 0, 255, 255
Tone Curve PV2012 Red : 0, 0, 255, 255
Tone Curve PV2012 Green : 0, 0, 255, 255
Tone Curve PV2012 Blue : 0, 0, 255, 255
Point Colors : -1.000000, -1.000000, -1.000000, -1.000000, -1.000000, -1.000000, -1.000000, -1.000000, -1.000000, -1.000000, -1.000000, -1.000000, -1.000000, -1.000000, -1.000000, -1.000000, -1.000000, -1.000000, -1.000000
Color Variance : -50.000000
Remove Areas Spot Type : heal_patchmatch
Remove Areas Source State : sourceAutoComputed
Remove Areas Opacity : 1
Remove Areas Seed : 2
Remove Areas Pm patch : 56B8FF313D3F9A87DE84CDD43B229861
Remove Areas Pm remap info 0 : 0.029663539,0.072404057,0.000000000,1.000000000
Remove Areas Pm remap info 1 : 0.033112079,0.115251392,0.000000000,1.000000000
Remove Areas Pm remap info 2 : 0.031219959,0.092713818,0.000000000,1.000000000
Remove Areas Pm gamma type : 1
Remove Areas Pm whole image top : 8
Remove Areas Pm whole image left : 16
Remove Areas Pm whole image bottom : 5512
Remove Areas Pm whole image right : 8272
Remove Areas Pm target top : 2116
Remove Areas Pm target left : 3624
Remove Areas Pm target bottom : 2394
Remove Areas Pm target right : 3907
Remove Areas Pm search top : 1743
Remove Areas Pm search left : 3253
Remove Areas Pm search bottom : 2766
Remove Areas Pm search right : 4276
Remove Areas Pm source type : full
Remove Areas Pm version : 327680
Remove Areas Fill method : firefly
Remove Areas Pm black level : 1689
Remove Areas Pm patch mask : 030A9E8D54D4A2C6684BC2212C25A8EF
Remove Areas Pm mask remap info : 0.000000000,1.000000000,0.000000000,1.000000000
Remove Areas Pm clio model version : clio-erase-2.0#epoch=0-step=4000.clio-erase-c2-2025-03-19T10-37-32
Remove Areas Ingest Info : 759D2CDE87CAF40B0890C610C87A9572
Remove Areas Pm remap info variation 0 0 : 0.029617762,0.067277029,0.000000000,1.000000000
Remove Areas Pm remap info variation 0 1 : 0.032990005,0.106660560,0.000000000,1.000000000
Remove Areas Pm remap info variation 0 2 : 0.030899519,0.090745404,0.000000000,1.000000000
Remove Areas Pm remap info variation 1 0 : 0.029526208,0.088395514,0.000000000,1.000000000
Remove Areas Pm remap info variation 1 1 : 0.032532234,0.147234306,0.000000000,1.000000000
Remove Areas Pm remap info variation 1 2 : 0.030151827,0.127916381,0.000000000,1.000000000
Remove Areas Pm patch variations Pm patch variation:
2A2A7BC412F10FC7957ADDD03B86EABF
Remove Areas Masks What : Mask/Image
Remove Areas Masks Mask Active : true
Remove Areas Masks Mask Blend Mode : 0
Remove Areas Masks Mask Inverted : false
Remove Areas Masks Mask Sync ID : 25BB2D437C2E3E4193F2E16700883E90
Remove Areas Masks Mask Value : 1
Remove Areas Masks Mask Version : 1
Remove Areas Masks Mask Sub Type : 0
Remove Areas Masks Reference Point : 0.453125 0.407625
Remove Areas Masks Whole Image Area : 0/1,0/1,1920/1,2880/1
Remove Areas Masks Origin : 1262,739
Remove Areas Masks Full Mask Size : 2880,1920
Remove Areas Masks Model Version : 234881976
Remove Areas Masks Gesture What : Mask/Paint
Remove Areas Masks Gesture Mask Active : true
Remove Areas Masks Gesture Mask Blend Mode : 0
Remove Areas Masks Gesture Mask Inverted : false
Remove Areas Masks Gesture Mask Sync ID : 3D5C0C2965E97444943C433A2679FEB1
Remove Areas Masks Gesture Mask Value : 1
Remove Areas Masks Gesture Radius : 0
Remove Areas Masks Gesture Flow : 1
Remove Areas Masks Gesture Center Weight : 0
Remove Areas Masks Gesture Brush Gesture Interpretation:
0
Remove Areas Masks Radius : 0.005304
Remove Areas Masks Flow : 1
Remove Areas Masks Center Weight : 1
Remove Areas Pm current variation index : 1
2CF073C21047FCA4C31CEB5D1BCB18D9
100
2
1
Filter List Filters Name : Enhance
Filter List Filters Title : $$$/CRaw/Filter/Title/Denoise=Denoise
Filter List Filters Filter ID : 1
Filter List Filters Min Display Version : 285212672
Filter List Filters Min Edit Version : 285212672
Filter List Filters Order Index N : 100000
Filter List Filters Order Index D : 1
Filter List Filters Src Bounds Top : 0
Filter List Filters Src Bounds Left : 0
Filter List Filters Src Bounds Bottom : 5520
Filter List Filters Src Bounds Right : 8288
Filter List Filters Dst Bounds Top : 0
Filter List Filters Dst Bounds Left : 0
Filter List Filters Dst Bounds Bottom : 5520
Filter List Filters Dst Bounds Right : 8288
Filter List Filters Src Default Crop Area Top : 8
Filter List Filters Src Default Crop Area Left:
16
Filter List Filters Src Default Crop Area Bottom:
5512
Filter List Filters Src Default Crop Area Right:
8272
Filter List Filters Dst Default Crop Area Top : 8
Filter List Filters Dst Default Crop Area Left:
Filter List Filters Dst Default Crop Area Bottom:
Filter List Filters Dst Default Crop Area Right:
Filter List Filters Should Delete Images Due To Upstream:
true
Filter List Filters Compressed Settings : C6A12FF54B9B741A8475A0193EF7C77E
Filter List Filters Images Reference Image Area Top:
Filter List Filters Images Reference Image Area Left:
Filter List Filters Images Reference Image Area Bottom:
5520
Filter List Filters Images Reference Image Area Right:
8288
Filter List Filters Images Reference Default Crop Area Top:
8
Filter List Filters Images Reference Default Crop Area Left:
Filter List Filters Images Reference Default Crop Area Bottom:
Filter List Filters Images Reference Default Crop Area Right:
Filter List Filters Images Blend Type : 1
Filter List Filters Images Blend White Balance Mode:
Filter List Filters Images Matrix Type A : 1
Filter List Filters Images Matrix Type B : 1
Filter List Filters Images Matrix Type C : 4
Filter List Filters Images Opacity : 1,1
B2C97AE425DD751B0E48A3ACAE79CF4A
Filter List Filters Images Blend Params : 0.700000000186265, 0.75, 1, 1
Filter List Filters Images Matrix Params A : 0.25, 0.25
Filter List Filters Images Matrix Params B : 0.25, 0.25
Filter List Filters Images Color Variations Linearization Map Polynomial:
0.000814460217952728, 0.0612283851951361, 0, 0.918425782583654, 0.0019421735778451, 0.0623786142095923, 0, 0.935679212212563, 0.00128434039652348, 0.0622670175507665, 0, 0.934005262330174
Filter List Filters Images Color Variations Black Levels Black:
0,1
A93AE62C0F7F5B895D8B12B17D9CB4C9
9BECD8E55E7B931BDF82919E21BFBB1F
Filter List Filters Images Color Variations Image Group Size X:
Filter List Filters Images Color Variations Image Group Size Y:
Filter List Filters Images Color Variations Image Group Stage 3X:
8256
Filter List Filters Images Color Variations Image Group Stage 3Y:
5504
Filter List Filters Images Color Variations Image Group Pixel Type:
3
Filter List Filters Images Color Variations Image Group Planes:
Look Name : Adobe Color
Look Amount : 1
Look Supports Amount : false
Look Supports Monochrome : false
Look Supports Output Referred : false
Look Copyright : © 2018 Adobe Systems, Inc.
Look Group : Profiles
Look Parameters Version : 18.2
Look Parameters Process Version : 15.4
Look Parameters Convert To Grayscale : False
Look Parameters Camera Profile : Adobe Standard
Look Parameters Look Table : E1095149FDB39D7A057BAB208837E2E1
Look Parameters Tone Curve PV2012 : 0, 0, 22, 16, 40, 35, 127, 127, 224, 230, 240, 246, 255, 255
Look Parameters Tone Curve PV2012 Red : 0, 0, 255, 255
Look Parameters Tone Curve PV2012 Green : 0, 0, 255, 255
Look Parameters Tone Curve PV2012 Blue : 0, 0, 255, 255
Look Parameters Point Colors : -1.000000, -1.000000, -1.000000, -1.000000, -1.000000, -1.000000, -1.000000, -1.000000, -1.000000, -1.000000, -1.000000, -1.000000, -1.000000, -1.000000, -1.000000, -1.000000, -1.000000, -1.000000, -1.000000
Look Parameters Color Variance : -50.000000
Image Width : 400
Image Height : 267
Bits Per Sample : 8
Color Components : 3
Aperture : 3.2
Image Size : 400x267
Megapixels : 0.107
Scale Factor To 35 mm Equivalent : 1.0
Shutter Speed : 1/320
Create Date : 2024:10:13 03:14:26.51+02:00
Date/Time Original : 2024:10:13 03:14:26.51+02:00
Modify Date : 2026:03:24 01:45:54+01:00
GPS Altitude : 28 m Above Sea Level
GPS Date/Time : 2024:10:13 01:14:26Z
GPS Latitude : 44 deg 6' 8.89" N
GPS Longitude : 145 deg 3' 12.59" E
Circle Of Confusion : 0.030 mm
Depth Of Field : 7.65 m (36.34 - 43.99 m)
Field Of View : 10.3 deg
Focal Length : 200.0 mm (35 mm equivalent: 200.0 mm)
GPS Position : 44 deg 6' 8.89" N, 145 deg 3' 12.59" E
Hyperfocal Distance : 416.03 m
Light Value : 11.4
Lens ID : Tamron SP 70-200mm f/2.8 Di VC USD G2 (A025)