Uber Exif Photo
Make : NIKON CORPORATION
Camera Model Name : NIKON D5100
Orientation : Horizontal (normal)
Software : NX Studio 1.10 M
Modify Date : 2026:04:16 13:30:26
Exposure Time : 1/125
F Number : 5.6
Exposure Program : Not Defined
ISO : 400
Sensitivity Type : Recommended Exposure Index
Date/Time Original : 2014:06:15 12:31:11
Create Date : 2014:06:15 12:31:11
Shutter Speed Value : 0
Aperture Value : 5.6
Exposure Compensation : 0
Max Aperture Value : 3.6
Subject Distance : 0.84 m
Metering Mode : Multi-segment
Light Source : Unknown
Focal Length : 11.0 mm
Maker Note Version : 2.11
Quality : Fine
White Balance : Auto
Focus Mode : AF-A
White Balance Fine Tune : 0 0
WB RB Levels : 1.8984375 1.6171875 1 1
Program Shift : 0
Exposure Difference : 0
ISO Setting : 400
Exposure Bracket Value : 0
Crop Hi Speed : Off (4992x3280 cropped to 4992x3280 at pixel 0,0)
Exposure Tuning : 0
Serial Number : 3068113
VR Info Version : 0100
Vibration Reduction : Off
VR Mode : Normal
Active D-Lighting : Auto
Picture Control Version : 0100
Picture Control Name : Standard
Picture Control Base : Standard
Picture Control Adjust : Default Settings
Picture Control Quick Adjust : n/a
Hue Adjustment : None
Filter Effect : n/a
Toning Effect : n/a
Toning Saturation : n/a
Time Zone : -05:00
Daylight Savings : No
Date Display Format : M/D/Y
ISO Expansion : Off
ISO2 : 400
ISO Expansion 2 : Off
Auto Distortion Control : Off
Lens Type : G
Flash Mode : Did Not Fire
Shooting Mode : Continuous
Noise Reduction : Off
WB GRBG Levels : 207 1 1728 400
Lens Data Version : 0204
Exit Pupil Position : 409.6 mm
AF Aperture : 3.7
Focus Position : 0x32
Focus Distance : 0.84 m
Lens ID Number : 246
Lens F Stops : 5.25
Min Focal Length : 10.0 mm
Max Focal Length : 24.5 mm
Max Aperture At Min Focal : 3.6
Max Aperture At Max Focal : 4.5
MCU Version : 223
Effective Max Aperture : 3.7
Date Stamp Mode : Off
Image Data Size : 2320406
Shutter Count : 3070
Vari Program : Auto(Flash Off)
Multi Exposure Version : 0100
Multi Exposure Mode : Off
Multi Exposure Shots : 0
Multi Exposure Auto Gain : Off
High ISO Noise Reduction : Normal
Power Up Time : 2014:05:04 19:01:42
AF Info 2 Version : 0100
Contrast Detect AF : Off
AF Area Mode : Auto-area
Phase Detect AF : On (11-point)
Primary AF Point : Top
AF Points Used : Top, Bottom, Lower-right
Contrast Detect AF In Focus : No
File Info Version : 0100
Memory Card Number : 0
File Number : 0107
Nikon Capture Version : NX Studio 1.10 M
IFD0 Offset : 3473
Preview IFD Offset : 3373
NEF Bit Depth : n/a (JPEG)
User Comment :
Color Space : Uncalibrated
Exif Image Width : 2048
Exif Image Height : 1356
Sensing Method : One-chip color area
Scene Type : Directly photographed
CFA Pattern : [Red,Green][Green,Blue]
Custom Rendered : Normal
Exposure Mode : Auto
Digital Zoom Ratio : 1
Focal Length In 35mm Format : 16 mm
Scene Capture Type : Standard
Gain Control : Low gain up
Contrast : Normal
Saturation : Normal
Sharpness : Normal
Subject Distance Range : Unknown
GPS Version ID : 2.3.0.0
Flash Fired : False
Flash Function : False
Flash Red Eye Mode : False
Flash Return : No return detection
Creator Tool : DxO PhotoLab 9.7.0
Rating : 0
Lens Info : 10-24mm f/3.5-4.5
Lens : 10.0-24.0 mm f/3.5-4.5
Image Number : 3070
Approximate Focus Distance : 0.84
Sidecar For Extension : NEF
Date Created : 2014:06:15 12:31:11.6
Preserved File Name : DSC_0107.NEF
Format : image/x-nikon-nef
Version : 6.4.1
Process Version : 5.7
Color Temperature : 4550
Tint : +22
Exposure : +0.65
Shadows : 8
Brightness : +50
Luminance Smoothing : 0
Color Noise Reduction : 25
Chromatic Aberration R : 0
Chromatic Aberration B : 0
Vignette Amount : 0
Shadow Tint : 0
Red Hue : 0
Red Saturation : 0
Green Hue : 0
Green Saturation : 0
Blue Hue : 0
Blue Saturation : 0
Fill Light : 9
Vibrance : +7
Highlight Recovery : 91
Clarity : 0
Defringe : 0
Hue Adjustment Red : 0
Hue Adjustment Orange : 0
Hue Adjustment Yellow : 0
Hue Adjustment Green : 0
Hue Adjustment Aqua : 0
Hue Adjustment Blue : 0
Hue Adjustment Purple : 0
Hue Adjustment Magenta : 0
Saturation Adjustment Red : 0
Saturation Adjustment Orange : 0
Saturation Adjustment Yellow : 0
Saturation Adjustment Green : 0
Saturation Adjustment Aqua : 0
Saturation Adjustment Blue : 0
Saturation Adjustment Purple : 0
Saturation Adjustment Magenta : 0
Luminance Adjustment Red : 0
Luminance Adjustment Orange : 0
Luminance Adjustment Yellow : 0
Luminance Adjustment Green : 0
Luminance Adjustment Aqua : 0
Luminance Adjustment Blue : 0
Luminance Adjustment Purple : 0
Luminance Adjustment Magenta : 0
Split Toning Shadow Hue : 0
Split Toning Shadow Saturation : 0
Split Toning Highlight Hue : 0
Split Toning Highlight Saturation : 0
Split Toning Balance : 0
Parametric Shadows : 0
Parametric Darks : 0
Parametric Lights : 0
Parametric Highlights : 0
Parametric Shadow Split : 25
Parametric Midtone Split : 50
Parametric Highlight Split : 75
Sharpen Radius : +1.0
Sharpen Detail : 25
Sharpen Edge Masking : 0
Post Crop Vignette Amount : 0
Grain Amount : 0
Color Noise Reduction Detail : 50
Lens Profile Enable : 0
Lens Manual Distortion Amount : 0
Perspective Vertical : 0
Perspective Horizontal : 0
Perspective Rotate : 0.0
Perspective Scale : 100
Convert To Grayscale : False
Tone Curve Name : Medium Contrast
Tone Curve : 0, 0, 32, 22, 64, 56, 128, 128, 192, 196, 255, 255
Lens Profile Setup : LensDefaults
Has Settings : True
Has Crop : False
Already Applied : True
Camera Profile : Adobe Standard
Raw File Name : DSC_0107_DxO.jpg.tmp
Profile Description : Nikon sRGB 4.0.0.3002
Image Width : 400
Image Height : 265
Bits Per Sample : 8
Color Components : 3
Aperture : 5.6
Blue Balance : 5.693575
Image Size : 400x265
Megapixels : 0.106
Red Balance : 0.003295
Scale Factor To 35 mm Equivalent : 1.5
Shutter Speed : 1/125
Create Date : 2014:06:15 12:31:11.60
Date/Time Original : 2014:06:15 12:31:11.6
Modify Date : 2026:04:16 13:30:26-04:00
Auto Focus : On
Lens ID : Tamron SP AF 10-24mm f/3.5-4.5 Di II LD Aspherical (IF) (B001)
Lens Spec : 10-24mm f/3.5-4.5 G
Flash : Off, Did not fire
Circle Of Confusion : 0.021 mm
Depth Of Field : 3.61 m (0.47 - 4.08 m)
Field Of View : 96.0 deg (1.87 m)
Focal Length : 11.0 mm (35 mm equivalent: 16.0 mm)
Hyperfocal Distance : 1.05 m
Light Value : 9.9