Uber Exif Photo
Make : NIKON CORPORATION
Camera Model Name : NIKON D3S
Orientation : Horizontal (normal)
Software : DxO PhotoLab 9.7
Modify Date : 2026:04:27 23:14:14
Rating Percent : 0
Exposure Time : 1/50
F Number : 2.8
Exposure Program : Aperture-priority AE
ISO : 320
Create Date : 2011:05:15 05:35:53
Shutter Speed Value : 1/50
Aperture Value : 2.8
Exposure Compensation : 0
Max Aperture Value : 1.0
Metering Mode : Multi-segment
Light Source : Unknown
Focal Length : 105.0 mm
Maker Note Version : 2.10
Quality : Fine
White Balance : Auto
Focus Mode : Manual
Flash Setting : Normal
Flash Type :
White Balance Fine Tune : 0 0
WB RB Levels : 1.68359375 1.64453125 1 1
Program Shift : 0
Exposure Difference : 0
ISO Setting : 200
External Flash Exposure Comp : 0
Flash Exposure Bracket Value : 0.0
Exposure Bracket Value : 0
Crop Hi Speed : Off (4288x2844 cropped to 4288x2844 at pixel 0,0)
Exposure Tuning : 0
Serial Number : 2052563
VR Info Version : 0100
Vibration Reduction : Off
VR Mode : Normal
Image Authentication : Off
Active D-Lighting : Off
Picture Control Version : 0100
Picture Control Name : Standard
Picture Control Base : Standard
Picture Control Adjust : Default Settings
Picture Control Quick Adjust : Normal
Hue Adjustment : None
Filter Effect : n/a
Toning Effect : n/a
Toning Saturation : n/a
Time Zone : -08:00
Daylight Savings : No
Date Display Format : D/M/Y
ISO Expansion : Off
ISO Expansion 2 : Off
Vignette Control : Off
Lens Type : MF
Flash Mode : Did Not Fire
Shooting Mode : Single-Frame, Auto ISO
Shot Info Version : 0218
Firmware Version : 1.01c
Image Area : FX (36x24)
ISO2 : 317
Custom Settings Bank : A
Custom Settings All Default : No
AF-C Priority Selection : Release
AF-S Priority Selection : Focus
AF Point Selection : 51 Points
Dynamic AF Area : 9 Points
AF Activation : Shutter/AF-On
Focus Point Wrap : No Wrap
AF Point Illumination : On in Continuous Shooting and Manual Focusing
AF Point Brightness : Normal
AF On Button : AF On
Vertical AF On Button : AF On
Focus Tracking Lock On : 3 (Normal)
Assign Bkt Button : Auto Bracketing
Multi Selector Live View : Start Movie Recording
Initial Zoom Live View : Low Magnification
ISO Step Size : 1/3 EV
Exposure Control Step Size : 1/3 EV
Exposure Comp Step Size : 1/3 EV
Easy Exposure Compensation : Off
Center Weighted Area Size : 12 mm
Fine Tune Opt Center Weighted : 0
Fine Tune Opt Matrix Metering : 0
Fine Tune Opt Spot Metering : 0
Multi Selector Shoot Mode : Select Center Focus Point
Initial Zoom Setting : Low Magnification
Multi Selector : Do Nothing
Exposure Delay Mode : Off
CL Mode Shooting Speed : 5 fps
CH Mode Shooting Speed : 9 fps
Max Continuous Release : 130
Reverse Indicators : + 0 -
File Number Sequence : On
Rear Display : ISO
Viewfinder Display : Frame Count
Screen Tips : On
Beep : Off
Shooting Info Display : Auto
Multi Selector Playback Mode : Thumbnail On/Off
Preview Button : Preview
Preview Button Plus Dials : None
Func Button : None
Func Button Plus Dials : Choose Non-CPU Lens Number
AE Lock Button : AE/AF Lock
AE Lock Button Plus Dials : None
Command Dials Reverse Rotation : No
Command Dials Change Main Sub : Off
Command Dials Aperture Setting : Sub-command Dial
Command Dials Menu And Playback : Off
LCD Illumination : Off
Photo Info Playback : Info Up-down, Playback Left-right
Shutter Release Button AE-L : Off
Release Button To Use Dial : No
Self Timer Time : 10 s
Monitor Off Time : 10 s
Flash Sync Speed : 1/250 s
Flash Shutter Speed : 1/60 s
Auto Bracket Set : AE & Flash
Auto Bracket Mode M : Flash/Speed
Auto Bracket Order : 0,-,+
Modeling Flash : On
No Memory Card : Enable Release
Metering Time : 6 s
Internal Flash : TTL
Image Review Time : 4 s
Playback Monitor Off Time : 10 s
Menu Monitor Off Time : 20 s
Shooting Info Monitor Off Time : 10 s
Noise Reduction : Off
WB GRBG Levels : 256 431 421 256
Lens Data Version : 0204
Exit Pupil Position : 0.0 mm
AF Aperture : 1.0
Focus Position : 0x00
Focus Distance : 0.01 m
Lens ID Number : 0
Lens F Stops : 0.00
Min Focal Length : 5.0 mm
Max Focal Length : 5.0 mm
Max Aperture At Min Focal : 1.0
Max Aperture At Max Focal : 1.0
MCU Version : 0
Effective Max Aperture : 1.8
Shutter Count : 181
Flash Info Version : 0103
Flash Source : None
External Flash Firmware : n/a
External Flash Flags : (none)
Flash Commander Mode : Off
Flash Control Mode : Off
Flash Compensation : 0
Flash GN Distance : 0
Flash Color Filter : None
Flash Group A Control Mode : Off
Flash Group B Control Mode : Off
Flash Group C Control Mode : Off
Flash Group A Compensation : 0
Flash Group B Compensation : 0
Flash Group C Compensation : 0
Multi Exposure Version : 0100
Multi Exposure Mode : Off
Multi Exposure Shots : 0
Multi Exposure Auto Gain : Off
High ISO Noise Reduction : Off
AF Info 2 Version : 0100
Contrast Detect AF : Off
AF Area Mode : Single Area
Phase Detect AF : Off
Primary AF Point : (none)
AF Points Used : (none)
Contrast Detect AF In Focus : No
File Info Version : 0100
Memory Card Number : 0
File Number : 0181
AF Fine Tune : Off
AF Fine Tune Index : n/a
AF Fine Tune Adj : 0
AF Fine Tune Adj Tele : 0
User Comment :
Color Space : sRGB
Exif Image Width : 2000
Exif Image Height : 1331
Sensing Method : One-chip color area
Scene Type : Directly photographed
CFA Pattern : [Red,Green][Green,Blue]
Custom Rendered : Normal
Exposure Mode : Auto
Digital Zoom Ratio : 1
Focal Length In 35mm Format : 105 mm
Scene Capture Type : Standard
Gain Control : None
Contrast : Normal
Saturation : Normal
Sharpness : Normal
Subject Distance Range : Unknown
GPS Version ID : 2.2.0.0
Date/Time Original : 2011:05:15 05:35:53
TIFF-EP Standard ID : 1 0 0 0
Flash Fired : False
Flash Function : False
Flash Red Eye Mode : False
Flash Return : No return detection
Creator Tool : DxO PhotoLab 9.7
Rating : 0
Lens Info : 0mm f/0
Lens : 0.0 mm f/0.0
Image Number : 181
Version : 6.3
Process Version : 5.7
Color Temperature : 4250
Tint : +18
Exposure : 0.00
Shadows : 5
Brightness : +50
Luminance Smoothing : 0
Color Noise Reduction : 25
Chromatic Aberration R : 0
Chromatic Aberration B : 0
Vignette Amount : 0
Shadow Tint : 0
Red Hue : 0
Red Saturation : 0
Green Hue : 0
Green Saturation : 0
Blue Hue : 0
Blue Saturation : 0
Fill Light : 4
Vibrance : +30
Highlight Recovery : 0
Clarity : 0
Defringe : 0
Hue Adjustment Red : 0
Hue Adjustment Orange : 0
Hue Adjustment Yellow : 0
Hue Adjustment Green : 0
Hue Adjustment Aqua : 0
Hue Adjustment Blue : 0
Hue Adjustment Purple : 0
Hue Adjustment Magenta : 0
Saturation Adjustment Red : 0
Saturation Adjustment Orange : 0
Saturation Adjustment Yellow : 0
Saturation Adjustment Green : 0
Saturation Adjustment Aqua : 0
Saturation Adjustment Blue : 0
Saturation Adjustment Purple : 0
Saturation Adjustment Magenta : 0
Luminance Adjustment Red : 0
Luminance Adjustment Orange : 0
Luminance Adjustment Yellow : 0
Luminance Adjustment Green : 0
Luminance Adjustment Aqua : 0
Luminance Adjustment Blue : 0
Luminance Adjustment Purple : 0
Luminance Adjustment Magenta : 0
Split Toning Shadow Hue : 0
Split Toning Shadow Saturation : 0
Split Toning Highlight Hue : 0
Split Toning Highlight Saturation : 0
Split Toning Balance : 0
Parametric Shadows : 0
Parametric Darks : 0
Parametric Lights : 0
Parametric Highlights : 0
Parametric Shadow Split : 25
Parametric Midtone Split : 50
Parametric Highlight Split : 75
Sharpen Radius : +1.0
Sharpen Detail : 25
Sharpen Edge Masking : 0
Post Crop Vignette Amount : 0
Grain Amount : 0
Color Noise Reduction Detail : 50
Lens Profile Enable : 0
Lens Manual Distortion Amount : 0
Perspective Vertical : 0
Perspective Horizontal : 0
Perspective Rotate : 0.0
Perspective Scale : 100
Convert To Grayscale : False
Tone Curve Name : Medium Contrast
Tone Curve : 0, 0, 32, 22, 64, 56, 128, 128, 192, 196, 255, 255
Lens Profile Setup : LensDefaults
Paint Correction What : Correction
Paint Correction Amount : 1.000000
Paint Correction Active : true
Paint Correction Exposure : 0.105263
Paint Correction Saturation : 0.000000
Paint Correction Contrast : 0.000000
Paint Correction Clarity : 0.000000
Paint Correction Sharpness : 0.000000
Paint Correction Brightness : 0.000000
Paint Correction Toning Hue : 358.000000
Paint Correction Toning Saturation : 0.000000
Paint Correction Mask What : Mask/Paint
Paint Correction Mask Value : 1.000000
Paint Correction Mask Radius : 0.015858
Paint Correction Mask Flow : 0.923846
Paint Correction Mask Center Weight : 0.090059
Has Settings : True
Already Applied : True
Camera Profile : Camera D2X Mode 2
Raw File Name : DSC_0181 (2016_04_24 22_20_11 UTC)_DxO.jpg
Preserved File Name : DSC_0181 (2016_04_24 22_20_11 UTC).NEF
Image Width : 400
Image Height : 266
Bits Per Sample : 8
Color Components : 3
Aperture : 2.8
Blue Balance : 1.644531
Image Size : 400x266
Megapixels : 0.106
Red Balance : 1.683594
Scale Factor To 35 mm Equivalent : 1.0
Shutter Speed : 1/50
Create Date : 2011:05:15 05:35:53.65
Date/Time Original : 2011:05:15 05:35:53.65-07:00
Modify Date : 2026:04:27 23:14:14-07:00
Auto Focus : Off
Lens ID : Manual Lens No CPU
Lens Spec : 0mm f/0 MF
Flash : No Flash
Circle Of Confusion : 0.030 mm
Depth Of Field : -0.00 m (0.01 - 0.01 m)
Field Of View : 19.5 deg (0.00 m)
Focal Length : 105.0 mm (35 mm equivalent: 105.0 mm)
Hyperfocal Distance : 131.05 m
Light Value : 6.9