Uber Exif Photo
Copyright Flag : False
Make : NIKON CORPORATION
Camera Model Name : NIKON D200
Orientation : Horizontal (normal)
Software : Adobe Photoshop CS3 Macintosh
Modify Date : 2010:08:12 06:50:02
Time Zone Offset : 9 9
Exposure Time : 1/250
F Number : 8.0
Exposure Program : Manual
ISO : 100
Date/Time Original : 2010:07:24 00:05:01
Create Date : 2010:07:24 00:05:01
Shutter Speed Value : 1/250
Aperture Value : 8.0
Exposure Compensation : 0
Max Aperture Value : 2.9
Metering Mode : Spot
Light Source : Unknown
Focal Length : 105.0 mm
User Comment : Copyright Tim Buerger
Color Space : Uncalibrated
Exif Image Width : 1000
Exif Image Height : 592
Sensing Method : One-chip color area
Scene Type : Directly photographed
CFA Pattern : [Green,Red][Blue,Green]
Custom Rendered : Normal
Exposure Mode : Manual
White Balance : Auto
Digital Zoom Ratio : 1
Focal Length In 35mm Format : 157 mm
Scene Capture Type : Standard
Gain Control : None
Contrast : Normal
Saturation : High
Sharpness : Normal
Subject Distance Range : Unknown
Date/Time Digitized : 2010:07:24 00:05:01.16+09:00
Creator Tool : Adobe Photoshop CS3 Macintosh
Rating : 0
Lens Info : 105mm f/2.8
Lens : 105.0 mm f/2.8
Image Number : 30746
Version : 4.0
Raw File Name : DSC_3112.NEF
Color Temperature : 5200
Tint : -5
Exposure : 0.00
Shadows : 8
Brightness : +50
Luminance Smoothing : 0
Color Noise Reduction : 25
Chromatic Aberration R : 0
Chromatic Aberration B : 0
Vignette Amount : 0
Shadow Tint : 0
Red Hue : 0
Red Saturation : 0
Green Hue : 0
Green Saturation : 0
Blue Hue : 0
Blue Saturation : 0
Fill Light : 0
Vibrance : +21
Highlight Recovery : 0
Hue Adjustment Red : 0
Hue Adjustment Orange : 0
Hue Adjustment Yellow : 0
Hue Adjustment Green : 0
Hue Adjustment Aqua : 0
Hue Adjustment Blue : 0
Hue Adjustment Purple : 0
Hue Adjustment Magenta : 0
Saturation Adjustment Red : 0
Saturation Adjustment Orange : 0
Saturation Adjustment Yellow : 0
Saturation Adjustment Green : 0
Saturation Adjustment Aqua : 0
Saturation Adjustment Blue : 0
Saturation Adjustment Purple : 0
Saturation Adjustment Magenta : 0
Luminance Adjustment Red : 0
Luminance Adjustment Orange : 0
Luminance Adjustment Yellow : 0
Luminance Adjustment Green : 0
Luminance Adjustment Aqua : 0
Luminance Adjustment Blue : 0
Luminance Adjustment Purple : 0
Luminance Adjustment Magenta : 0
Split Toning Shadow Hue : 0
Split Toning Shadow Saturation : 0
Split Toning Highlight Hue : 0
Split Toning Highlight Saturation : 0
Split Toning Balance : 0
Parametric Shadows : 0
Parametric Darks : 0
Parametric Lights : 0
Parametric Highlights : 0
Parametric Shadow Split : 25
Parametric Midtone Split : 50
Parametric Highlight Split : 75
Convert To Grayscale : False
Tone Curve Name : Medium Contrast
Camera Profile : ACR 3.3
Has Settings : True
Has Crop : False
Already Applied : True
Sidecar For Extension : NEF
Color Mode : RGB
Format : image/jpeg
Flash Fired : True
Flash Return : Return not detected
Flash Mode : Unknown
Flash Function : False
Flash Red Eye Mode : False
Tone Curve : 0, 0, 32, 22, 64, 56, 128, 128, 192, 196, 255, 255
Image Width : 300
Image Height : 178
Bits Per Sample : 8
Color Components : 3
Aperture : 8.0
Image Size : 300x178
Megapixels : 0.053
Scale Factor To 35 mm Equivalent : 1.5
Shutter Speed : 1/250
Create Date : 2010:07:24 00:05:01.16
Date/Time Original : 2010:07:24 00:05:01.16
Modify Date : 2010:08:12 06:50:02.16
Flash : Fired, Return not detected
Circle Of Confusion : 0.020 mm
Field Of View : 13.1 deg
Focal Length : 105.0 mm (35 mm equivalent: 157.0 mm)
Hyperfocal Distance : 68.58 m
Light Value : 14.0
Lens ID : 105.0mm f/2.8