Uber Exif Photo
By-line : marino mannarini
By-line Title : photographer
Copyright Notice : ©marino mannarini 2010
Copyright Flag : True
URL : www.mydvaphoto.com
Make : NIKON CORPORATION
Camera Model Name : NIKON D700
Software : Ver.1.02
Modify Date : 2010:04:20 21:03:43
Artist : marino mannarini
Copyright : (C)marino mannarini 2010
Exposure Time : 1/125
F Number : 13.0
Exposure Program : Manual
ISO : 100
Date/Time Original : 2010:02:20 10:14:04
Create Date : 2010:02:20 10:14:04
Shutter Speed Value : 1/125
Aperture Value : 13.0
Exposure Compensation : 0
Max Aperture Value : 4.4
Subject Distance : 1.41 m
Metering Mode : Center-weighted average
Light Source : Unknown
Focal Length : 66.0 mm
User Comment : (c)Marino Mannarini mydvaphoto.com
Sensing Method : One-chip color area
Scene Type : Directly photographed
Custom Rendered : Normal
Exposure Mode : Manual
White Balance : Manual
Digital Zoom Ratio : 1
Focal Length In 35mm Format : 66 mm
Scene Capture Type : Standard
Gain Control : None
Contrast : Normal
Saturation : Normal
Sharpness : Normal
Subject Distance Range : Unknown
Profile Description : sRGB IEC61966-2.1
Date/Time Digitized : 2010:02:20 10:14:04.58+01:00
Exif Image Width : 675
Exif Image Height : 900
Color Space : Uncalibrated
Creator Tool : Adobe Photoshop Lightroom
Format : image/tiff
Serial Number : 2132043
Lens Info : 24-85mm f/3.5-4.5
Lens : 24.0-85.0 mm f/3.5-4.5
Image Number : 11693
Marked : True
Web Statement : www.mydvaphoto.com
Authors Position : photographer
Version : 5.6
Incremental Temperature : +17
Incremental Tint : +19
Exposure : +0.08
Shadows : 15
Brightness : +19
Luminance Smoothing : 0
Color Noise Reduction : 25
Chromatic Aberration R : 0
Chromatic Aberration B : 0
Vignette Amount : 0
Shadow Tint : 0
Red Hue : 0
Red Saturation : 0
Green Hue : 0
Green Saturation : 0
Blue Hue : 0
Blue Saturation : 0
Fill Light : 0
Vibrance : +6
Highlight Recovery : 0
Clarity : +27
Defringe : 2
Hue Adjustment Red : 0
Hue Adjustment Orange : -16
Hue Adjustment Yellow : 0
Hue Adjustment Green : -27
Hue Adjustment Aqua : 0
Hue Adjustment Blue : +4
Hue Adjustment Purple : 0
Hue Adjustment Magenta : 0
Saturation Adjustment Red : 0
Saturation Adjustment Orange : 0
Saturation Adjustment Yellow : 0
Saturation Adjustment Green : 0
Saturation Adjustment Aqua : 0
Saturation Adjustment Blue : -30
Saturation Adjustment Purple : 0
Saturation Adjustment Magenta : 0
Luminance Adjustment Red : 0
Luminance Adjustment Orange : 0
Luminance Adjustment Yellow : 0
Luminance Adjustment Green : -25
Luminance Adjustment Aqua : 0
Luminance Adjustment Blue : -27
Luminance Adjustment Purple : 0
Luminance Adjustment Magenta : 0
Split Toning Shadow Hue : 236
Split Toning Shadow Saturation : 61
Split Toning Highlight Hue : 86
Split Toning Highlight Saturation : 29
Split Toning Balance : +35
Parametric Shadows : -19
Parametric Darks : -4
Parametric Lights : 0
Parametric Highlights : 0
Parametric Shadow Split : 25
Parametric Midtone Split : 50
Parametric Highlight Split : 75
Sharpen Radius : +1.0
Sharpen Detail : 7
Sharpen Edge Masking : 0
Post Crop Vignette Amount : -50
Post Crop Vignette Midpoint : 34
Post Crop Vignette Feather : 74
Post Crop Vignette Roundness : +33
Convert To Grayscale : False
Tone Curve Name : Medium Contrast
Camera Profile : Camera Landscape
Has Settings : True
Has Crop : False
Already Applied : True
Flash Fired : False
Flash Return : No return detection
Flash Mode : Unknown
Flash Function : False
Flash Red Eye Mode : False
Creator : marino mannarini
Rights : ©marino mannarini 2010
Creator Postal Code : I 73100
Creator Work Telephone : +393338562061
Creator Region : LE
Creator City : LECCE
Creator Country : ITALY
Creator Work Email : marinomannarini@gmail.com
Creator Address : piazza libertini, 10
Creator Work URL : www.mydvaphoto.com
Usage Terms : all rights reserved
Tone Curve : 0, 0, 32, 22, 64, 56, 128, 128, 192, 196, 255, 255
Paint Correction What : Correction
Paint Correction Amount : 1.000000
Paint Correction Active : true
Paint Correction Exposure : -0.057471
Paint Correction Saturation : 0.000000
Paint Correction Contrast : 0.000000
Paint Correction Clarity : 0.057471
Paint Correction Sharpness : 0.000000
Paint Correction Brightness : 0.034483
Paint Correction Toning Hue : 219.000000
Paint Correction Toning Saturation : 0.120000
Paint Correction Mask What : Mask/Paint
Paint Correction Mask Value : 0.000000
Paint Correction Mask Radius : 0.021018
Paint Correction Mask Flow : 0.681379
Paint Correction Mask Center Weight : 0.249290
Image Width : 225
Image Height : 300
Bits Per Sample : 8
Color Components : 3
Aperture : 13.0
Image Size : 225x300
Megapixels : 0.068
Scale Factor To 35 mm Equivalent : 1.0
Shutter Speed : 1/125
Create Date : 2010:02:20 10:14:04.58
Date/Time Original : 2010:02:20 10:14:04.58
Flash : No Flash
Circle Of Confusion : 0.030 mm
Depth Of Field : 0.34 m (1.26 - 1.60 m)
Field Of View : 30.5 deg
Focal Length : 66.0 mm (35 mm equivalent: 66.0 mm)
Hyperfocal Distance : 11.15 m
Light Value : 14.4
Lens ID : AF-S Zoom-Nikkor 24-85mm f/3.5-4.5G IF-ED