Uber Exif Photo
Make : NIKON CORPORATION
Camera Model Name : NIKON D700
Software : Ver.1.02
Modify Date : 2010:09:06 16:46:15
Exposure Time : 1/40
F Number : 1.4
Exposure Program : Manual
ISO : 640
Sensitivity Type : Unknown
Date/Time Original : 2010:09:04 01:06:31
Create Date : 2010:09:04 01:06:31
Shutter Speed Value : 1/40
Aperture Value : 1.4
Exposure Compensation : 0
Max Aperture Value : 1.4
Subject Distance : 4294967295 m
Metering Mode : Spot
Light Source : Unknown
Focal Length : 24.0 mm
Sensing Method : One-chip color area
Scene Type : Directly photographed
CFA Pattern : [Red,Green][Green,Blue]
Custom Rendered : Normal
Exposure Mode : Manual
White Balance : Auto
Digital Zoom Ratio : 1
Focal Length In 35mm Format : 24 mm
Scene Capture Type : Standard
Gain Control : Low gain up
Contrast : Normal
Saturation : Normal
Sharpness : Normal
Subject Distance Range : Unknown
Serial Number : 2133700
Lens Info : 24mm f/1.4
Lens Model : 24.0 mm f/1.4
Date/Time Digitized : 2010:09:04 01:06:31.74-04:00
Exif Image Width : 4256
Exif Image Height : 2832
Creator Tool : Adobe Photoshop Lightroom
Rating : 2
Lens : 24.0 mm f/1.4
Image Number : 13547
Approximate Focus Distance : 4294967295
Version : 6.2
Process Version : 5.7
Color Temperature : 4950
Tint : -33
Exposure : 0.00
Shadows : 5
Brightness : +50
Luminance Smoothing : 0
Color Noise Reduction : 25
Chromatic Aberration R : 0
Chromatic Aberration B : 0
Vignette Amount : 0
Shadow Tint : 0
Red Hue : 0
Red Saturation : 0
Green Hue : 0
Green Saturation : 0
Blue Hue : 0
Blue Saturation : 0
Fill Light : 0
Highlight Recovery : 36
Clarity : +20
Defringe : 0
Gray Mixer Red : -7
Gray Mixer Orange : -16
Gray Mixer Yellow : -20
Gray Mixer Green : -25
Gray Mixer Aqua : -19
Gray Mixer Blue : +7
Gray Mixer Purple : +14
Gray Mixer Magenta : +5
Split Toning Shadow Hue : 0
Split Toning Shadow Saturation : 0
Split Toning Highlight Hue : 0
Split Toning Highlight Saturation : 0
Split Toning Balance : 0
Parametric Shadows : +27
Parametric Darks : +39
Parametric Lights : +13
Parametric Highlights : -5
Parametric Shadow Split : 25
Parametric Midtone Split : 50
Parametric Highlight Split : 75
Sharpen Radius : +2.0
Sharpen Detail : 47
Sharpen Edge Masking : 0
Post Crop Vignette Amount : 0
Grain Amount : 0
Color Noise Reduction Detail : 50
Lens Profile Enable : 0
Lens Manual Distortion Amount : 0
Perspective Vertical : 0
Perspective Horizontal : 0
Perspective Rotate : 0.0
Perspective Scale : 100
Convert To Grayscale : True
Tone Curve Name : Medium Contrast
Camera Profile : Adobe Standard
Lens Profile Setup : LensDefaults
Has Settings : True
Has Crop : False
Already Applied : True
Flash Fired : False
Flash Return : No return detection
Flash Mode : Unknown
Flash Function : False
Flash Red Eye Mode : False
Tone Curve : 0, 0, 32, 22, 64, 56, 128, 128, 192, 196, 255, 255
Image Width : 300
Image Height : 200
Bits Per Sample : 8
Color Components : 1
Aperture : 1.4
Image Size : 300x200
Megapixels : 0.060
Scale Factor To 35 mm Equivalent : 1.0
Shutter Speed : 1/40
Create Date : 2010:09:04 01:06:31.74
Date/Time Original : 2010:09:04 01:06:31.74
Flash : No Flash
Circle Of Confusion : 0.030 mm
Depth Of Field : inf (13.69 m - inf)
Field Of View : 73.7 deg
Focal Length : 24.0 mm (35 mm equivalent: 24.0 mm)
Hyperfocal Distance : 13.69 m
Light Value : 3.6
Lens ID : AF-S Nikkor 24mm f/1.4G ED