Uber Exif Photo
Make : NIKON CORPORATION
Camera Model Name : NIKON D3S
Software : Ver.1.01
Modify Date : 2010:09:30 17:58:16
Exposure Time : 1/100
F Number : 2.8
Exposure Program : Aperture-priority AE
ISO : 200
Sensitivity Type : Unknown
Date/Time Original : 2010:09:30 12:29:51
Create Date : 2010:09:30 12:29:51
Shutter Speed Value : 1/100
Aperture Value : 2.8
Exposure Compensation : 0
Max Aperture Value : 1.4
Subject Distance : 2.37 m
Metering Mode : Multi-segment
Light Source : Unknown
Focal Length : 85.0 mm
Sensing Method : One-chip color area
Scene Type : Directly photographed
CFA Pattern : [Red,Green][Green,Blue]
Custom Rendered : Normal
Exposure Mode : Auto
White Balance : Auto
Digital Zoom Ratio : 1
Focal Length In 35mm Format : 85 mm
Scene Capture Type : Standard
Gain Control : None
Contrast : Normal
Saturation : Normal
Sharpness : Normal
Subject Distance Range : Unknown
Serial Number : 2028950
Lens Info : 85mm f/1.4
Lens Model : 85.0 mm f/1.4
Date/Time Digitized : 2010:09:30 12:29:51.73-07:00
Exif Image Width : 1500
Exif Image Height : 898
Creator Tool : Adobe Photoshop Lightroom
Lens : 85.0 mm f/1.4
Image Number : 585
Approximate Focus Distance : 2.37
Version : 6.2
Process Version : 5.7
Color Temperature : 4000
Tint : -105
Exposure : +0.76
Shadows : 52
Brightness : +21
Luminance Smoothing : 0
Color Noise Reduction : 10
Chromatic Aberration R : 0
Chromatic Aberration B : 0
Vignette Amount : 0
Shadow Tint : 0
Red Hue : 0
Red Saturation : 0
Green Hue : 0
Green Saturation : 0
Blue Hue : 0
Blue Saturation : 0
Fill Light : 25
Vibrance : 0
Highlight Recovery : 16
Clarity : 0
Defringe : 0
Hue Adjustment Red : 0
Hue Adjustment Orange : 0
Hue Adjustment Yellow : 0
Hue Adjustment Green : 0
Hue Adjustment Aqua : 0
Hue Adjustment Blue : 0
Hue Adjustment Purple : 0
Hue Adjustment Magenta : 0
Saturation Adjustment Red : -7
Saturation Adjustment Orange : -10
Saturation Adjustment Yellow : 0
Saturation Adjustment Green : 0
Saturation Adjustment Aqua : 0
Saturation Adjustment Blue : 0
Saturation Adjustment Purple : 0
Saturation Adjustment Magenta : 0
Luminance Adjustment Red : 0
Luminance Adjustment Orange : 0
Luminance Adjustment Yellow : 0
Luminance Adjustment Green : 0
Luminance Adjustment Aqua : 0
Luminance Adjustment Blue : 0
Luminance Adjustment Purple : 0
Luminance Adjustment Magenta : 0
Split Toning Shadow Hue : 0
Split Toning Shadow Saturation : 0
Split Toning Highlight Hue : 0
Split Toning Highlight Saturation : 0
Split Toning Balance : 0
Parametric Shadows : +53
Parametric Darks : -24
Parametric Lights : -3
Parametric Highlights : +49
Parametric Shadow Split : 25
Parametric Midtone Split : 50
Parametric Highlight Split : 75
Sharpen Radius : +1.0
Sharpen Detail : 25
Sharpen Edge Masking : 0
Post Crop Vignette Amount : -14
Post Crop Vignette Midpoint : 50
Post Crop Vignette Feather : 50
Post Crop Vignette Roundness : 0
Post Crop Vignette Style : Highlight Priority
Post Crop Vignette Highlight Contrast : 0
Grain Amount : 29
Grain Size : 28
Grain Frequency : 49
Color Noise Reduction Detail : 50
Lens Profile Enable : 0
Lens Manual Distortion Amount : 0
Perspective Vertical : 0
Perspective Horizontal : 0
Perspective Rotate : 0.0
Perspective Scale : 100
Convert To Grayscale : False
Tone Curve Name : Medium Contrast
Camera Profile : Adobe Standard
Lens Profile Setup : LensDefaults
Has Settings : True
Crop Top : 0.140927
Crop Left : 0
Crop Bottom : 1
Crop Right : 0.955042
Crop Angle : 0
Crop Constrain To Warp : 0
Crop Width : 1500
Crop Height : 898
Crop Unit : pixels
Has Crop : True
Already Applied : True
Flash Fired : False
Flash Return : No return detection
Flash Mode : Unknown
Flash Function : False
Flash Red Eye Mode : False
Tone Curve : 0, 0, 32, 22, 64, 56, 128, 128, 192, 196, 255, 255
Paint Correction What : Correction
Paint Correction Amount : 1.000000
Paint Correction Active : true
Paint Correction Exposure : -0.176471
Paint Correction Saturation : 0.000000
Paint Correction Contrast : 0.000000
Paint Correction Clarity : 0.000000
Paint Correction Sharpness : 0.000000
Paint Correction Brightness : 0.000000
Paint Correction Toning Hue : 358.000000
Paint Correction Toning Saturation : 0.000000
Paint Correction Mask What : Mask/Paint
Paint Correction Mask Value : 0.682171
Paint Correction Mask Radius : 0.162921
Paint Correction Mask Flow : 0.701544
Paint Correction Mask Center Weight : 0.000000
Image Width : 300
Image Height : 180
Bits Per Sample : 8
Color Components : 1
Aperture : 2.8
Image Size : 300x180
Megapixels : 0.054
Scale Factor To 35 mm Equivalent : 1.0
Shutter Speed : 1/100
Create Date : 2010:09:30 12:29:51.73
Date/Time Original : 2010:09:30 12:29:51.73
Flash : No Flash
Circle Of Confusion : 0.030 mm
Depth Of Field : 0.13 m (2.31 - 2.43 m)
Field Of View : 23.9 deg
Focal Length : 85.0 mm (35 mm equivalent: 85.0 mm)
Hyperfocal Distance : 85.88 m
Light Value : 8.6
Lens ID : AF-S Nikkor 85mm f/1.4G