Uber Exif Photo
By-line : Martha Benedict
Copyright Notice : ©2010 Martha Benedict
Copyright Flag : True
Make : NIKON CORPORATION
Camera Model Name : NIKON D700
Software : Ver.1.02
Modify Date : 2010:10:09 08:15:55
Copyright : (C)2010 Martha Benedict
Exposure Time : 1/80
F Number : 2.8
Exposure Program : Aperture-priority AE
ISO : 800
Sensitivity Type : Unknown
Date/Time Original : 2010:10:08 18:44:53
Create Date : 2010:10:08 18:44:53
Shutter Speed Value : 1/80
Aperture Value : 2.8
Exposure Compensation : -2
Max Aperture Value : 2.8
Subject Distance : 4294967295 m
Metering Mode : Multi-segment
Light Source : Unknown
Focal Length : 55.0 mm
User Comment : (c)MarthaBenedict
Sensing Method : One-chip color area
Scene Type : Directly photographed
CFA Pattern : [Red,Green][Green,Blue]
Custom Rendered : Normal
Exposure Mode : Auto
White Balance : Auto
Digital Zoom Ratio : 1
Focal Length In 35mm Format : 55 mm
Scene Capture Type : Standard
Gain Control : Low gain up
Contrast : Normal
Saturation : Normal
Sharpness : Normal
Subject Distance Range : Unknown
Serial Number : 2187702
Lens Info : 24-70mm f/2.8
Lens Model : 24.0-70.0 mm f/2.8
Profile Description : sRGB IEC61966-2.1
Date/Time Digitized : 2010:10:08 18:44:53.16-07:00
Exif Image Width : 1024
Exif Image Height : 681
Creator Tool : Adobe Photoshop Lightroom
Rating : 2
Lens : 24.0-70.0 mm f/2.8
Image Number : 52104
Approximate Focus Distance : 4294967295
Marked : True
Version : 6.2
Process Version : 5.7
Color Temperature : 5000
Tint : -21
Exposure : +0.90
Shadows : 5
Brightness : +50
Luminance Smoothing : 0
Color Noise Reduction : 25
Chromatic Aberration R : 0
Chromatic Aberration B : 0
Vignette Amount : 0
Shadow Tint : 0
Red Hue : 0
Red Saturation : 0
Green Hue : 0
Green Saturation : 0
Blue Hue : 0
Blue Saturation : 0
Fill Light : 22
Vibrance : 0
Highlight Recovery : 0
Clarity : 0
Defringe : 0
Hue Adjustment Red : 0
Hue Adjustment Orange : 0
Hue Adjustment Yellow : 0
Hue Adjustment Green : 0
Hue Adjustment Aqua : 0
Hue Adjustment Blue : 0
Hue Adjustment Purple : 0
Hue Adjustment Magenta : 0
Saturation Adjustment Red : 0
Saturation Adjustment Orange : 0
Saturation Adjustment Yellow : 0
Saturation Adjustment Green : 0
Saturation Adjustment Aqua : 0
Saturation Adjustment Blue : 0
Saturation Adjustment Purple : 0
Saturation Adjustment Magenta : 0
Luminance Adjustment Red : 0
Luminance Adjustment Orange : 0
Luminance Adjustment Yellow : 0
Luminance Adjustment Green : 0
Luminance Adjustment Aqua : 0
Luminance Adjustment Blue : 0
Luminance Adjustment Purple : 0
Luminance Adjustment Magenta : 0
Split Toning Shadow Hue : 0
Split Toning Shadow Saturation : 0
Split Toning Highlight Hue : 0
Split Toning Highlight Saturation : 0
Split Toning Balance : 0
Parametric Shadows : +47
Parametric Darks : 0
Parametric Lights : 0
Parametric Highlights : 0
Parametric Shadow Split : 25
Parametric Midtone Split : 50
Parametric Highlight Split : 75
Sharpen Radius : +1.0
Sharpen Detail : 25
Sharpen Edge Masking : 0
Post Crop Vignette Amount : 0
Grain Amount : 0
Color Noise Reduction Detail : 50
Lens Profile Enable : 0
Lens Manual Distortion Amount : 0
Perspective Vertical : 0
Perspective Horizontal : 0
Perspective Rotate : 0.0
Perspective Scale : 100
Convert To Grayscale : False
Tone Curve Name : Medium Contrast
Camera Profile : Adobe Standard
Lens Profile Setup : LensDefaults
Has Settings : True
Crop Top : 0.017306
Crop Left : 0.004822
Crop Bottom : 0.982694
Crop Right : 0.995178
Crop Angle : -0.671404
Crop Constrain To Warp : 0
Crop Width : 1024
Crop Height : 681
Crop Unit : pixels
Has Crop : True
Already Applied : True
Flash Fired : False
Flash Return : No return detection
Flash Mode : Unknown
Flash Function : False
Flash Red Eye Mode : False
Creator : Martha Benedict
Rights : ©2010 Martha Benedict
Creator Postal Code : 90031
Creator Work Telephone : 323-226-0017
Creator Region : CA
Creator Country : USA
Creator City : Los Angeles
Creator Address : 1111 Pagoda Place
Creator Work Email : mfbenedict@earthlink.net
Usage Terms : All Rights Reserved
Tone Curve : 0, 0, 32, 22, 64, 56, 128, 128, 192, 196, 255, 255
Image Width : 300
Image Height : 200
Bits Per Sample : 8
Color Components : 3
Aperture : 2.8
Image Size : 300x200
Megapixels : 0.060
Scale Factor To 35 mm Equivalent : 1.0
Shutter Speed : 1/80
Create Date : 2010:10:08 18:44:53.16
Date/Time Original : 2010:10:08 18:44:53.16
Flash : No Flash
Circle Of Confusion : 0.030 mm
Depth Of Field : inf (35.96 m - inf)
Field Of View : 36.2 deg
Focal Length : 55.0 mm (35 mm equivalent: 55.0 mm)
Hyperfocal Distance : 35.96 m
Light Value : 6.3
Lens ID : AF-S Zoom-Nikkor 24-70mm f/2.8G ED