Uber Exif Photo
By-line : marino mannarini
By-line Title : marino mannarini
Copyright Notice : ©marino mannarini 2008/2009
Copyright Flag : True
URL : www.mydvaphoto.com
Make : NIKON CORPORATION
Camera Model Name : NIKON D700
Software : Adobe Photoshop Lightroom
Modify Date : 2010:02:11 17:47:12
Artist : marino mannarini
Copyright : (C)marino mannarini 2008/2009
Exposure Time : 1/200
F Number : 8.0
Exposure Program : Manual
ISO : 100
Date/Time Original : 2009:09:28 17:03:35
Create Date : 2009:09:28 17:03:35
Shutter Speed Value : 1/200
Aperture Value : 8.0
Exposure Compensation : 0
Max Aperture Value : 2.8
Metering Mode : Multi-segment
Light Source : Unknown
Focal Length : 14.0 mm
User Comment : (c)Marino Mannarini mydvaphoto.com
Sensing Method : One-chip color area
Scene Type : Directly photographed
Custom Rendered : Normal
Exposure Mode : Manual
White Balance : Auto
Digital Zoom Ratio : 1
Focal Length In 35mm Format : 14 mm
Scene Capture Type : Standard
Gain Control : None
Contrast : Normal
Saturation : Normal
Sharpness : Normal
Subject Distance Range : Unknown
Profile Description : sRGB IEC61966-2.1
Date/Time Digitized : 2009:09:28 17:03:35.08+02:00
Exif Image Width : 493
Exif Image Height : 700
Color Space : sRGB
Creator Tool : Adobe Photoshop Lightroom
Serial Number : 2132043
Lens Info : 14-24mm f/2.8
Lens : 14.0-24.0 mm f/2.8
Image Number : 2031
Marked : True
Web Statement : www.mydvaphoto.com
Format : image/tiff
Authors Position : marino mannarini
Version : 5.3
Incremental Temperature : 0
Incremental Tint : 0
Exposure : +0.15
Shadows : 0
Brightness : 0
Luminance Smoothing : 0
Color Noise Reduction : 0
Chromatic Aberration R : 0
Chromatic Aberration B : 0
Vignette Amount : 0
Shadow Tint : 0
Red Hue : 0
Red Saturation : 0
Green Hue : 0
Green Saturation : 0
Blue Hue : 0
Blue Saturation : 0
Fill Light : 16
Vibrance : 0
Highlight Recovery : 0
Clarity : 0
Defringe : 0
Hue Adjustment Red : 0
Hue Adjustment Orange : 0
Hue Adjustment Yellow : 0
Hue Adjustment Green : 0
Hue Adjustment Aqua : 0
Hue Adjustment Blue : 0
Hue Adjustment Purple : 0
Hue Adjustment Magenta : 0
Saturation Adjustment Red : 0
Saturation Adjustment Orange : 0
Saturation Adjustment Yellow : 0
Saturation Adjustment Green : 0
Saturation Adjustment Aqua : 0
Saturation Adjustment Blue : 0
Saturation Adjustment Purple : 0
Saturation Adjustment Magenta : 0
Luminance Adjustment Red : 0
Luminance Adjustment Orange : 0
Luminance Adjustment Yellow : 0
Luminance Adjustment Green : 0
Luminance Adjustment Aqua : 0
Luminance Adjustment Blue : 0
Luminance Adjustment Purple : 0
Luminance Adjustment Magenta : 0
Split Toning Shadow Hue : 0
Split Toning Shadow Saturation : 0
Split Toning Highlight Hue : 0
Split Toning Highlight Saturation : 0
Split Toning Balance : 0
Parametric Shadows : 0
Parametric Darks : 0
Parametric Lights : 0
Parametric Highlights : 0
Parametric Shadow Split : 25
Parametric Midtone Split : 50
Parametric Highlight Split : 75
Sharpen Radius : +1.0
Sharpen Detail : 25
Sharpen Edge Masking : 0
Post Crop Vignette Amount : 0
Convert To Grayscale : False
Tone Curve Name : Linear
Camera Profile : Embedded
Has Settings : True
Crop Top : 0.026171
Crop Left : 0
Crop Bottom : 0.971103
Crop Right : 1
Crop Angle : 0
Crop Width : 493
Crop Height : 700
Crop Unit : pixels
Has Crop : True
Already Applied : True
Flash Fired : False
Flash Return : No return detection
Flash Mode : Unknown
Flash Function : False
Flash Red Eye Mode : False
Creator Postal Code : I 73100
Creator Work Telephone : +393338562061
Creator Region : LE
Creator Country : ITALY
Creator City : Lecce
Creator Work Email : marinomannarini@gmail.com
Creator Address : piazza Libertini 10
Creator Work URL : www.mydvaphoto.com
Usage Terms : all rights reserved
Creator : marino mannarini
Rights : ©marino mannarini 2008/2009
Tone Curve : 0, 0, 255, 255
Image Width : 211
Image Height : 300
Bits Per Sample : 8
Color Components : 3
Aperture : 8.0
Image Size : 211x300
Megapixels : 0.063
Scale Factor To 35 mm Equivalent : 1.0
Shutter Speed : 1/200
Create Date : 2009:09:28 17:03:35.08
Date/Time Original : 2009:09:28 17:03:35.08
Flash : No Flash
Circle Of Confusion : 0.030 mm
Field Of View : 104.3 deg
Focal Length : 14.0 mm (35 mm equivalent: 14.0 mm)
Hyperfocal Distance : 0.82 m
Light Value : 13.6
Lens ID : 14.0-24.0mm f/2.8