Uber Exif Photo
By-line : Michael Edson S. Mari–as
Copyright Notice : Michael Edson S. Mari–as
Copyright Flag : True
Make : NIKON CORPORATION
Camera Model Name : NIKON D90
Software : Ver.1.00
Modify Date : 2010:10:18 06:03:51
Copyright : Michael Edson S. Marinas
Exposure Time : 1/160
F Number : 18.0
Exposure Program : Manual
ISO : 100
Sensitivity Type : Unknown
Date/Time Original : 2010:10:16 17:34:11
Create Date : 2010:10:16 17:34:11
Shutter Speed Value : 1/160
Aperture Value : 18.0
Exposure Compensation : +1
Max Aperture Value : 2.8
Subject Distance : 4294967295 m
Metering Mode : Multi-segment
Light Source : Unknown
Focal Length : 70.0 mm
User Comment : MICHAEL EDSON S. MARINAS
Sensing Method : One-chip color area
Scene Type : Directly photographed
CFA Pattern : [Green,Blue][Red,Green]
Custom Rendered : Normal
Exposure Mode : Manual
White Balance : Auto
Digital Zoom Ratio : 1
Focal Length In 35mm Format : 105 mm
Scene Capture Type : Standard
Gain Control : None
Contrast : Normal
Saturation : Normal
Sharpness : Hard
Subject Distance Range : Unknown
Serial Number : 2245264
Lens Info : 24-70mm f/2.8
Lens Model : 24.0-70.0 mm f/2.8
Profile Description : sRGB IEC61966-2.1
Date/Time Digitized : 2010:10:16 17:34:11.00+08:00
Exif Image Width : 3855
Exif Image Height : 2561
Creator Tool : Adobe Photoshop Lightroom
Lens : 24.0-70.0 mm f/2.8
Image Number : 4018
Approximate Focus Distance : 4294967295
Marked : True
Version : 6.2
Process Version : 5.7
Color Temperature : 5757
Tint : +2
Exposure : +0.30
Shadows : 11
Brightness : +54
Luminance Smoothing : 74
Color Noise Reduction : 49
Chromatic Aberration R : 0
Chromatic Aberration B : 0
Vignette Amount : -53
Vignette Midpoint : 43
Shadow Tint : 0
Red Hue : 0
Red Saturation : 0
Green Hue : 0
Green Saturation : 0
Blue Hue : 0
Blue Saturation : 0
Fill Light : 74
Vibrance : +60
Highlight Recovery : 8
Clarity : +37
Defringe : 0
Hue Adjustment Red : -10
Hue Adjustment Orange : 0
Hue Adjustment Yellow : 0
Hue Adjustment Green : 0
Hue Adjustment Aqua : 0
Hue Adjustment Blue : 0
Hue Adjustment Purple : 0
Hue Adjustment Magenta : 0
Saturation Adjustment Red : -39
Saturation Adjustment Orange : 0
Saturation Adjustment Yellow : 0
Saturation Adjustment Green : 0
Saturation Adjustment Aqua : 0
Saturation Adjustment Blue : +15
Saturation Adjustment Purple : 0
Saturation Adjustment Magenta : 0
Luminance Adjustment Red : -40
Luminance Adjustment Orange : 0
Luminance Adjustment Yellow : 0
Luminance Adjustment Green : 0
Luminance Adjustment Aqua : 0
Luminance Adjustment Blue : 0
Luminance Adjustment Purple : 0
Luminance Adjustment Magenta : 0
Split Toning Shadow Hue : 0
Split Toning Shadow Saturation : 0
Split Toning Highlight Hue : 0
Split Toning Highlight Saturation : 0
Split Toning Balance : 0
Parametric Shadows : -57
Parametric Darks : 0
Parametric Lights : +6
Parametric Highlights : -59
Parametric Shadow Split : 25
Parametric Midtone Split : 50
Parametric Highlight Split : 75
Sharpen Radius : +1.6
Sharpen Detail : 32
Sharpen Edge Masking : 61
Post Crop Vignette Amount : -24
Post Crop Vignette Midpoint : 58
Post Crop Vignette Feather : 50
Post Crop Vignette Roundness : 0
Post Crop Vignette Style : Color Priority
Post Crop Vignette Highlight Contrast : 15
Grain Amount : 0
Luminance Noise Reduction Detail : 71
Color Noise Reduction Detail : 50
Luminance Noise Reduction Contrast : 17
Lens Profile Enable : 1
Lens Manual Distortion Amount : 0
Perspective Vertical : 0
Perspective Horizontal : 0
Perspective Rotate : 0.0
Perspective Scale : 100
Convert To Grayscale : False
Tone Curve Name : Linear
Camera Profile : Camera Landscape
Lens Profile Setup : LensDefaults
Lens Profile Name : Adobe (Nikon AF-S NIKKOR 24-70mm f/2.8G ED)
Lens Profile Filename : NIKON D3X (Nikon FX 24-70mm f2.8 G ED) - RAW.lcp
Lens Profile Distortion Scale : 100
Lens Profile Chromatic Aberration Scale : 100
Lens Profile Vignetting Scale : 100
Has Settings : True
Crop Top : 0.0365
Crop Left : 0.100868
Crop Bottom : 0.935632
Crop Right : 1
Crop Angle : 0
Crop Constrain To Warp : 0
Crop Width : 3855
Crop Height : 2561
Crop Unit : pixels
Has Crop : True
Already Applied : True
Flash Fired : False
Flash Return : No return detection
Flash Mode : Unknown
Flash Function : False
Flash Red Eye Mode : False
Creator Region : Taytay Rizal
Creator Country : Philippines
Creator Work Email : mykmarinas@gmail.com
Creator Work Telephone : +639209164068
Creator : Michael Edson S. Mariñas
Rights : Michael Edson S. Mariñas
Tone Curve : 0, 0, 255, 255
Gradient Based Corr What : Correction
Gradient Based Corr Amount : 1.000000
Gradient Based Corr Active : true
Gradient Based Corr Exposure : 0.000000
Gradient Based Corr Saturation : 0.000000
Gradient Based Corr Contrast : 0.000000
Gradient Based Corr Clarity : 0.000000
Gradient Based Corr Sharpness : 0.000000
Gradient Based Corr Brightness : 0.000000
Gradient Based Corr Toning Hue : 0.000000
Gradient Based Corr Toning Saturation : 0.000000
Gradient Based Corr Mask What : Mask/Gradient
Gradient Based Corr Mask Value : 1.000000
Gradient Based Corr Mask Zero X : 0.610847
Gradient Based Corr Mask Zero Y : 0.756413
Gradient Based Corr Mask Full X : 0.612356
Gradient Based Corr Mask Full Y : 0.476204
Image Width : 300
Image Height : 199
Bits Per Sample : 8
Color Components : 3
Aperture : 18.0
Image Size : 300x199
Megapixels : 0.060
Scale Factor To 35 mm Equivalent : 1.5
Shutter Speed : 1/160
Create Date : 2010:10:16 17:34:11.00
Date/Time Original : 2010:10:16 17:34:11.00
Flash : No Flash
Circle Of Confusion : 0.020 mm
Depth Of Field : inf (13.59 m - inf)
Field Of View : 19.5 deg
Focal Length : 70.0 mm (35 mm equivalent: 105.0 mm)
Hyperfocal Distance : 13.59 m
Light Value : 15.7
Lens ID : AF-S Zoom-Nikkor 24-70mm f/2.8G ED