Uber Exif Photo
Make : NIKON CORPORATION
Camera Model Name : NIKON D5000
Software : Ver.1.00
Modify Date : 2010:11:03 02:13:11
Exposure Time : 1/20
F Number : 5.6
Exposure Program : Program AE
ISO : 1600
Date/Time Original : 2010:11:02 18:14:41
Create Date : 2010:11:02 18:14:41
Shutter Speed Value : 1/20
Aperture Value : 5.6
Exposure Compensation : 0
Max Aperture Value : 5.7
Subject Distance : 2.24 m
Metering Mode : Multi-segment
Light Source : Unknown
Focal Length : 55.0 mm
User Comment : Abdul Basit [abdulbasit17@gmail.com]
Sensing Method : One-chip color area
Scene Type : Directly photographed
CFA Pattern : [Green,Blue][Red,Green]
Custom Rendered : Normal
Exposure Mode : Auto
White Balance : Auto
Digital Zoom Ratio : 1
Focal Length In 35mm Format : 82 mm
Scene Capture Type : Standard
Gain Control : High gain up
Contrast : Normal
Saturation : Normal
Sharpness : Hard
Subject Distance Range : Unknown
Profile Description : sRGB IEC61966-2.1
Date/Time Digitized : 2010:11:02 18:14:41.50+06:00
Exif Image Width : 2924
Exif Image Height : 1712
Creator Tool : Adobe Photoshop Lightroom
Serial Number : 2178359
Lens Info : 18-55mm f/3.5-5.6
Lens : 18.0-55.0 mm f/3.5-5.6
Image Number : 5794
Version : 6.1
Process Version : 5.7
Incremental Temperature : -34
Incremental Tint : -10
Exposure : +1.25
Shadows : 0
Brightness : +33
Luminance Smoothing : 0
Color Noise Reduction : 0
Chromatic Aberration R : 0
Chromatic Aberration B : 0
Vignette Amount : 0
Shadow Tint : 0
Red Hue : 0
Red Saturation : 0
Green Hue : 0
Green Saturation : 0
Blue Hue : 0
Blue Saturation : 0
Fill Light : 0
Highlight Recovery : 0
Clarity : +52
Defringe : 0
Gray Mixer Red : -25
Gray Mixer Orange : -25
Gray Mixer Yellow : -25
Gray Mixer Green : -25
Gray Mixer Aqua : +50
Gray Mixer Blue : +50
Gray Mixer Purple : +50
Gray Mixer Magenta : +50
Split Toning Shadow Hue : 233
Split Toning Shadow Saturation : 78
Split Toning Highlight Hue : 78
Split Toning Highlight Saturation : 58
Split Toning Balance : 0
Parametric Shadows : -78
Parametric Darks : -25
Parametric Lights : 0
Parametric Highlights : -7
Parametric Shadow Split : 25
Parametric Midtone Split : 50
Parametric Highlight Split : 75
Sharpen Radius : +1.0
Sharpen Detail : 25
Sharpen Edge Masking : 0
Post Crop Vignette Amount : 0
Grain Amount : 0
Lens Profile Enable : 0
Lens Manual Distortion Amount : 0
Perspective Vertical : 0
Perspective Horizontal : 0
Perspective Rotate : 0.0
Perspective Scale : 100
Convert To Grayscale : True
Tone Curve Name : Linear
Camera Profile : Embedded
Lens Profile Setup : LensDefaults
Has Settings : True
Crop Top : 0.198675
Crop Left : 0.090909
Crop Bottom : 1
Crop Right : 1
Crop Angle : 0
Crop Constrain To Warp : 0
Crop Width : 2924
Crop Height : 1712
Crop Unit : pixels
Has Crop : True
Already Applied : True
Flash Fired : False
Flash Return : No return detection
Flash Mode : Unknown
Flash Function : False
Flash Red Eye Mode : False
Tone Curve : 0, 0, 255, 255
Image Width : 300
Image Height : 176
Bits Per Sample : 8
Color Components : 3
Aperture : 5.6
Image Size : 300x176
Megapixels : 0.053
Scale Factor To 35 mm Equivalent : 1.5
Shutter Speed : 1/20
Create Date : 2010:11:02 18:14:41.50
Date/Time Original : 2010:11:02 18:14:41.50
Flash : No Flash
Circle Of Confusion : 0.020 mm
Depth Of Field : 0.37 m (2.07 - 2.44 m)
Field Of View : 24.8 deg
Focal Length : 55.0 mm (35 mm equivalent: 82.0 mm)
Hyperfocal Distance : 26.80 m
Light Value : 5.3
Lens ID : AF-S DX VR Zoom-Nikkor 18-55mm f/3.5-5.6G