Uber Exif Photo
Caption-Abstract : Anihime Lake
Writer-Editor : Randy & Donna Giesbrecht
Special Instructions : All Rights Reserved
By-line : Randy & Donna Giesbrecht
By-line Title : Randy & Donna Giesbrecht
Object Name : Bella Coola 2007
Sub-location : Bella Coola 2007
Province-State : B.C.
Country-Primary Location Name : Canada
Original Transmission Reference : Bella Coola 2007
Keywords : Bella Coola 2007
Copyright Notice : Randy & Donna Giesbrecht © Black Knight Holdings ©
Copyright Flag : True
URL : www.blackknightphoto.ca/
Photometric Interpretation : RGB
Image Description : Anihime Lake
Make : NIKON CORPORATION
Camera Model Name : NIKON D2Xs
Orientation : Horizontal (normal)
Samples Per Pixel : 3
Software : Adobe Photoshop CS5 Windows
Modify Date : 2010:11:09 09:48:58
Artist : Randy & Donna Giesbrecht
Copyright : Randy & Donna Giesbrecht © Black Knight Holdings ©
Exposure Time : 1/125
F Number : 4.0
Exposure Program : Aperture-priority AE
ISO : 500
Date/Time Original : 2007:10:12 12:58:45
Create Date : 2007:10:12 12:58:45
Shutter Speed Value : 1/125
Aperture Value : 4.0
Exposure Compensation : 0
Max Aperture Value : 4.0
Metering Mode : Multi-segment
Light Source : Unknown
Flash : No Flash
Focal Length : 240.0 mm
Color Space : Uncalibrated
Exif Image Width : 900
Exif Image Height : 647
Sensing Method : One-chip color area
Scene Type : Directly photographed
CFA Pattern : [Red,Green][Green,Blue]
Custom Rendered : Normal
Exposure Mode : Auto
White Balance : Manual
Digital Zoom Ratio : 1
Focal Length In 35mm Format : 360 mm
Scene Capture Type : Standard
Gain Control : Low gain up
Contrast : Low
Saturation : Normal
Sharpness : Soft
Subject Distance Range : Unknown
Profile Description : Adobe RGB (1998)
Creator Tool : Adobe Photoshop CS3 Windows
Rating : 0
Label : Red
Serial Number : 6005993
Lens Info : 200-400mm f/4
Lens : 200.0-400.0 mm f/4.0
Image Number : 11234
Headline : Bella Coola 2007
Transmission Reference : Bella Coola 2007
Instructions : All Rights Reserved
Source : Black Knight Holdings © 2007
Category : BKH
Date Created : 2007:10:11
City : Abbotsford
State : B.C.
Country : Canada
Credit : Randy & Donna Giesbrecht
Authors Position : Randy & Donna Giesbrecht Black Knight Holdings
Caption Writer : Randy & Donna Giesbrecht Black Knight Holdings
Sidecar For Extension : NEF
Color Mode : RGB
ICC Profile Name : Adobe RGB (1998)
Format : image/jpeg
Intellectual Genre : Bella Coola 2007
Location : Bella Coola 2007
Marked : True
Web Statement : www.blackknightphoto.ca/
Version : 4.2
Raw File Name : _BKH1211.NEF
Color Temperature : 4750
Tint : +10
Exposure : 0.00
Shadows : 34
Brightness : +50
Luminance Smoothing : 0
Color Noise Reduction : 25
Chromatic Aberration R : 0
Chromatic Aberration B : 0
Vignette Amount : 0
Shadow Tint : 0
Red Hue : 0
Red Saturation : 0
Green Hue : 0
Green Saturation : 0
Blue Hue : 0
Blue Saturation : 0
Fill Light : 17
Vibrance : 0
Highlight Recovery : 14
Clarity : 47
Defringe : 0
Hue Adjustment Red : 0
Hue Adjustment Orange : 0
Hue Adjustment Yellow : 0
Hue Adjustment Green : 0
Hue Adjustment Aqua : 0
Hue Adjustment Blue : 0
Hue Adjustment Purple : 0
Hue Adjustment Magenta : 0
Saturation Adjustment Red : 0
Saturation Adjustment Orange : 0
Saturation Adjustment Yellow : 0
Saturation Adjustment Green : 0
Saturation Adjustment Aqua : 0
Saturation Adjustment Blue : 0
Saturation Adjustment Purple : 0
Saturation Adjustment Magenta : 0
Luminance Adjustment Red : 0
Luminance Adjustment Orange : 0
Luminance Adjustment Yellow : 0
Luminance Adjustment Green : 0
Luminance Adjustment Aqua : 0
Luminance Adjustment Blue : 0
Luminance Adjustment Purple : 0
Luminance Adjustment Magenta : 0
Split Toning Shadow Hue : 0
Split Toning Shadow Saturation : 0
Split Toning Highlight Hue : 0
Split Toning Highlight Saturation : 0
Split Toning Balance : 0
Parametric Shadows : 0
Parametric Darks : 0
Parametric Lights : 0
Parametric Highlights : 0
Parametric Shadow Split : 25
Parametric Midtone Split : 50
Parametric Highlight Split : 75
Sharpen Radius : +1.0
Sharpen Detail : 25
Sharpen Edge Masking : 0
Convert To Grayscale : False
Tone Curve Name : Medium Contrast
Camera Profile : ACR 3.1
Has Settings : True
Has Crop : False
Already Applied : True
Supplemental Categories : Bella Coola 2007
Description : Anihime Lake
Subject : Bella Coola 2007
Title : Bella Coola 2007
Creator : Randy & Donna Giesbrecht, Black Knight Holdings
Rights : Randy & Donna Giesbrecht © Black Knight Holdings ©
Subject Code : Bella Coola 2007
Scene : Bella Coola 2007
Creator Address : 2764 Mountview Street
Creator City : Abbotsford
Creator Region : B.C.
Creator Postal Code : V2S 3L7
Creator Country : Canada
Creator Work Telephone : 604-853-6191 Office.604-309-1738 Cell
Creator Work Email : blackknightphoto@telus.net
Creator Work URL : www.html.blackknightphoto.ca/
Usage Terms : All Rights Reserved ..Please Call Randy For Usage 604-309-1738 or Email blackknightphoto@telus.net
Tone Curve : 0, 0, 32, 22, 64, 56, 128, 128, 192, 196, 255, 255
Derived From :
Image Width : 300
Image Height : 216
Bits Per Sample : 8
Color Components : 3
Aperture : 4.0
Image Size : 300x216
Megapixels : 0.065
Scale Factor To 35 mm Equivalent : 1.5
Shutter Speed : 1/125
Create Date : 2007:10:12 12:58:45.16
Date/Time Original : 2007:10:12 12:58:45.16
Modify Date : 2010:11:09 09:48:58.16
Circle Of Confusion : 0.020 mm
Field Of View : 5.7 deg
Focal Length : 240.0 mm (35 mm equivalent: 360.0 mm)
Hyperfocal Distance : 718.89 m
Light Value : 8.6
Lens ID : 200.0-400.0mm f/4.0