Uber Exif Photo
Object Name : USA 2010
Keywords : New York, USA
By-line : SOEREN FRIBERG
Sub-location : New York
Copyright Notice : SOEREN FRIBERG
Copyright Flag : True
Make : NIKON CORPORATION
Camera Model Name : NIKON D700
Software : Adobe Photoshop CS5 Windows
Modify Date : 2010:10:26 17:51:35
Artist : SOEREN FRIBERG
Copyright : SOEREN FRIBERG
Exposure Time : 1/250
F Number : 9.5
Exposure Program : Shutter speed priority AE
ISO : 200
Sensitivity Type : Unknown
Date/Time Original : 2010:07:12 02:03:09
Create Date : 2010:07:12 02:03:09
Shutter Speed Value : 1/250
Aperture Value : 9.5
Exposure Compensation : +1
Max Aperture Value : 2.8
Subject Distance : 5.01 m
Metering Mode : Multi-segment
Light Source : Unknown
Focal Length : 24.0 mm
Sensing Method : One-chip color area
Scene Type : Directly photographed
CFA Pattern : [Red,Green][Green,Blue]
Custom Rendered : Normal
Exposure Mode : Auto
White Balance : Auto
Digital Zoom Ratio : 1
Focal Length In 35mm Format : 24 mm
Scene Capture Type : Standard
Gain Control : None
Contrast : Normal
Saturation : Normal
Sharpness : Normal
Subject Distance Range : Unknown
Serial Number : 2257086
Lens Info : 24-70mm f/2.8
Lens Model : 24.0-70.0 mm f/2.8
GPS Version ID : 2.2.0.0
GPS Altitude Ref : Above Sea Level
GPS Time Stamp : 00:03:09
GPS Satellites : 08
GPS Date Stamp : 2010:07:12
Profile Description : sRGB IEC61966-2.1
Location : New York
Approximate Focus Distance : 5.01
Image Number : 11611
Lens : 24.0-70.0 mm f/2.8
Format : application/vnd.adobe.photoshop
Creator Tool : Adobe Photoshop Lightroom
Date Created : 2010:07:12 02:03:09.025
Model Release Status : None
PLUS Version : 1.2.0
Marked : True
Date/Time Digitized : 2010:07:12 02:03:09.25+02:00
Exif Image Width : 950
Exif Image Height : 632
Version : 6.2
Process Version : 5.7
Incremental Temperature : 0
Incremental Tint : 0
Exposure : 0.00
Shadows : 0
Brightness : 0
Luminance Smoothing : 0
Color Noise Reduction : 0
Chromatic Aberration R : 0
Chromatic Aberration B : 0
Vignette Amount : 0
Shadow Tint : 0
Red Hue : 0
Red Saturation : 0
Green Hue : 0
Green Saturation : 0
Blue Hue : 0
Blue Saturation : 0
Fill Light : 0
Vibrance : 0
Highlight Recovery : 0
Clarity : 0
Defringe : 0
Hue Adjustment Red : 0
Hue Adjustment Orange : 0
Hue Adjustment Yellow : 0
Hue Adjustment Green : 0
Hue Adjustment Aqua : 0
Hue Adjustment Blue : 0
Hue Adjustment Purple : 0
Hue Adjustment Magenta : 0
Saturation Adjustment Red : 0
Saturation Adjustment Orange : 0
Saturation Adjustment Yellow : 0
Saturation Adjustment Green : 0
Saturation Adjustment Aqua : 0
Saturation Adjustment Blue : +100
Saturation Adjustment Purple : 0
Saturation Adjustment Magenta : 0
Luminance Adjustment Red : 0
Luminance Adjustment Orange : 0
Luminance Adjustment Yellow : 0
Luminance Adjustment Green : 0
Luminance Adjustment Aqua : 0
Luminance Adjustment Blue : 0
Luminance Adjustment Purple : 0
Luminance Adjustment Magenta : 0
Split Toning Shadow Hue : 0
Split Toning Shadow Saturation : 0
Split Toning Highlight Hue : 0
Split Toning Highlight Saturation : 0
Split Toning Balance : 0
Parametric Shadows : 0
Parametric Darks : 0
Parametric Lights : 0
Parametric Highlights : 0
Parametric Shadow Split : 25
Parametric Midtone Split : 50
Parametric Highlight Split : 75
Sharpen Radius : +1.0
Sharpen Detail : 25
Sharpen Edge Masking : 0
Post Crop Vignette Amount : 0
Grain Amount : 0
Lens Profile Enable : 0
Lens Manual Distortion Amount : 0
Perspective Vertical : 0
Perspective Horizontal : 0
Perspective Rotate : 0.0
Perspective Scale : 100
Convert To Grayscale : False
Tone Curve Name : Linear
Camera Profile : Embedded
Lens Profile Setup : LensDefaults
Has Settings : True
Has Crop : False
Already Applied : True
Creator Work URL : fotofriberg.dk
Creator : SOEREN FRIBERG
Title : USA 2010
Rights : SOEREN FRIBERG
Subject : New York, USA
Flash Fired : False
Flash Return : No return detection
Flash Mode : Unknown
Flash Function : False
Flash Red Eye Mode : False
Tone Curve : 0, 0, 255, 255
Paint Correction What : Correction
Paint Correction Amount : 1.000000
Paint Correction Active : true
Paint Correction Exposure : 0.000000
Paint Correction Saturation : 0.000000
Paint Correction Contrast : 0.000000
Paint Correction Clarity : 1.000000
Paint Correction Sharpness : 1.000000
Paint Correction Brightness : 0.000000
Paint Correction Toning Hue : 0.000000
Paint Correction Toning Saturation : 0.000000
Paint Correction Mask What : Mask/Paint
Paint Correction Mask Value : 1.000000
Paint Correction Mask Radius : 0.103770
Paint Correction Mask Flow : 1.000000
Paint Correction Mask Center Weight : 0.000000
Image Width : 300
Image Height : 200
Bits Per Sample : 8
Color Components : 3
Aperture : 9.5
Image Size : 300x200
Megapixels : 0.060
Scale Factor To 35 mm Equivalent : 1.0
Shutter Speed : 1/250
Create Date : 2010:07:12 02:03:09.25
Date/Time Original : 2010:07:12 02:03:09.25
GPS Altitude : 2 m Above Sea Level
GPS Date/Time : 2010:07:12 00:03:09Z
GPS Latitude : 40 deg 42' 55.37" N
GPS Longitude : 74 deg 1' 20.29" W
Flash : No Flash
GPS Latitude Ref : North
GPS Longitude Ref : West
Circle Of Confusion : 0.030 mm
Depth Of Field : inf (1.44 m - inf)
Field Of View : 73.7 deg
Focal Length : 24.0 mm (35 mm equivalent: 24.0 mm)
GPS Position : 40 deg 42' 55.37" N, 74 deg 1' 20.29" W
Hyperfocal Distance : 2.02 m
Light Value : 13.5
Lens ID : AF-S Zoom-Nikkor 24-70mm f/2.8G ED