Uber Exif Photo
Date Created : 2010:01:22
Photometric Interpretation : RGB
Make : NIKON CORPORATION
Camera Model Name : NIKON D700
Orientation : Horizontal (normal)
Samples Per Pixel : 3
Planar Configuration : Chunky
Software : Adobe Photoshop CS5 Windows
Modify Date : 2010:05:05 20:34:39
Exposure Time : 25
F Number : 2.8
Exposure Program : Manual
ISO : 800
Date/Time Original : 2010:01:22 22:14:00
Create Date : 2010:01:22 22:14:00
Shutter Speed Value : 25
Aperture Value : 2.8
Exposure Compensation : 0
Max Aperture Value : 2.8
Subject Distance : 4294967295 m
Metering Mode : Multi-segment
Light Source : Unknown
Flash : No Flash
Focal Length : 35.0 mm
Color Space : Uncalibrated
Exif Image Width : 1024
Exif Image Height : 556
Sensing Method : One-chip color area
Scene Type : Directly photographed
CFA Pattern : [Red,Green][Green,Blue]
Custom Rendered : Normal
Exposure Mode : Manual
White Balance : Auto
Digital Zoom Ratio : 1
Focal Length In 35mm Format : 35 mm
Scene Capture Type : Standard
Gain Control : Low gain up
Contrast : Normal
Saturation : Normal
Sharpness : Hard
Subject Distance Range : Unknown
Profile Description : Adobe RGB (1998)
Creator Tool : Adobe Photoshop CS4 Windows
Rating : 0
Serial Number : 2005718
Lens Info : 17-35mm f/2.8
Lens : 17.0-35.0 mm f/2.8
Image Number : 3723
Raw File Name : _DSC4225.NEF
Version : 5.6
Color Temperature : 4700
Tint : +34
Exposure : 0.00
Shadows : 0
Brightness : +50
Luminance Smoothing : 33
Color Noise Reduction : 32
Chromatic Aberration R : 0
Chromatic Aberration B : 0
Vignette Amount : -3
Vignette Midpoint : 50
Shadow Tint : 0
Red Hue : 0
Red Saturation : 0
Green Hue : 0
Green Saturation : 0
Blue Hue : 0
Blue Saturation : 0
Fill Light : 18
Vibrance : 0
Highlight Recovery : 50
Clarity : +50
Defringe : 0
Hue Adjustment Red : 0
Hue Adjustment Orange : 0
Hue Adjustment Yellow : 0
Hue Adjustment Green : 0
Hue Adjustment Aqua : 0
Hue Adjustment Blue : 0
Hue Adjustment Purple : 0
Hue Adjustment Magenta : 0
Saturation Adjustment Red : 0
Saturation Adjustment Orange : 0
Saturation Adjustment Yellow : 0
Saturation Adjustment Green : 0
Saturation Adjustment Aqua : 0
Saturation Adjustment Blue : 0
Saturation Adjustment Purple : 0
Saturation Adjustment Magenta : 0
Luminance Adjustment Red : 0
Luminance Adjustment Orange : 0
Luminance Adjustment Yellow : 0
Luminance Adjustment Green : 0
Luminance Adjustment Aqua : 0
Luminance Adjustment Blue : 0
Luminance Adjustment Purple : 0
Luminance Adjustment Magenta : 0
Split Toning Shadow Hue : 0
Split Toning Shadow Saturation : 0
Split Toning Highlight Hue : 0
Split Toning Highlight Saturation : 0
Split Toning Balance : 0
Parametric Shadows : 0
Parametric Darks : 0
Parametric Lights : 0
Parametric Highlights : 0
Parametric Shadow Split : 25
Parametric Midtone Split : 50
Parametric Highlight Split : 75
Sharpen Radius : +0.5
Sharpen Detail : 0
Sharpen Edge Masking : 0
Post Crop Vignette Amount : 0
Convert To Grayscale : False
Tone Curve Name : Medium Contrast
Camera Profile : Adobe Standard
Has Settings : True
Has Crop : False
Already Applied : True
Format : image/jpeg
Color Mode : RGB
ICC Profile Name : Adobe RGB (1998)
Tone Curve : 0, 0, 32, 22, 64, 56, 128, 128, 192, 196, 255, 255
Image Width : 300
Image Height : 163
Bits Per Sample : 8
Color Components : 3
Aperture : 2.8
Image Size : 300x163
Megapixels : 0.049
Scale Factor To 35 mm Equivalent : 1.0
Shutter Speed : 25
Create Date : 2010:01:22 22:14:00.33
Date/Time Original : 2010:01:22 22:14:00.33
Modify Date : 2010:05:05 20:34:39.33
Circle Of Confusion : 0.030 mm
Depth Of Field : inf (14.56 m - inf)
Field Of View : 54.4 deg
Focal Length : 35.0 mm (35 mm equivalent: 35.0 mm)
Hyperfocal Distance : 14.56 m
Light Value : -4.7
Lens ID : AF-S Nikkor 17-35mm f/2.8D IF-ED