Uber Exif Photo
By-line : RMPantke(c)rmp1006@hotmail.com
Copyright Notice : RMPantke
Make : NIKON CORPORATION
Camera Model Name : NIKON D700
Orientation : Horizontal (normal)
Software : Adobe Photoshop CS4 Macintosh
Modify Date : 2010:11:16 08:46:08
Artist : RMPantke(c)rmp1006@hotmail.com
Copyright : RMPantke
Exposure Time : 0.6
F Number : 5.6
Exposure Program : Aperture-priority AE
ISO : 200
Date/Time Original : 2010:11:14 22:16:02
Create Date : 2010:11:14 22:16:02
Shutter Speed Value : 0.6
Aperture Value : 5.6
Exposure Compensation : 0
Max Aperture Value : 2.9
Metering Mode : Spot
Light Source : Unknown
Focal Length : 105.0 mm
Color Space : Uncalibrated
Exif Image Width : 532
Exif Image Height : 800
Sensing Method : One-chip color area
Scene Type : Directly photographed
CFA Pattern : [Red,Green][Green,Blue]
Custom Rendered : Custom
Exposure Mode : Auto
White Balance : Auto
Digital Zoom Ratio : 1
Focal Length In 35mm Format : 105 mm
Scene Capture Type : Standard
Gain Control : None
Contrast : Normal
Saturation : Normal
Sharpness : Normal
Subject Distance Range : Unknown
Date/Time Digitized : 2010:11:14 22:16:02.56+01:00
Creator Tool : Ver.1.02
Rating : 0
Format : image/jpeg
Serial Number : 2215464
Lens Info : 105mm f/2.8
Lens : 105.0 mm f/2.8
Image Number : 1180
Raw File Name : _ROS1155.NEF
Version : 5.0
Color Temperature : 2950
Tint : -13
Exposure : 0.00
Shadows : 3
Brightness : +50
Luminance Smoothing : 0
Color Noise Reduction : 25
Chromatic Aberration R : 0
Chromatic Aberration B : 0
Vignette Amount : 0
Shadow Tint : 0
Red Hue : 0
Red Saturation : 0
Green Hue : 0
Green Saturation : 0
Blue Hue : 0
Blue Saturation : 0
Fill Light : 0
Vibrance : 0
Highlight Recovery : 100
Clarity : 0
Defringe : 0
Hue Adjustment Red : 0
Hue Adjustment Orange : 0
Hue Adjustment Yellow : 0
Hue Adjustment Green : 0
Hue Adjustment Aqua : 0
Hue Adjustment Blue : 0
Hue Adjustment Purple : 0
Hue Adjustment Magenta : 0
Saturation Adjustment Red : 0
Saturation Adjustment Orange : 0
Saturation Adjustment Yellow : 0
Saturation Adjustment Green : 0
Saturation Adjustment Aqua : 0
Saturation Adjustment Blue : 0
Saturation Adjustment Purple : 0
Saturation Adjustment Magenta : 0
Luminance Adjustment Red : 0
Luminance Adjustment Orange : 0
Luminance Adjustment Yellow : 0
Luminance Adjustment Green : 0
Luminance Adjustment Aqua : 0
Luminance Adjustment Blue : 0
Luminance Adjustment Purple : 0
Luminance Adjustment Magenta : 0
Split Toning Shadow Hue : 0
Split Toning Shadow Saturation : 0
Split Toning Highlight Hue : 0
Split Toning Highlight Saturation : 0
Split Toning Balance : 0
Parametric Shadows : 0
Parametric Darks : 0
Parametric Lights : 0
Parametric Highlights : 0
Parametric Shadow Split : 25
Parametric Midtone Split : 50
Parametric Highlight Split : 75
Sharpen Radius : +1.0
Sharpen Detail : 25
Sharpen Edge Masking : 0
Post Crop Vignette Amount : 0
Convert To Grayscale : False
Tone Curve Name : Medium Contrast
Camera Profile : Beta
Has Settings : True
Has Crop : False
Already Applied : True
Sidecar For Extension : NEF
Color Mode : Grayscale
ICC Profile Name : Dot Gain 15%
Flash Fired : False
Flash Return : No return detection
Flash Mode : Unknown
Flash Function : False
Flash Red Eye Mode : False
Creator : RMPantke(c)rmp1006@hotmail.com
Rights : RMPantke
Tone Curve : 0, 0, 32, 22, 64, 56, 128, 128, 192, 196, 255, 255
Image Width : 200
Image Height : 300
Bits Per Sample : 8
Color Components : 1
Aperture : 5.6
Image Size : 200x300
Megapixels : 0.060
Scale Factor To 35 mm Equivalent : 1.0
Shutter Speed : 0.6
Create Date : 2010:11:14 22:16:02.56
Date/Time Original : 2010:11:14 22:16:02.56
Modify Date : 2010:11:16 08:46:08.56
Flash : No Flash
Circle Of Confusion : 0.030 mm
Field Of View : 19.5 deg
Focal Length : 105.0 mm (35 mm equivalent: 105.0 mm)
Hyperfocal Distance : 65.52 m
Light Value : 4.7
Lens ID : 105.0mm f/2.8