Uber Exif Photo
By-line : WangYinan
Make : NIKON CORPORATION
Camera Model Name : NIKON D3
Orientation : Horizontal (normal)
Software : Adobe Photoshop CS5 Windows
Modify Date : 2010:11:17 10:12:34
Artist : WangYinan
Exposure Time : 1/20
F Number : 3.2
Exposure Program : Aperture-priority AE
ISO : 1600
Sensitivity Type : Unknown
Date/Time Original : 2010:03:26 16:53:46
Create Date : 2010:03:26 16:53:46
Shutter Speed Value : 1/20
Aperture Value : 3.2
Exposure Compensation : 0
Max Aperture Value : 2.8
Subject Distance : 3.35 m
Metering Mode : Multi-segment
Light Source : Unknown
Flash : No Flash
Focal Length : 17.0 mm
Color Space : Uncalibrated
Exif Image Width : 711
Exif Image Height : 400
Sensing Method : One-chip color area
Scene Type : Directly photographed
CFA Pattern : [Red,Green][Green,Blue]
Custom Rendered : Normal
Exposure Mode : Auto
White Balance : Auto
Digital Zoom Ratio : 1
Focal Length In 35mm Format : 17 mm
Scene Capture Type : Standard
Gain Control : High gain up
Contrast : Normal
Saturation : Normal
Sharpness : Hard
Subject Distance Range : Unknown
Serial Number : 2093377
Lens Info : 17-35mm f/2.8
Lens Model : 17.0-35.0 mm f/2.8
Profile Description : Adobe RGB (1998)
Creator Tool : Ver.2.02
Rating : 0
Format : image/jpeg
Lens : 17.0-35.0 mm f/2.8
Image Number : 11346
Approximate Focus Distance : 3.35
Raw File Name : _WYN0176.NEF
Version : 6.2
Process Version : 5.0
Color Temperature : 4900
Tint : -11
Exposure : +0.40
Shadows : 3
Brightness : +61
Luminance Smoothing : 0
Color Noise Reduction : 25
Chromatic Aberration R : 0
Chromatic Aberration B : 0
Vignette Amount : 0
Shadow Tint : 0
Red Hue : 0
Red Saturation : 0
Green Hue : 0
Green Saturation : 0
Blue Hue : 0
Blue Saturation : 0
Fill Light : 20
Vibrance : +62
Highlight Recovery : 30
Clarity : 0
Defringe : 0
Hue Adjustment Red : 0
Hue Adjustment Orange : 0
Hue Adjustment Yellow : 0
Hue Adjustment Green : 0
Hue Adjustment Aqua : 0
Hue Adjustment Blue : 0
Hue Adjustment Purple : 0
Hue Adjustment Magenta : 0
Saturation Adjustment Red : 0
Saturation Adjustment Orange : 0
Saturation Adjustment Yellow : 0
Saturation Adjustment Green : 0
Saturation Adjustment Aqua : 0
Saturation Adjustment Blue : 0
Saturation Adjustment Purple : 0
Saturation Adjustment Magenta : 0
Luminance Adjustment Red : 0
Luminance Adjustment Orange : 0
Luminance Adjustment Yellow : 0
Luminance Adjustment Green : 0
Luminance Adjustment Aqua : 0
Luminance Adjustment Blue : 0
Luminance Adjustment Purple : 0
Luminance Adjustment Magenta : 0
Split Toning Shadow Hue : 0
Split Toning Shadow Saturation : 0
Split Toning Highlight Hue : 0
Split Toning Highlight Saturation : 0
Split Toning Balance : 0
Parametric Shadows : 0
Parametric Darks : 0
Parametric Lights : 0
Parametric Highlights : 0
Parametric Shadow Split : 25
Parametric Midtone Split : 50
Parametric Highlight Split : 75
Sharpen Radius : +0.9
Sharpen Detail : 55
Sharpen Edge Masking : 0
Post Crop Vignette Amount : 0
Grain Amount : 0
Lens Profile Enable : 0
Lens Manual Distortion Amount : 0
Perspective Vertical : 0
Perspective Horizontal : 0
Perspective Rotate : 0.0
Perspective Scale : 100
Convert To Grayscale : False
Tone Curve Name : Medium Contrast
Camera Profile : ACR 4.4
Lens Profile Setup : LensDefaults
Has Settings : True
Crop Top : 0.17068
Crop Left : 0.061602
Crop Bottom : 0.931915
Crop Right : 1
Crop Angle : -0.998083
Crop Constrain To Warp : 1
Crop Width : 9
Crop Height : 16
Crop Unit : Unknown (3)
Has Crop : True
Already Applied : True
Sidecar For Extension : NEF
Color Mode : RGB
ICC Profile Name : Adobe RGB (1998)
Date Created : 2010:03:26 16:53:46.058
Creator : WangYinan
Tone Curve : 0, 0, 32, 22, 64, 56, 128, 128, 192, 196, 255, 255
Image Width : 300
Image Height : 169
Bits Per Sample : 8
Color Components : 3
Aperture : 3.2
Image Size : 300x169
Megapixels : 0.051
Scale Factor To 35 mm Equivalent : 1.0
Shutter Speed : 1/20
Create Date : 2010:03:26 16:53:46.58
Date/Time Original : 2010:03:26 16:53:46.58
Modify Date : 2010:11:17 10:12:34.58
Circle Of Confusion : 0.030 mm
Depth Of Field : inf (1.59 m - inf)
Field Of View : 93.3 deg
Focal Length : 17.0 mm (35 mm equivalent: 17.0 mm)
Hyperfocal Distance : 3.01 m
Light Value : 3.7
Lens ID : AF-S Nikkor 17-35mm f/2.8D IF-ED