Uber Exif Photo
Caption-Abstract : Anihime Lake
Writer-Editor : Randy & Donna Giesbrecht
Special Instructions : All Rights Reserved
By-line : Randy & Donna Giesbrecht
By-line Title : Randy & Donna Giesbrecht
Object Name : Bella Coola 2007
Sub-location : Bella Coola 2007
Province-State : B.C.
Country-Primary Location Name : Canada
Original Transmission Reference : Bella Coola 2007
Keywords : Bella Coola 2007
Copyright Notice : Randy & Donna Giesbrecht © Black Knight Holdings ©
Copyright Flag : True
URL : www.blackknightphoto.ca/
Photometric Interpretation : RGB
Image Description : Anihime Lake
Make : NIKON CORPORATION
Camera Model Name : NIKON D2Xs
Orientation : Horizontal (normal)
Samples Per Pixel : 3
Software : Adobe Photoshop CS5 Windows
Modify Date : 2010:11:09 09:49:37
Artist : Randy & Donna Giesbrecht
Copyright : Randy & Donna Giesbrecht © Black Knight Holdings ©
Exposure Time : 1/15
F Number : 18.0
Exposure Program : Aperture-priority AE
ISO : 320
Date/Time Original : 2007:10:12 11:19:35
Create Date : 2007:10:12 11:19:35
Shutter Speed Value : 1/15
Aperture Value : 18.0
Exposure Compensation : 0
Max Aperture Value : 2.8
Metering Mode : Multi-segment
Light Source : Unknown
Flash : No Flash
Focal Length : 20.0 mm
Color Space : Uncalibrated
Exif Image Width : 900
Exif Image Height : 647
Sensing Method : One-chip color area
Scene Type : Directly photographed
CFA Pattern : [Red,Green][Green,Blue]
Custom Rendered : Normal
Exposure Mode : Auto
White Balance : Manual
Digital Zoom Ratio : 1
Focal Length In 35mm Format : 30 mm
Scene Capture Type : Standard
Gain Control : None
Contrast : Low
Saturation : Normal
Sharpness : Soft
Subject Distance Range : Unknown
Profile Description : Adobe RGB (1998)
Creator Tool : Adobe Photoshop CS3 Windows
Rating : 0
Label : Red
Serial Number : 6005993
Lens Info : 17-35mm f/2.8
Lens : 17.0-35.0 mm f/2.8
Image Number : 11169
Headline : Bella Coola 2007
Transmission Reference : Bella Coola 2007
Instructions : All Rights Reserved
Source : Black Knight Holdings © 2007
Category : BKH
Date Created : 2007:10:11
City : Abbotsford
State : B.C.
Country : Canada
Credit : Randy & Donna Giesbrecht
Authors Position : Randy & Donna Giesbrecht Black Knight Holdings
Caption Writer : Randy & Donna Giesbrecht Black Knight Holdings
Sidecar For Extension : NEF
Color Mode : RGB
ICC Profile Name : Adobe RGB (1998)
Format : image/jpeg
Intellectual Genre : Bella Coola 2007
Location : Bella Coola 2007
Marked : True
Web Statement : www.blackknightphoto.ca/
Version : 4.2
Raw File Name : _BKH1146.NEF
Color Temperature : 5001
Tint : +10
Exposure : 0.00
Shadows : 55
Brightness : +50
Luminance Smoothing : 0
Color Noise Reduction : 25
Chromatic Aberration R : 0
Chromatic Aberration B : 0
Vignette Amount : 0
Shadow Tint : 0
Red Hue : 0
Red Saturation : 0
Green Hue : 0
Green Saturation : 0
Blue Hue : 0
Blue Saturation : 0
Fill Light : 17
Vibrance : +17
Highlight Recovery : 97
Clarity : 79
Defringe : 0
Hue Adjustment Red : 0
Hue Adjustment Orange : 0
Hue Adjustment Yellow : 0
Hue Adjustment Green : 0
Hue Adjustment Aqua : 0
Hue Adjustment Blue : 0
Hue Adjustment Purple : 0
Hue Adjustment Magenta : 0
Saturation Adjustment Red : 0
Saturation Adjustment Orange : 0
Saturation Adjustment Yellow : 0
Saturation Adjustment Green : 0
Saturation Adjustment Aqua : 0
Saturation Adjustment Blue : 0
Saturation Adjustment Purple : 0
Saturation Adjustment Magenta : 0
Luminance Adjustment Red : 0
Luminance Adjustment Orange : 0
Luminance Adjustment Yellow : 0
Luminance Adjustment Green : 0
Luminance Adjustment Aqua : 0
Luminance Adjustment Blue : 0
Luminance Adjustment Purple : 0
Luminance Adjustment Magenta : 0
Split Toning Shadow Hue : 0
Split Toning Shadow Saturation : 0
Split Toning Highlight Hue : 0
Split Toning Highlight Saturation : 0
Split Toning Balance : 0
Parametric Shadows : 0
Parametric Darks : 0
Parametric Lights : 0
Parametric Highlights : 0
Parametric Shadow Split : 25
Parametric Midtone Split : 50
Parametric Highlight Split : 75
Sharpen Radius : +1.0
Sharpen Detail : 25
Sharpen Edge Masking : 0
Convert To Grayscale : False
Tone Curve Name : Medium Contrast
Camera Profile : ACR 3.1
Has Settings : True
Has Crop : False
Already Applied : True
Supplemental Categories : Bella Coola 2007
Description : Anihime Lake
Subject : Bella Coola 2007
Title : Bella Coola 2007
Creator : Randy & Donna Giesbrecht, Black Knight Holdings
Rights : Randy & Donna Giesbrecht © Black Knight Holdings ©
Subject Code : Bella Coola 2007
Scene : Bella Coola 2007
Creator Address : 2764 Mountview Street
Creator City : Abbotsford
Creator Region : B.C.
Creator Postal Code : V2S 3L7
Creator Country : Canada
Creator Work Telephone : 604-853-6191 Office.604-309-1738 Cell
Creator Work Email : blackknightphoto@telus.net
Creator Work URL : www.html.blackknightphoto.ca/
Usage Terms : All Rights Reserved ..Please Call Randy For Usage 604-309-1738 or Email blackknightphoto@telus.net
Tone Curve : 0, 0, 32, 22, 64, 56, 128, 128, 192, 196, 255, 255
Derived From :
Image Width : 300
Image Height : 216
Bits Per Sample : 8
Color Components : 3
Aperture : 18.0
Image Size : 300x216
Megapixels : 0.065
Scale Factor To 35 mm Equivalent : 1.5
Shutter Speed : 1/15
Create Date : 2007:10:12 11:19:35.73
Date/Time Original : 2007:10:12 11:19:35.73
Modify Date : 2010:11:09 09:49:37.73
Circle Of Confusion : 0.020 mm
Field Of View : 61.9 deg
Focal Length : 20.0 mm (35 mm equivalent: 30.0 mm)
Hyperfocal Distance : 1.11 m
Light Value : 10.6
Lens ID : 17.0-35.0mm f/2.8