Uber Exif Photo
By-line : marino mannarini
By-line Title : photographer
Copyright Notice : ©marino mannarini 2009
Copyright Flag : True
URL : www.mydvaphoto.com
Make : NIKON CORPORATION
Camera Model Name : NIKON D200
Software : Adobe Photoshop CS Windows
Modify Date : 2010:11:22 19:56:29
Copyright : (C)marino mannarini 2009
Exposure Time : 1/160
F Number : 2.8
Exposure Program : Manual
ISO : 640
Sensitivity Type : Unknown
Date/Time Original : 2006:04:07 23:11:33
Create Date : 2006:04:07 23:11:33
Shutter Speed Value : 1/160
Aperture Value : 2.8
Exposure Compensation : 0
Max Aperture Value : 2.8
Metering Mode : Spot
Light Source : Unknown
Focal Length : 155.0 mm
User Comment :
Sensing Method : One-chip color area
Scene Type : Directly photographed
Custom Rendered : Normal
Exposure Mode : Manual
White Balance : Manual
Digital Zoom Ratio : 1
Focal Length In 35mm Format : 232 mm
Scene Capture Type : Standard
Gain Control : Low gain up
Contrast : Normal
Saturation : Normal
Sharpness : Soft
Subject Distance Range : Unknown
GPS Version ID : 2.2.0.0
Profile Description : sRGB IEC61966-2.1
Date/Time Digitized : 2006:04:07 23:11:33+01:00
Compressed Bits Per Pixel : 4
Color Space : Uncalibrated
Exif Image Width : 1000
Exif Image Height : 693
Authors Position : photographer
Creator Tool : Adobe Photoshop Lightroom
Format : image/tiff
Marked : True
Web Statement : www.mydvaphoto.com
Version : 6.2
Process Version : 5.7
Incremental Temperature : +19
Incremental Tint : +2
Exposure : -0.67
Shadows : 26
Brightness : +62
Luminance Smoothing : 0
Color Noise Reduction : 25
Chromatic Aberration R : 0
Chromatic Aberration B : 0
Vignette Amount : -26
Vignette Midpoint : 50
Shadow Tint : 0
Red Hue : 0
Red Saturation : 0
Green Hue : 0
Green Saturation : 0
Blue Hue : 0
Blue Saturation : 0
Fill Light : 24
Vibrance : -26
Highlight Recovery : 27
Clarity : +71
Defringe : 0
Hue Adjustment Red : 0
Hue Adjustment Orange : 0
Hue Adjustment Yellow : 0
Hue Adjustment Green : 0
Hue Adjustment Aqua : 0
Hue Adjustment Blue : 0
Hue Adjustment Purple : 0
Hue Adjustment Magenta : 0
Saturation Adjustment Red : 0
Saturation Adjustment Orange : 0
Saturation Adjustment Yellow : 0
Saturation Adjustment Green : 0
Saturation Adjustment Aqua : 0
Saturation Adjustment Blue : 0
Saturation Adjustment Purple : 0
Saturation Adjustment Magenta : 0
Luminance Adjustment Red : 0
Luminance Adjustment Orange : 0
Luminance Adjustment Yellow : 0
Luminance Adjustment Green : 0
Luminance Adjustment Aqua : 0
Luminance Adjustment Blue : 0
Luminance Adjustment Purple : 0
Luminance Adjustment Magenta : 0
Split Toning Shadow Hue : 270
Split Toning Shadow Saturation : 46
Split Toning Highlight Hue : 70
Split Toning Highlight Saturation : 27
Split Toning Balance : +33
Parametric Shadows : -14
Parametric Darks : -3
Parametric Lights : 0
Parametric Highlights : 0
Parametric Shadow Split : 25
Parametric Midtone Split : 50
Parametric Highlight Split : 75
Sharpen Radius : +1.0
Sharpen Detail : 50
Sharpen Edge Masking : 0
Post Crop Vignette Amount : -49
Post Crop Vignette Midpoint : 5
Post Crop Vignette Feather : 77
Post Crop Vignette Roundness : -38
Post Crop Vignette Style : Highlight Priority
Post Crop Vignette Highlight Contrast : 0
Grain Amount : 0
Color Noise Reduction Detail : 50
Lens Profile Enable : 0
Lens Manual Distortion Amount : 0
Perspective Vertical : 0
Perspective Horizontal : 0
Perspective Rotate : 0.0
Perspective Scale : 100
Convert To Grayscale : False
Tone Curve Name : Linear
Camera Profile : ACR 4.4
Lens Profile Setup : LensDefaults
Has Settings : True
Has Crop : False
Already Applied : True
Flash Fired : False
Flash Return : No return detection
Flash Mode : Unknown
Flash Function : False
Flash Red Eye Mode : False
White Point : 0.313, 0.329
Primary Chromaticities : 0.64, 0.33, 0.21, 0.71, 0.15, 0.06
Creator : marino mannarini
Rights : ©marino mannarini 2009
Creator Postal Code : I 73100
Creator Work Telephone : +393338562061
Creator Region : LE
Creator City : LECCE
Creator Country : ITALY
Creator Work Email : marinomannarini@gmail.com
Creator Address : piazza libertini, 10
Creator Work URL : www.mydvaphoto.com
Usage Terms : all rights reserved
Tone Curve : 0, 0, 255, 255
Image Width : 300
Image Height : 208
Bits Per Sample : 8
Color Components : 3
Aperture : 2.8
Image Size : 300x208
Megapixels : 0.062
Scale Factor To 35 mm Equivalent : 1.5
Shutter Speed : 1/160
Flash : No Flash
Circle Of Confusion : 0.020 mm
Field Of View : 8.9 deg
Focal Length : 155.0 mm (35 mm equivalent: 232.0 mm)
Hyperfocal Distance : 427.44 m
Light Value : 7.6