Uber Exif Photo
Keywords : Sydpolen
Make : NIKON CORPORATION
Camera Model Name : NIKON D200
Software : Ver.1.00
Modify Date : 2008:01:17 10:58:41
Exposure Time : 1/90
F Number : 22.0
Exposure Program : Aperture-priority AE
ISO : 100
Date/Time Original : 2007:12:01 21:09:31
Create Date : 2007:12:01 21:09:31
Shutter Speed Value : 1/90
Aperture Value : 22.0
Exposure Compensation : +1/3
Max Aperture Value : 2.8
Metering Mode : Multi-segment
Light Source : Unknown
Focal Length : 10.5 mm
Sensing Method : One-chip color area
Scene Type : Directly photographed
CFA Pattern : [Green,Red][Blue,Green]
Custom Rendered : Normal
Exposure Mode : Auto
White Balance : Auto
Digital Zoom Ratio : 1
Focal Length In 35mm Format : 15 mm
Scene Capture Type : Standard
Gain Control : None
Contrast : Normal
Saturation : Normal
Sharpness : Normal
Subject Distance Range : Unknown
Time Zone Offset : 1 1
Profile Description : sRGB IEC61966-2.1
Date/Time Digitized : 2007:12:01 21:09:31.78+01:00
Creator Tool : Adobe Photoshop Lightroom
Lens Info : 10.5mm f/2.8
Lens : 10.5 mm f/2.8
Image Number : 16432
Version : 1.0
Incremental Temperature : +3
Incremental Tint : +1
Exposure : +0.24
Shadows : 0
Brightness : 0
Luminance Smoothing : 0
Color Noise Reduction : 0
Chromatic Aberration R : 0
Chromatic Aberration B : 0
Vignette Amount : 0
Shadow Tint : 0
Red Hue : 0
Red Saturation : 0
Green Hue : 0
Green Saturation : 0
Blue Hue : 0
Blue Saturation : 0
Fill Light : 0
Vibrance : 0
Highlight Recovery : 0
Clarity : 0
Defringe : 0
Hue Adjustment Red : 0
Hue Adjustment Orange : 0
Hue Adjustment Yellow : 0
Hue Adjustment Green : 0
Hue Adjustment Aqua : 0
Hue Adjustment Blue : 0
Hue Adjustment Purple : 0
Hue Adjustment Magenta : 0
Saturation Adjustment Red : 0
Saturation Adjustment Orange : 0
Saturation Adjustment Yellow : 0
Saturation Adjustment Green : 0
Saturation Adjustment Aqua : 0
Saturation Adjustment Blue : +32
Saturation Adjustment Purple : 0
Saturation Adjustment Magenta : 0
Luminance Adjustment Red : 0
Luminance Adjustment Orange : 0
Luminance Adjustment Yellow : 0
Luminance Adjustment Green : 0
Luminance Adjustment Aqua : 0
Luminance Adjustment Blue : 0
Luminance Adjustment Purple : 0
Luminance Adjustment Magenta : 0
Split Toning Shadow Hue : 0
Split Toning Shadow Saturation : 0
Split Toning Highlight Hue : 0
Split Toning Highlight Saturation : 0
Split Toning Balance : 0
Parametric Shadows : 0
Parametric Darks : 0
Parametric Lights : 0
Parametric Highlights : 0
Parametric Shadow Split : 25
Parametric Midtone Split : 50
Parametric Highlight Split : 75
Sharpen Radius : +1.0
Sharpen Detail : 25
Sharpen Edge Masking : 0
Convert To Grayscale : False
Tone Curve Name : Linear
Camera Profile : Embedded
Has Settings : True
Crop Top : 0
Crop Left : 0
Crop Bottom : 0.841742
Crop Right : 0.841742
Crop Angle : 0
Crop Width : 1147
Crop Height : 768
Crop Unit : pixels
Has Crop : True
Already Applied : True
Flash Fired : False
Flash Return : No return detection
Flash Mode : Unknown
Flash Function : False
Flash Red Eye Mode : False
Subject : Sydpolen
Tone Curve : 0, 0, 255, 255
Image Width : 300
Image Height : 201
Bits Per Sample : 8
Color Components : 3
Aperture : 22.0
Image Size : 300x201
Megapixels : 0.060
Scale Factor To 35 mm Equivalent : 1.4
Shutter Speed : 1/90
Create Date : 2007:12:01 21:09:31.78
Date/Time Original : 2007:12:01 21:09:31.78
Flash : No Flash
Circle Of Confusion : 0.021 mm
Field Of View : 100.4 deg
Focal Length : 10.5 mm (35 mm equivalent: 15.0 mm)
Hyperfocal Distance : 0.24 m
Light Value : 15.4
Lens ID : 10.5mm f/2.8