Uber Exif Photo
By-line : marino mannarini
By-line Title : photographer
Copyright Notice : ©marino mannarini 2009
Copyright Flag : True
URL : www.mydvaphoto.com
Make : NIKON CORPORATION
Camera Model Name : NIKON D2X
Software : Ver.2.00
Modify Date : 2010:11:30 19:19:29
Copyright : (C)marino mannarini 2009
Exposure Time : 1/50
F Number : 3.5
Exposure Program : Manual
ISO : 100
Sensitivity Type : Unknown
Date/Time Original : 2008:06:03 15:42:01
Create Date : 2008:06:03 15:42:01
Shutter Speed Value : 1/50
Aperture Value : 3.5
Exposure Compensation : 0
Max Aperture Value : 2.8
Metering Mode : Spot
Light Source : Unknown
Focal Length : 16.0 mm
Sensing Method : One-chip color area
Scene Type : Directly photographed
CFA Pattern : [Red,Green][Green,Blue]
Custom Rendered : Normal
Exposure Mode : Manual
White Balance : Auto
Digital Zoom Ratio : 1
Focal Length In 35mm Format : 24 mm
Scene Capture Type : Standard
Gain Control : None
Contrast : Low
Saturation : Normal
Sharpness : Soft
Subject Distance Range : Unknown
Serial Number : 5064611
Lens Info : 16-50mm f/2.8
Lens Model : 16.0-50.0 mm f/2.8
Profile Description : sRGB IEC61966-2.1
Date/Time Digitized : 2008:06:03 15:42:01.65+02:00
Exif Image Width : 531
Exif Image Height : 800
Creator Tool : Adobe Photoshop Lightroom
Lens : 16.0-50.0 mm f/2.8
Image Number : 2812
Marked : True
Web Statement : www.mydvaphoto.com
Authors Position : photographer
Version : 6.2
Process Version : 5.7
Color Temperature : 4200
Tint : -7
Exposure : +0.35
Shadows : 5
Brightness : +50
Luminance Smoothing : 0
Color Noise Reduction : 25
Chromatic Aberration R : 0
Chromatic Aberration B : 0
Vignette Amount : 0
Shadow Tint : 0
Red Hue : 0
Red Saturation : 0
Green Hue : 0
Green Saturation : 0
Blue Hue : 0
Blue Saturation : 0
Fill Light : 0
Highlight Recovery : 0
Clarity : 0
Defringe : 0
Gray Mixer Red : -11
Gray Mixer Orange : -20
Gray Mixer Yellow : -24
Gray Mixer Green : -28
Gray Mixer Aqua : -17
Gray Mixer Blue : +13
Gray Mixer Purple : +18
Gray Mixer Magenta : +4
Split Toning Shadow Hue : 37
Split Toning Shadow Saturation : 22
Split Toning Highlight Hue : 0
Split Toning Highlight Saturation : 0
Split Toning Balance : 0
Parametric Shadows : -43
Parametric Darks : +9
Parametric Lights : +43
Parametric Highlights : 0
Parametric Shadow Split : 25
Parametric Midtone Split : 50
Parametric Highlight Split : 75
Sharpen Radius : +1.0
Sharpen Detail : 25
Sharpen Edge Masking : 0
Post Crop Vignette Amount : 0
Grain Amount : 0
Color Noise Reduction Detail : 50
Lens Profile Enable : 0
Lens Manual Distortion Amount : +11
Perspective Vertical : 0
Perspective Horizontal : 0
Perspective Rotate : 0.0
Perspective Scale : 102
Convert To Grayscale : True
Tone Curve Name : Medium Contrast
Camera Profile : ACR 4.4
Lens Profile Setup : LensDefaults
Has Settings : True
Crop Top : 0.033162
Crop Left : 0.009266
Crop Bottom : 0.966838
Crop Right : 0.990734
Crop Angle : -1.30502
Crop Constrain To Warp : 0
Crop Width : 800
Crop Height : 531
Crop Unit : pixels
Has Crop : True
Already Applied : True
Flash Fired : True
Flash Return : Return not detected
Flash Mode : Unknown
Flash Function : False
Flash Red Eye Mode : False
Creator Postal Code : I 73100
Creator Work Telephone : +393338562061
Creator Region : LE
Creator City : LECCE
Creator Country : ITALY
Creator Work Email : marinomannarini@gmail.com
Creator Address : piazza libertini, 10
Creator Work URL : www.mydvaphoto.com
Usage Terms : all rights reserved
Creator : marino mannarini
Rights : ©marino mannarini 2009
Tone Curve : 0, 0, 32, 22, 64, 56, 128, 128, 192, 196, 255, 255
Paint Correction What : Correction
Paint Correction Amount : 1.000000
Paint Correction Active : true
Paint Correction Exposure : 0.052632
Paint Correction Saturation : 0.000000
Paint Correction Contrast : 0.000000
Paint Correction Clarity : 0.000000
Paint Correction Sharpness : 0.000000
Paint Correction Brightness : -0.013158
Paint Correction Toning Hue : 240.000000
Paint Correction Toning Saturation : 0.000000
Paint Correction Mask What : Mask/Paint
Paint Correction Mask Value : 1.000000
Paint Correction Mask Radius : 0.028572
Paint Correction Mask Flow : 1.000000
Paint Correction Mask Center Weight : 0.184456
Image Width : 199
Image Height : 300
Bits Per Sample : 8
Color Components : 3
Aperture : 3.5
Image Size : 199x300
Megapixels : 0.060
Scale Factor To 35 mm Equivalent : 1.5
Shutter Speed : 1/50
Create Date : 2008:06:03 15:42:01.65
Date/Time Original : 2008:06:03 15:42:01.65
Flash : Fired, Return not detected
Circle Of Confusion : 0.020 mm
Field Of View : 73.7 deg
Focal Length : 16.0 mm (35 mm equivalent: 24.0 mm)
Hyperfocal Distance : 3.65 m
Light Value : 9.3
Lens ID : 16.0-50.0mm f/2.8