Uber Exif Photo
Make : NIKON CORPORATION
Camera Model Name : NIKON D40
Orientation : Horizontal (normal)
Software : Ver.1.11
Modify Date : 2010:05:20 21:59:35
Exposure Time : 1/20
F Number : 4.5
Exposure Program : Manual
ISO : 1600
Date/Time Original : 2010:05:20 21:59:35
Create Date : 2010:05:20 21:59:35
Compressed Bits Per Pixel : 2
Exposure Compensation : -2/3
Max Aperture Value : 4.4
Metering Mode : Multi-segment
Focal Length : 135.0 mm
Maker Note Version : 2.10
Color Mode : Color
Quality : Normal
White Balance : Incandescent
Focus Mode : Manual
Flash Setting : Normal
Flash Type :
White Balance Fine Tune : 0
WB RB Levels : 1.375 2.51171875 1 1
Program Shift : 0
Exposure Difference : +0.6
Flash Exposure Compensation : 0
ISO Setting : 1600
Image Boundary : 0 0 3008 2000
External Flash Exposure Comp : 0
Crop Hi Speed : Off (3040x2014 cropped to 3040x2014 at pixel 0,0)
Serial Number : 3745241
VR Info Version : 0100
VR Mode : Normal
Tone Comp : Auto
Lens Type : G
Flash Mode : Did Not Fire
AF Area Mode : Single Area
AF Point : Center
AF Points In Focus : (none)
Shooting Mode : Continuous
Color Hue : Mode3a
Light Source : Natural
Shot Info Version : 0209
Vibration Reduction : Off
Beep : On
AF Assist : On
No Memory Card : Release Locked
Image Review : On
Auto ISO : Off
Auto ISO Max : 1600
Auto ISO Min Shutter Speed : 1/30 s
Image Review Time : 4 s
Monitor Off Time : 8 s
Metering Time : 8 s
Self Timer Time : 10 s
Remote On Duration : 1 min
AE Lock Button : AE/AF Lock
AE Lock : Off
Shooting Mode Setting : Continuous
Timer Function Button : Self-timer
Metering : Matrix
Internal Flash : TTL
Manual Flash Output : Full
Flash Level : +0.0
Focus Mode Setting : AF-A
AF Area Mode Setting : Closest Subject
Hue Adjustment : 0
Noise Reduction : Off
WB RGGB Levels : 352 256 256 643
Lens Data Version : 0202
Exit Pupil Position : 66.1 mm
AF Aperture : 4.5
Focus Position : 0x01
Focus Distance : 1.33 m
Lens ID Number : 0
Lens F Stops : 5.92
Min Focal Length : 55.0 mm
Max Focal Length : 201.6 mm
Max Aperture At Min Focal : 4.0
Max Aperture At Max Focal : 5.7
MCU Version : 0
Effective Max Aperture : 4.5
Sensor Pixel Size : 6.05 x 6.05 um
Image Data Size : 1567824
Shutter Count : 4410
Flash Info Version : 0102
Flash Source : None
External Flash Firmware : n/a
External Flash Flags : (none)
Flash Commander Mode : Off
Flash Control Mode : Off
Flash Compensation : 0
Flash GN Distance : 0
Flash Group A Control Mode : Off
Flash Group B Control Mode : Off
Flash Group C Control Mode : Off
Flash Group A Compensation : 0
Flash Group B Compensation : 0
Flash Group C Compensation : 0
Image Optimization : Normal
Vari Program :
Multi Exposure Version : 0100
Multi Exposure Mode : Off
Multi Exposure Shots : 0
Multi Exposure Auto Gain : Off
High ISO Noise Reduction : Normal
User Comment :
Color Space : sRGB
Exif Image Width : 3008
Exif Image Height : 2000
Sensing Method : One-chip color area
Scene Type : Directly photographed
CFA Pattern : [Blue,Green][Green,Red]
Custom Rendered : Normal
Exposure Mode : Manual
Digital Zoom Ratio : 1
Focal Length In 35mm Format : 202 mm
Scene Capture Type : Standard
Gain Control : High gain up
Contrast : Normal
Saturation : Normal
Sharpness : Normal
Subject Distance Range : Unknown
Shutter Speed Value : 1/20
Aperture Value : 4.5
Date/Time Digitized : 2010:05:20 21:59:35.70-07:00
Creator Tool : Ver.1.11
Rating : 0
Lens Info : 55-200mm f/4-5.6
Lens : 55.0-200.0 mm f/4.0-5.6
Image Number : 4410
Raw File Name : DSC_0346.JPG
Version : 5.5
Incremental Temperature : -65
Incremental Tint : -100
Exposure : -0.15
Shadows : 34
Brightness : +40
Luminance Smoothing : 0
Color Noise Reduction : 0
Chromatic Aberration R : 0
Chromatic Aberration B : 0
Vignette Amount : 0
Shadow Tint : 0
Red Hue : 0
Red Saturation : 0
Green Hue : 0
Green Saturation : 0
Blue Hue : 0
Blue Saturation : 0
Fill Light : 0
Vibrance : +97
Highlight Recovery : 0
Clarity : +26
Defringe : 0
Hue Adjustment Red : 0
Hue Adjustment Orange : 0
Hue Adjustment Yellow : 0
Hue Adjustment Green : 0
Hue Adjustment Aqua : 0
Hue Adjustment Blue : 0
Hue Adjustment Purple : 0
Hue Adjustment Magenta : 0
Saturation Adjustment Red : 0
Saturation Adjustment Orange : 0
Saturation Adjustment Yellow : 0
Saturation Adjustment Green : 0
Saturation Adjustment Aqua : 0
Saturation Adjustment Blue : 0
Saturation Adjustment Purple : 0
Saturation Adjustment Magenta : 0
Luminance Adjustment Red : 0
Luminance Adjustment Orange : 0
Luminance Adjustment Yellow : 0
Luminance Adjustment Green : 0
Luminance Adjustment Aqua : 0
Luminance Adjustment Blue : 0
Luminance Adjustment Purple : 0
Luminance Adjustment Magenta : 0
Split Toning Shadow Hue : 0
Split Toning Shadow Saturation : 0
Split Toning Highlight Hue : 0
Split Toning Highlight Saturation : 0
Split Toning Balance : 0
Parametric Shadows : 0
Parametric Darks : 0
Parametric Lights : 0
Parametric Highlights : 0
Parametric Shadow Split : 25
Parametric Midtone Split : 50
Parametric Highlight Split : 75
Sharpen Radius : +1.0
Sharpen Detail : 25
Sharpen Edge Masking : 0
Post Crop Vignette Amount : 0
Convert To Grayscale : False
Tone Curve Name : Linear
Camera Profile : Embedded
Has Settings : True
Has Crop : False
Already Applied : False
Flash Fired : False
Flash Return : No return detection
Flash Function : False
Flash Red Eye Mode : False
Tone Curve : 0, 0, 255, 255
Image Width : 300
Image Height : 200
Bits Per Sample : 8
Color Components : 3
Aperture : 4.5
Blue Balance : 2.511719
Image Size : 300x200
Megapixels : 0.060
Red Balance : 1.375
Scale Factor To 35 mm Equivalent : 1.5
Shutter Speed : 1/20
Create Date : 2010:05:20 21:59:35.70
Date/Time Original : 2010:05:20 21:59:35.70
Modify Date : 2010:05:20 21:59:35.70
Lens ID : Tamron AF 55-200mm f/4-5.6 Di II LD (A15)
Lens Spec : 55-200mm f/4-5.6 G
Flash : No Flash
Circle Of Confusion : 0.020 mm
Depth Of Field : 0.016 m (1.326 - 1.341 m)
Field Of View : 9.2 deg (0.21 m)
Focal Length : 135.0 mm (35 mm equivalent: 202.0 mm)
Hyperfocal Distance : 201.69 m
Light Value : 4.7