Uber Exif Photo
Make : NIKON CORPORATION
Camera Model Name : NIKON D700
Software : Ver.1.01
Modify Date : 2010:12:16 21:57:01
Exposure Time : 1/15
Exposure Program : Aperture-priority AE
ISO : 3200
Sensitivity Type : Unknown
Date/Time Original : 2010:12:16 18:42:55
Create Date : 2010:12:16 18:42:55
Shutter Speed Value : 1/15
Exposure Compensation : 0
Max Aperture Value : 1.0
Metering Mode : Center-weighted average
Light Source : Unknown
Sensing Method : One-chip color area
Scene Type : Directly photographed
CFA Pattern : [Red,Green][Green,Blue]
Custom Rendered : Normal
Exposure Mode : Auto
White Balance : Auto
Digital Zoom Ratio : 1
Scene Capture Type : Standard
Gain Control : High gain up
Contrast : Normal
Saturation : Normal
Sharpness : Normal
Subject Distance Range : Unknown
Serial Number : 2260989
Lens Info : 0mm f/0
Lens Model : 0.0 mm f/0.0
Date/Time Digitized : 2010:12:16 18:42:55.50+01:00
Exif Image Width : 850
Exif Image Height : 566
Creator Tool : Adobe Photoshop Lightroom 3.3
Lens : 0.0 mm f/0.0
Image Number : 2276
Version : 6.3
Process Version : 5.7
Color Temperature : 4100
Tint : +8
Exposure : 0.00
Shadows : 5
Brightness : +50
Luminance Smoothing : 0
Color Noise Reduction : 25
Chromatic Aberration R : 0
Chromatic Aberration B : 0
Vignette Amount : 0
Shadow Tint : 0
Red Hue : 0
Red Saturation : 0
Green Hue : 0
Green Saturation : 0
Blue Hue : 0
Blue Saturation : 0
Fill Light : 46
Highlight Recovery : 100
Clarity : 0
Defringe : 0
Gray Mixer Red : -6
Gray Mixer Orange : -14
Gray Mixer Yellow : -18
Gray Mixer Green : -23
Gray Mixer Aqua : -18
Gray Mixer Blue : +9
Gray Mixer Purple : +14
Gray Mixer Magenta : +4
Split Toning Shadow Hue : 0
Split Toning Shadow Saturation : 0
Split Toning Highlight Hue : 0
Split Toning Highlight Saturation : 0
Split Toning Balance : 0
Parametric Shadows : 0
Parametric Darks : 0
Parametric Lights : 0
Parametric Highlights : 0
Parametric Shadow Split : 25
Parametric Midtone Split : 50
Parametric Highlight Split : 75
Sharpen Radius : +1.0
Sharpen Detail : 25
Sharpen Edge Masking : 0
Post Crop Vignette Amount : 0
Grain Amount : 0
Color Noise Reduction Detail : 50
Lens Profile Enable : 0
Lens Manual Distortion Amount : 0
Perspective Vertical : 0
Perspective Horizontal : 0
Perspective Rotate : 0.0
Perspective Scale : 100
Convert To Grayscale : True
Tone Curve Name : Medium Contrast
Camera Profile : Camera Vivid
Lens Profile Setup : LensDefaults
Has Settings : True
Has Crop : False
Already Applied : True
Flash Fired : False
Flash Return : No return detection
Flash Mode : Unknown
Flash Function : False
Flash Red Eye Mode : False
Tone Curve : 0, 0, 32, 22, 64, 56, 128, 128, 192, 196, 255, 255
Image Width : 300
Image Height : 200
Bits Per Sample : 8
Color Components : 1
Image Size : 300x200
Megapixels : 0.060
Shutter Speed : 1/15
Create Date : 2010:12:16 18:42:55.50
Date/Time Original : 2010:12:16 18:42:55.50
Flash : No Flash
Lens ID : 0.0mm f/0.0