Uber Exif Photo
Make : NIKON CORPORATION
Camera Model Name : NIKON D7000
Software : Ver.1.00
Modify Date : 2010:12:18 22:45:12
Exposure Time : 1/60
F Number : 2.8
Exposure Program : Not Defined
ISO : 800
Sensitivity Type : Recommended Exposure Index
Date/Time Original : 2010:12:09 21:20:59
Create Date : 2010:12:09 21:20:59
Shutter Speed Value : 1/60
Aperture Value : 2.8
Exposure Compensation : 0
Max Aperture Value : 2.8
Subject Distance : 3.55 m
Metering Mode : Multi-segment
Light Source : Unknown
Focal Length : 38.0 mm
Sensing Method : One-chip color area
Scene Type : Directly photographed
CFA Pattern : [Red,Green][Green,Blue]
Custom Rendered : Normal
Exposure Mode : Auto
White Balance : Auto
Digital Zoom Ratio : 1
Focal Length In 35mm Format : 57 mm
Scene Capture Type : Standard
Gain Control : Low gain up
Contrast : Normal
Saturation : Normal
Sharpness : Normal
Subject Distance Range : Unknown
Serial Number : 3009475
Lens Info : 17-50mm f/2.8
Lens Model : 17.0-50.0 mm f/2.8
Date/Time Digitized : 2010:12:09 21:20:59.00-06:00
Exif Image Width : 1024
Exif Image Height : 678
Creator Tool : Adobe Photoshop Lightroom 3.3
Lens : 17.0-50.0 mm f/2.8
Image Number : 2206
Approximate Focus Distance : 3.55
Version : 6.3
Process Version : 5.7
Color Temperature : 4213
Tint : -74
Exposure : +1.15
Shadows : 28
Brightness : +59
Luminance Smoothing : 0
Color Noise Reduction : 25
Chromatic Aberration R : 0
Chromatic Aberration B : 0
Vignette Amount : 0
Shadow Tint : 0
Red Hue : 0
Red Saturation : 0
Green Hue : 0
Green Saturation : 0
Blue Hue : 0
Blue Saturation : 0
Fill Light : 0
Vibrance : 0
Highlight Recovery : 0
Clarity : 0
Defringe : 0
Hue Adjustment Red : 0
Hue Adjustment Orange : 0
Hue Adjustment Yellow : 0
Hue Adjustment Green : 0
Hue Adjustment Aqua : 0
Hue Adjustment Blue : 0
Hue Adjustment Purple : 0
Hue Adjustment Magenta : 0
Saturation Adjustment Red : 0
Saturation Adjustment Orange : 0
Saturation Adjustment Yellow : 0
Saturation Adjustment Green : 0
Saturation Adjustment Aqua : 0
Saturation Adjustment Blue : 0
Saturation Adjustment Purple : 0
Saturation Adjustment Magenta : 0
Luminance Adjustment Red : 0
Luminance Adjustment Orange : 0
Luminance Adjustment Yellow : 0
Luminance Adjustment Green : 0
Luminance Adjustment Aqua : 0
Luminance Adjustment Blue : 0
Luminance Adjustment Purple : 0
Luminance Adjustment Magenta : 0
Split Toning Shadow Hue : 0
Split Toning Shadow Saturation : 0
Split Toning Highlight Hue : 0
Split Toning Highlight Saturation : 0
Split Toning Balance : 0
Parametric Shadows : -14
Parametric Darks : -3
Parametric Lights : 0
Parametric Highlights : 0
Parametric Shadow Split : 25
Parametric Midtone Split : 50
Parametric Highlight Split : 75
Sharpen Radius : +1.0
Sharpen Detail : 50
Sharpen Edge Masking : 0
Post Crop Vignette Amount : 0
Grain Amount : 0
Color Noise Reduction Detail : 50
Lens Profile Enable : 0
Lens Manual Distortion Amount : 0
Perspective Vertical : 0
Perspective Horizontal : 0
Perspective Rotate : 0.0
Perspective Scale : 100
Convert To Grayscale : False
Tone Curve Name : Linear
Camera Profile : Adobe Standard
Lens Profile Setup : LensDefaults
Has Settings : True
Has Crop : False
Already Applied : True
Flash Fired : True
Flash Return : Return detected
Flash Mode : Auto
Flash Function : False
Flash Red Eye Mode : False
Tone Curve : 0, 0, 255, 255
Image Width : 300
Image Height : 199
Bits Per Sample : 8
Color Components : 1
Aperture : 2.8
Image Size : 300x199
Megapixels : 0.060
Scale Factor To 35 mm Equivalent : 1.5
Shutter Speed : 1/60
Create Date : 2010:12:09 21:20:59.00
Date/Time Original : 2010:12:09 21:20:59.00
Flash : Auto, Fired, Return detected
Circle Of Confusion : 0.020 mm
Depth Of Field : 0.99 m (3.12 - 4.11 m)
Field Of View : 35.1 deg
Focal Length : 38.0 mm (35 mm equivalent: 57.0 mm)
Hyperfocal Distance : 25.75 m
Light Value : 5.9
Lens ID : Tamron SP AF 17-50mm f/2.8 XR Di II VC LD Aspherical (IF) (B005)