Uber Exif Photo
By-line : Tomas Eriksson / IBL BildbyrŒ
Copyright Notice : Copyright © Tomas Eriksson. All rights reserved. Detta fŠlt fŒr inte Šndras eller raderas enligt 6 kap enligt lag (1960:729)
Writer-Editor : Tomas Eriksson / IBL BildbyrŒ
Copyright Flag : True
URL : www.tomasfoto.se
Make : NIKON CORPORATION
Camera Model Name : NIKON D700
Software : Ver.1.02
Modify Date : 2010:12:25 18:43:53
Artist : Tomas Eriksson
Copyright : Copyright (C) Tomas Eriksson. All rights reserved. Detta falt far inte andras eller raderas enligt 6 kap enligt lag (1960:729)
Exposure Time : 1/4000
F Number : 5.6
Exposure Program : Aperture-priority AE
ISO : 200
Sensitivity Type : Unknown
Date/Time Original : 2010:12:25 13:15:20
Create Date : 2010:12:25 13:15:20
Shutter Speed Value : 1/4000
Aperture Value : 5.6
Exposure Compensation : 0
Max Aperture Value : 4.4
Subject Distance : 2.99 m
Metering Mode : Multi-segment
Light Source : Fine Weather
Focal Length : 48.0 mm
Sensing Method : One-chip color area
Scene Type : Directly photographed
CFA Pattern : [Red,Green][Green,Blue]
Custom Rendered : Normal
Exposure Mode : Auto
White Balance : Manual
Digital Zoom Ratio : 1
Focal Length In 35mm Format : 48 mm
Scene Capture Type : Standard
Gain Control : None
Contrast : Normal
Saturation : Normal
Sharpness : Normal
Subject Distance Range : Unknown
Serial Number : 2335916
Lens Info : 24-85mm f/3.5-4.5
Lens Model : 24.0-85.0 mm f/3.5-4.5
Profile Description : sRGB IEC61966-2.1
Date/Time Digitized : 2010:12:25 13:15:20.33+01:00
Exif Image Width : 599
Exif Image Height : 900
Creator Tool : Adobe Photoshop Lightroom 3.3
Lens : 24.0-85.0 mm f/3.5-4.5
Image Number : 5741
Approximate Focus Distance : 2.99
Web Statement : www.tomasfoto.se
Marked : True
Caption Writer : Tomas Eriksson / IBL Bildbyrå
Version : 6.3
Process Version : 5.7
Color Temperature : 5000
Tint : -6
Exposure : +0.25
Shadows : 8
Brightness : +50
Luminance Smoothing : 0
Color Noise Reduction : 25
Chromatic Aberration R : 0
Chromatic Aberration B : 0
Vignette Amount : 0
Shadow Tint : 0
Red Hue : 0
Red Saturation : 0
Green Hue : 0
Green Saturation : 0
Blue Hue : 0
Blue Saturation : 0
Fill Light : 8
Vibrance : +30
Highlight Recovery : 0
Clarity : 0
Defringe : 0
Hue Adjustment Red : 0
Hue Adjustment Orange : 0
Hue Adjustment Yellow : 0
Hue Adjustment Green : 0
Hue Adjustment Aqua : 0
Hue Adjustment Blue : 0
Hue Adjustment Purple : 0
Hue Adjustment Magenta : 0
Saturation Adjustment Red : 0
Saturation Adjustment Orange : 0
Saturation Adjustment Yellow : 0
Saturation Adjustment Green : 0
Saturation Adjustment Aqua : 0
Saturation Adjustment Blue : 0
Saturation Adjustment Purple : 0
Saturation Adjustment Magenta : 0
Luminance Adjustment Red : 0
Luminance Adjustment Orange : 0
Luminance Adjustment Yellow : 0
Luminance Adjustment Green : 0
Luminance Adjustment Aqua : 0
Luminance Adjustment Blue : 0
Luminance Adjustment Purple : 0
Luminance Adjustment Magenta : 0
Split Toning Shadow Hue : 0
Split Toning Shadow Saturation : 0
Split Toning Highlight Hue : 0
Split Toning Highlight Saturation : 0
Split Toning Balance : 0
Parametric Shadows : 0
Parametric Darks : 0
Parametric Lights : 0
Parametric Highlights : 0
Parametric Shadow Split : 25
Parametric Midtone Split : 50
Parametric Highlight Split : 75
Sharpen Radius : +1.0
Sharpen Detail : 25
Sharpen Edge Masking : 0
Post Crop Vignette Amount : 0
Grain Amount : 0
Color Noise Reduction Detail : 50
Lens Profile Enable : 1
Lens Manual Distortion Amount : 0
Perspective Vertical : 0
Perspective Horizontal : 0
Perspective Rotate : 0.0
Perspective Scale : 100
Convert To Grayscale : False
Tone Curve Name : Medium Contrast
Camera Profile : Camera Neutral
Lens Profile Setup : LensDefaults
Lens Profile Name : Adobe (Nikon AF-S VR Zoom-Nikkor 70-200mm f/2.8G IF-ED)
Lens Profile Filename : NIKON D3X (Nikon FX 70-200mm f2.8 G IF ED) - RAW.lcp
Lens Profile Distortion Scale : 100
Lens Profile Chromatic Aberration Scale : 100
Lens Profile Vignetting Scale : 150
Has Settings : True
Has Crop : False
Already Applied : True
Flash Fired : False
Flash Return : No return detection
Flash Mode : Unknown
Flash Function : False
Flash Red Eye Mode : False
Creator : Tomas Eriksson / IBL Bildbyrå
Rights : Copyright © Tomas Eriksson. All rights reserved. Detta fält får inte ändras eller raderas enligt 6 kap enligt lag (1960:729)
Usage Terms : All rights reserved
Tone Curve : 0, 0, 32, 22, 64, 56, 128, 128, 192, 196, 255, 255
Image Width : 200
Image Height : 300
Bits Per Sample : 8
Color Components : 3
Aperture : 5.6
Image Size : 200x300
Megapixels : 0.060
Scale Factor To 35 mm Equivalent : 1.0
Shutter Speed : 1/4000
Create Date : 2010:12:25 13:15:20.33
Date/Time Original : 2010:12:25 13:15:20.33
Flash : No Flash
Circle Of Confusion : 0.030 mm
Depth Of Field : 1.35 m (2.46 - 3.81 m)
Field Of View : 41.1 deg
Focal Length : 48.0 mm (35 mm equivalent: 48.0 mm)
Hyperfocal Distance : 13.69 m
Light Value : 15.9
Lens ID : AF-S Zoom-Nikkor 24-85mm f/3.5-4.5G IF-ED