Uber Exif Photo
Make : NIKON CORPORATION
Camera Model Name : NIKON D700
Orientation : Horizontal (normal)
Software : Ver.1.01
Modify Date : 2010:12:22 09:44:47
Artist :
White Point : 0.313 0.329
Primary Chromaticities : 0.64 0.33 0.21 0.71 0.15 0.06
Copyright :
Exposure Time : 30
F Number : 22.0
Exposure Program : Aperture-priority AE
ISO : 400
Date/Time Original : 2010:12:22 09:44:47
Create Date : 2010:12:22 09:44:47
Compressed Bits Per Pixel : 4
Exposure Compensation : -1
Max Aperture Value : 5.5
Metering Mode : Center-weighted average
Light Source : Unknown
Focal Length : 220.0 mm
Maker Note Version : 2.10
Quality : Fine
White Balance : Auto
Focus Mode : AF-S
Flash Setting : Normal
Flash Type :
White Balance Fine Tune : 0 0
WB RB Levels : 1.2109375 2.2734375 1 1
Program Shift : 0
Exposure Difference : -0.6
Flash Exposure Compensation : 0
ISO Setting : 400
Image Boundary : 0 0 4256 2832
External Flash Exposure Comp : 0
Flash Exposure Bracket Value : 0.0
Exposure Bracket Value : 0
Crop Hi Speed : Off (4288x2844 cropped to 4288x2844 at pixel 0,0)
Exposure Tuning : 0
Serial Number : 2235484
VR Info Version : 0100
Vibration Reduction : Off
VR Mode : Normal
Image Authentication : Off
Active D-Lighting : Auto
Picture Control Version : 0100
Picture Control Name : Standard
Picture Control Base : Standard
Picture Control Adjust : Default Settings
Picture Control Quick Adjust : Normal
Hue Adjustment : None
Filter Effect : n/a
Toning Effect : n/a
Toning Saturation : n/a
Time Zone : -08:00
Daylight Savings : No
Date Display Format : M/D/Y
ISO Expansion : Off
ISO2 : 400
ISO Expansion 2 : Off
Vignette Control : Normal
Lens Type : G VR
Flash Mode : Did Not Fire
Shooting Mode : Delay
Shot Info Version : 0212
Firmware Version : 1.01A
Noise Reduction : Off
WB GRBG Levels : 256 310 582 256
Lens Data Version : 0203
Exit Pupil Position : 113.8 mm
AF Aperture : 5.5
Focus Position : 0x01
Focus Distance : 21.13 m
Lens ID Number : 141
Lens F Stops : 5.67
Min Focal Length : 71.3 mm
Max Focal Length : 302.0 mm
Max Aperture At Min Focal : 4.5
Max Aperture At Max Focal : 5.7
MCU Version : 143
Effective Max Aperture : 5.5
Image Data Size : 4285688
Shutter Count : 1124
Flash Info Version : 0103
Flash Source : None
External Flash Firmware : n/a
External Flash Flags : (none)
Flash Commander Mode : Off
Flash Control Mode : Off
Flash Compensation : 0
Flash GN Distance : 0
Flash Color Filter : None
Flash Group A Control Mode : Off
Flash Group B Control Mode : Off
Flash Group C Control Mode : Off
Flash Group A Compensation : 0
Flash Group B Compensation : 0
Flash Group C Compensation : 0
Multi Exposure Version : 0100
Multi Exposure Mode : Off
Multi Exposure Shots : 0
Multi Exposure Auto Gain : Off
High ISO Noise Reduction : Off
Power Up Time : 0000:00:00 00:00:00
AF Info 2 Version : 0100
Contrast Detect AF : Off
AF Area Mode : Auto-area
Phase Detect AF : On (51-point)
Primary AF Point : D7
AF Points Used : D2,D7,E7,E8
Contrast Detect AF In Focus : No
File Info Version : 0100
Memory Card Number : 0
File Number : 1119
AF Fine Tune : Off
AF Fine Tune Index : n/a
AF Fine Tune Adj : 0
AF Fine Tune Adj Tele : 0
User Comment :
Color Space : Uncalibrated
Exif Image Width : 4256
Exif Image Height : 2832
Sensing Method : One-chip color area
Scene Type : Directly photographed
CFA Pattern : [Red,Green][Green,Blue]
Custom Rendered : Normal
Exposure Mode : Auto
Digital Zoom Ratio : 1
Focal Length In 35mm Format : 220 mm
Scene Capture Type : Standard
Gain Control : Low gain up
Contrast : Normal
Saturation : Normal
Sharpness : Normal
Subject Distance Range : Unknown
Gamma : 2.2
GPS Version ID : 2.2.0.0
Shutter Speed Value : 30
Aperture Value : 22.0
Date/Time Digitized : 2010:12:22 09:44:47.08-08:00
Subject Distance : 4294967295 m
Creator Tool : Ver.1.01
Rating : 0
Lens Info : 70-300mm f/4.5-5.6
Lens : 70.0-300.0 mm f/4.5-5.6
Image Number : 1124
Raw File Name : Holiday Lights 2.JPG
Version : 5.7
Process Version : 5.7
Incremental Temperature : 0
Incremental Tint : 0
Exposure : 0.00
Shadows : 0
Brightness : 0
Luminance Smoothing : 0
Color Noise Reduction : 0
Chromatic Aberration R : 0
Chromatic Aberration B : 0
Vignette Amount : 0
Shadow Tint : 0
Red Hue : 0
Red Saturation : 0
Green Hue : 0
Green Saturation : 0
Blue Hue : 0
Blue Saturation : 0
Fill Light : 0
Vibrance : 0
Highlight Recovery : 100
Clarity : +39
Defringe : 0
Hue Adjustment Red : 0
Hue Adjustment Orange : 0
Hue Adjustment Yellow : 0
Hue Adjustment Green : 0
Hue Adjustment Aqua : 0
Hue Adjustment Blue : 0
Hue Adjustment Purple : 0
Hue Adjustment Magenta : 0
Saturation Adjustment Red : 0
Saturation Adjustment Orange : 0
Saturation Adjustment Yellow : 0
Saturation Adjustment Green : 0
Saturation Adjustment Aqua : 0
Saturation Adjustment Blue : 0
Saturation Adjustment Purple : 0
Saturation Adjustment Magenta : 0
Luminance Adjustment Red : 0
Luminance Adjustment Orange : 0
Luminance Adjustment Yellow : 0
Luminance Adjustment Green : 0
Luminance Adjustment Aqua : 0
Luminance Adjustment Blue : 0
Luminance Adjustment Purple : 0
Luminance Adjustment Magenta : 0
Split Toning Shadow Hue : 0
Split Toning Shadow Saturation : 0
Split Toning Highlight Hue : 0
Split Toning Highlight Saturation : 0
Split Toning Balance : 0
Parametric Shadows : 0
Parametric Darks : 0
Parametric Lights : 0
Parametric Highlights : 0
Parametric Shadow Split : 25
Parametric Midtone Split : 50
Parametric Highlight Split : 75
Sharpen Radius : +1.0
Sharpen Detail : 25
Sharpen Edge Masking : 0
Post Crop Vignette Amount : 0
Grain Amount : 0
Convert To Grayscale : False
Tone Curve Name : Linear
Camera Profile : Embedded
Has Settings : True
Has Crop : False
Already Applied : False
Flash Fired : False
Flash Return : No return detection
Flash Function : False
Flash Red Eye Mode : False
Tone Curve : 0, 0, 255, 255
Image Width : 300
Image Height : 200
Bits Per Sample : 8
Color Components : 3
Aperture : 22.0
Blue Balance : 2.273438
Image Size : 300x200
Megapixels : 0.060
Red Balance : 1.210938
Scale Factor To 35 mm Equivalent : 1.0
Shutter Speed : 30
Create Date : 2010:12:22 09:44:47.08
Date/Time Original : 2010:12:22 09:44:47.08
Modify Date : 2010:12:22 09:44:47.08
Auto Focus : On
Lens ID : AF-S VR Zoom-Nikkor 70-300mm f/4.5-5.6G IF-ED
Lens Spec : 70-300mm f/4.5-5.6 G VR
Flash : No Flash
Circle Of Confusion : 0.030 mm
Depth Of Field : 13.15 m (16.44 - 29.59 m)
Field Of View : 9.3 deg (3.42 m)
Focal Length : 220.0 mm (35 mm equivalent: 220.0 mm)
Hyperfocal Distance : 73.22 m
Light Value : 2.0