Uber Exif Photo
Caption-Abstract : Industrial plant, on Gowanus Canal, Gowanus, an industrial district surrounding the Gowanus Canal, was a crucial link to Red Hook's port, with industry thriving on its banks up until the mid twentieth century. .
By-line : Jackie Weisberg
By-line Title : Photographer
Object Name : Industrial plant, on Gowanus Canal, Gowanus, Brooklyn, New York
Sub-location : Gowanus
Province-State : New York
Country-Primary Location Name : USA
Keywords : America, architectural, architecture, barge, barges, blue skies, blue sky, Brooklyn, canal, cities, city, cloud, clouds, contaminated, dump, Gowanus, Gowanus Canal, Horizontal, industrial, industrial district, industrial plant, Jackie Weisberg, Kings County, neighborhood, neighborhoods, New York, New York City, New York State, northeast, NY, NYC, NYS, photograph, plants, port, Red Hook, sewage, shipping, snow, snowy, the big apple, united states, united states of America, Urban, USA, water, winter, wintertime
Copyright Notice : Cannot be reproduced without the permission of Jackie Weisberg
Copyright Flag : True
URL : Jackieweisberg.com
Image Description : Industrial plant, on Gowanus Canal, Gowanus, an industrial district surrounding the Gowanus Canal, was a crucial link to Red Hook's port, with industry thriving on its banks up until the mid twentieth century. .
Make : NIKON CORPORATION
Camera Model Name : NIKON D200
Orientation : Horizontal (normal)
Software : Adobe Photoshop CS5 Macintosh
Modify Date : 2010:12:02 18:23:56
Artist : Jackie Weisberg
Copyright : Cannot be reproduced without the permission of Jackie Weisberg
Exposure Time : 1/200
F Number : 8.0
Exposure Program : Manual
ISO : 100
Date/Time Original : 2009:12:21 04:13:23
Create Date : 2009:12:21 04:13:23
Shutter Speed Value : 1/200
Aperture Value : 8.0
Exposure Compensation : 0
Max Aperture Value : 3.5
Metering Mode : Multi-segment
Light Source : Fine Weather
Flash : No Flash
Focal Length : 18.0 mm
User Comment : COPYRIGHT JACKIE WEISBERG 2009
Color Space : Uncalibrated
Exif Image Width : 600
Exif Image Height : 406
Sensing Method : One-chip color area
Scene Type : Directly photographed
CFA Pattern : [Green,Red][Blue,Green]
Custom Rendered : Normal
Exposure Mode : Manual
White Balance : Manual
Digital Zoom Ratio : 1
Focal Length In 35mm Format : 27 mm
Scene Capture Type : Standard
Gain Control : None
Contrast : Normal
Saturation : Normal
Sharpness : Normal
Subject Distance Range : Unknown
Profile Description : Adobe RGB (1998)
Rating : 0
Creator Tool : Ver.1.00
Image Number : 50273
Lens : 18.0-70.0 mm f/3.5-4.5
Lens Info : 18-70mm f/3.5-4.5
ICC Profile Name : Adobe RGB (1998)
Color Mode : RGB
Authors Position : Photographer
City : Brooklyn
State : New York
Country : USA
Date Created : 2009:12:21 04:13:23.003
Web Statement : Jackieweisberg.com
Marked : True
Startup Profile : Print
Format : image/jpeg
Already Applied : True
Has Crop : True
Crop Angle : -0.220367
Crop Right : 0.998424
Crop Bottom : 0.994287
Crop Left : 0.001576
Crop Top : 0.005713
Has Settings : True
Camera Profile : ACR 4.4
Tone Curve Name : Medium Contrast
Convert To Grayscale : False
Post Crop Vignette Amount : 0
Sharpen Edge Masking : 0
Sharpen Detail : 25
Sharpen Radius : +1.0
Parametric Highlight Split : 75
Parametric Midtone Split : 50
Parametric Shadow Split : 25
Parametric Highlights : 0
Parametric Lights : 0
Parametric Darks : 0
Parametric Shadows : 0
Split Toning Balance : 0
Split Toning Highlight Saturation : 0
Split Toning Highlight Hue : 0
Split Toning Shadow Saturation : 0
Split Toning Shadow Hue : 0
Luminance Adjustment Magenta : 0
Luminance Adjustment Purple : 0
Luminance Adjustment Blue : -17
Luminance Adjustment Aqua : 0
Luminance Adjustment Green : 0
Luminance Adjustment Yellow : 0
Luminance Adjustment Orange : 0
Luminance Adjustment Red : 0
Saturation Adjustment Magenta : 0
Saturation Adjustment Purple : 0
Saturation Adjustment Blue : 0
Saturation Adjustment Aqua : 0
Saturation Adjustment Green : 0
Saturation Adjustment Yellow : 0
Saturation Adjustment Orange : 0
Saturation Adjustment Red : 0
Hue Adjustment Magenta : 0
Hue Adjustment Purple : 0
Hue Adjustment Blue : 0
Hue Adjustment Aqua : 0
Hue Adjustment Green : 0
Hue Adjustment Yellow : 0
Hue Adjustment Orange : 0
Hue Adjustment Red : 0
Defringe : 0
Clarity : -41
Highlight Recovery : 0
Vibrance : 0
Fill Light : 0
Blue Saturation : 0
Blue Hue : 0
Green Saturation : 0
Green Hue : 0
Red Saturation : 0
Red Hue : 0
Shadow Tint : 0
Vignette Amount : 0
Chromatic Aberration B : 0
Chromatic Aberration R : 0
Color Noise Reduction : 25
Luminance Smoothing : 0
Brightness : +50
Shadows : 14
Exposure : -0.15
Tint : -3
Color Temperature : 4950
Version : 5.1
Raw File Name : Gowanus_12_09_515.NEF
Location : Gowanus
Rights : Cannot be reproduced without the permission of Jackie Weisberg
Creator : Jackie Weisberg
Description : Industrial plant, on Gowanus Canal, Gowanus, an industrial district surrounding the Gowanus Canal, was a crucial link to Red Hook's port, with industry thriving on its banks up until the mid twentieth century. .
Subject : America, architectural, architecture, barge, barges, blue skies, blue sky, Brooklyn, canal, cities, city, cloud, clouds, contaminated, dump, Gowanus, Gowanus Canal, Horizontal, industrial, industrial district, industrial plant, Jackie Weisberg, Kings County, neighborhood, neighborhoods, New York, New York City, New York State, northeast, NY, NYC, NYS, photograph, plants, port, Red Hook, sewage, shipping, snow, snowy, the big apple, united states, united states of America, Urban, USA, water, winter, wintertime
Title : Industrial plant, on Gowanus Canal, Gowanus, Brooklyn, New York
Tone Curve : 0, 0, 32, 22, 64, 56, 128, 128, 192, 196, 255, 255
Hierarchical Subject : Ambient Keywords|New York, New York City, New York State, NY, NYC, NYS, Urban, city, cities, northeast, the big apple, Ambient Keywords|photograph, architecture, Other Keywords|architectural, Places|Brooklyn, Places|Kings County, Other Keywords|America, Other Keywords|neighborhoods, Other Keywords|snow, Other Keywords|snowy, Other Keywords|united states, Other Keywords|united states of America, Other Keywords|Urban, Other Keywords|USA, Other Keywords|winter, Other Keywords|wintertime, Other Keywords|Horizontal
Image Width : 300
Image Height : 203
Bits Per Sample : 8
Color Components : 3
Aperture : 8.0
Image Size : 300x203
Megapixels : 0.061
Scale Factor To 35 mm Equivalent : 1.5
Shutter Speed : 1/200
Create Date : 2009:12:21 04:13:23.3
Date/Time Original : 2009:12:21 04:13:23.3
Modify Date : 2010:12:02 18:23:56.30
Circle Of Confusion : 0.020 mm
Field Of View : 67.4 deg
Focal Length : 18.0 mm (35 mm equivalent: 27.0 mm)
Hyperfocal Distance : 2.02 m
Light Value : 13.6
Lens ID : 18.0-70.0mm f/3.5-4.5