Uber Exif Photo
Caption-Abstract : Smith Street Subway Station over the Gowanus Canal; Gowanus, an industrial district surrounding the Gowanus Canal, was a crucial link to Red Hook's port, with industry thriving on its banks up until the mid twentieth century. .
By-line : Jackie Weisberg
By-line Title : Photographer
Object Name : Smith Street Subway Station over the Gowanus Canal, Brooklyn, NY
Sub-location : Gowanus
Province-State : New York
Country-Primary Location Name : USA
Keywords : 9th street, American, architecture, barge, barges, blue skies, blue sky, canal, cities, city, contaminated, dump, el, elevated subway, elevated trains, Gowanus, Gowanus Canal, Horizontal, industrial, industrial district, Jackie weisberg, neighborhood, neighborhoods, New York, New York City, New York State, ninth street, ninth street bridge, northeast, NY, NYC, NYS, photograph, port, Red Hook, refleced, reflection, reflections, sewage, shipping, Smith Street, subway, subway stations, subways, sunsets, the big apple, the el, train, train station, transportation, Urban, water
Copyright Notice : Cannot be reproduced without the permission of Jackie Weisberg
Copyright Flag : True
URL : Jackieweisberg.com
Image Description : Smith Street Subway Station over the Gowanus Canal; Gowanus, an industrial district surrounding the Gowanus Canal, was a crucial link to Red Hook's port, with industry thriving on its banks up until the mid twentieth century. .
Make : NIKON CORPORATION
Camera Model Name : NIKON D200
Orientation : Horizontal (normal)
Software : Adobe Photoshop CS5 Macintosh
Modify Date : 2010:12:02 18:18:27
Artist : Jackie Weisberg
Copyright : Cannot be reproduced without the permission of Jackie Weisberg
Exposure Time : 1/5
F Number : 8.0
Exposure Program : Manual
ISO : 400
Date/Time Original : 2009:11:17 06:57:33
Create Date : 2009:11:17 06:57:33
Shutter Speed Value : 1/5
Aperture Value : 8.0
Exposure Compensation : 0
Max Aperture Value : 3.5
Metering Mode : Multi-segment
Light Source : Flash
Flash : No Flash
Focal Length : 18.0 mm
User Comment : COPYRIGHT JACKIE WEISBERG 2009
Color Space : Uncalibrated
Exif Image Width : 600
Exif Image Height : 402
Sensing Method : One-chip color area
Scene Type : Directly photographed
CFA Pattern : [Green,Red][Blue,Green]
Custom Rendered : Normal
Exposure Mode : Manual
White Balance : Manual
Digital Zoom Ratio : 1
Focal Length In 35mm Format : 27 mm
Scene Capture Type : Standard
Gain Control : Low gain up
Contrast : Normal
Saturation : Normal
Sharpness : Normal
Subject Distance Range : Unknown
Profile Description : Adobe RGB (1998)
Rating : 0
Creator Tool : Ver.1.00
Image Number : 48908
Lens : 18.0-70.0 mm f/3.5-4.5
Lens Info : 18-70mm f/3.5-4.5
ICC Profile Name : Adobe RGB (1998)
Color Mode : RGB
Authors Position : Photographer
Headline : Gowanus
City : Brooklyn
State : New York
Country : USA
Date Created : 2009:11:17 06:57:33.073
Web Statement : Jackieweisberg.com
Marked : True
Startup Profile : Print
Format : image/jpeg
Already Applied : True
Has Crop : False
Has Settings : True
Camera Profile : ACR 4.4
Tone Curve Name : Medium Contrast
Convert To Grayscale : False
Post Crop Vignette Amount : 0
Sharpen Edge Masking : 0
Sharpen Detail : 25
Sharpen Radius : +1.0
Parametric Highlight Split : 75
Parametric Midtone Split : 50
Parametric Shadow Split : 25
Parametric Highlights : 0
Parametric Lights : 0
Parametric Darks : 0
Parametric Shadows : 0
Split Toning Balance : 0
Split Toning Highlight Saturation : 0
Split Toning Highlight Hue : 0
Split Toning Shadow Saturation : 0
Split Toning Shadow Hue : 0
Luminance Adjustment Magenta : -4
Luminance Adjustment Purple : -13
Luminance Adjustment Blue : -8
Luminance Adjustment Aqua : 0
Luminance Adjustment Green : 0
Luminance Adjustment Yellow : 0
Luminance Adjustment Orange : +1
Luminance Adjustment Red : 0
Saturation Adjustment Magenta : 0
Saturation Adjustment Purple : 0
Saturation Adjustment Blue : 0
Saturation Adjustment Aqua : 0
Saturation Adjustment Green : 0
Saturation Adjustment Yellow : 0
Saturation Adjustment Orange : 0
Saturation Adjustment Red : 0
Hue Adjustment Magenta : 0
Hue Adjustment Purple : 0
Hue Adjustment Blue : 0
Hue Adjustment Aqua : 0
Hue Adjustment Green : 0
Hue Adjustment Yellow : 0
Hue Adjustment Orange : 0
Hue Adjustment Red : 0
Defringe : 0
Clarity : -34
Highlight Recovery : 0
Vibrance : +18
Fill Light : 0
Blue Saturation : 0
Blue Hue : 0
Green Saturation : 0
Green Hue : 0
Red Saturation : 0
Red Hue : 0
Shadow Tint : 0
Vignette Amount : 0
Chromatic Aberration B : 0
Chromatic Aberration R : 0
Color Noise Reduction : 25
Luminance Smoothing : 0
Brightness : +50
Shadows : 5
Exposure : -0.85
Tint : 0
Color Temperature : 5600
Version : 5.1
Raw File Name : Gowanus_261.NEF
Location : Gowanus
Rights : Cannot be reproduced without the permission of Jackie Weisberg
Creator : Jackie Weisberg
Description : Smith Street Subway Station over the Gowanus Canal; Gowanus, an industrial district surrounding the Gowanus Canal, was a crucial link to Red Hook's port, with industry thriving on its banks up until the mid twentieth century. .
Subject : 9th street, American, architecture, barge, barges, blue skies, blue sky, canal, cities, city, contaminated, dump, el, elevated subway, elevated trains, Gowanus, Gowanus Canal, Horizontal, industrial, industrial district, Jackie weisberg, neighborhood, neighborhoods, New York, New York City, New York State, ninth street, ninth street bridge, northeast, NY, NYC, NYS, photograph, port, Red Hook, refleced, reflection, reflections, sewage, shipping, Smith Street, subway, subway stations, subways, sunsets, the big apple, the el, train, train station, transportation, Urban, water
Title : Smith Street Subway Station over the Gowanus Canal, Brooklyn, NY
Tone Curve : 0, 0, 32, 22, 64, 56, 128, 128, 192, 196, 255, 255
Image Width : 300
Image Height : 201
Bits Per Sample : 8
Color Components : 3
Aperture : 8.0
Image Size : 300x201
Megapixels : 0.060
Scale Factor To 35 mm Equivalent : 1.5
Shutter Speed : 1/5
Create Date : 2009:11:17 06:57:33.73
Date/Time Original : 2009:11:17 06:57:33.73
Modify Date : 2010:12:02 18:18:27.73
Circle Of Confusion : 0.020 mm
Field Of View : 67.4 deg
Focal Length : 18.0 mm (35 mm equivalent: 27.0 mm)
Hyperfocal Distance : 2.02 m
Light Value : 6.3
Lens ID : 18.0-70.0mm f/3.5-4.5