Uber Exif Photo
Caption-Abstract : El Capitan and the Merced river at sunset in Yosemite valley, California during winter
By-line : Jeff Banke
By-line Title : Photographer
Object Name : El Capitan in winter
Keywords : afternoon, alpine, blue, California, camping, canyon, cliff, climbing, clouds, dome, eve, evening, famous, glow, gold, granite, half, hiking, iconic, landscape, Merced, national, Park, picturesque, recreation, renown, River, scenic, snow, sunrise, sunset, trees, valley, water, whispy, white, winter, Yosemite
Copyright Notice : Copyrighted © 2009 Jeff Banke all rights reserved
Copyright Flag : True
Image Description : El Capitan and the Merced river at sunset in Yosemite valley, California during winter
Make : NIKON CORPORATION
Camera Model Name : NIKON D100
Orientation : Horizontal (normal)
Software : Adobe Photoshop CS4 Windows
Modify Date : 2010:08:31 12:25:02
Artist : Jeff Banke
Copyright : Copyrighted © 2009 Jeff Banke all rights reserved
Exposure Time : 1/80
Exposure Program : Manual
ISO : 200
Date/Time Original : 2008:12:27 16:49:30
Create Date : 2008:12:27 16:49:30
Shutter Speed Value : 1/80
Exposure Compensation : 0
Max Aperture Value : 1.0
Metering Mode : Spot
Light Source : Flash
User Comment : (C) 2007 JEFF BANKE
Color Space : sRGB
Exif Image Width : 1936
Exif Image Height : 2868
Sensing Method : One-chip color area
Scene Type : Directly photographed
CFA Pattern : [Green,Red][Blue,Green]
Custom Rendered : Normal
Exposure Mode : Manual
White Balance : Manual
Digital Zoom Ratio : 1
Scene Capture Type : Standard
Gain Control : None
Contrast : Normal
Saturation : Normal
Sharpness : Soft
Subject Distance Range : Unknown
Profile Description : sRGB IEC61966-2.1
Date/Time Digitized : 2008:12:27 16:49:30.60-08:00
Creator Tool : Ver.2.00
Rating : 5
Lens Info : 0mm f/0
Lens : 0.0 mm f/0.0
Authors Position : Photographer
Headline : Yosemite
Sidecar For Extension : NEF
Color Mode : RGB
ICC Profile Name : sRGB IEC61966-2.1
Format : image/jpeg
Preserved File Name : DSC_0835.NEF
Raw File Name : 27122008-D100-Yosemite-039JBB.NEF
Version : 5.7
Process Version : 5.0
Color Temperature : 7750
Tint : -4
Exposure : +0.95
Shadows : 5
Brightness : +58
Luminance Smoothing : 0
Color Noise Reduction : 25
Chromatic Aberration R : 0
Chromatic Aberration B : 0
Vignette Amount : 0
Shadow Tint : 0
Red Hue : 0
Red Saturation : 0
Green Hue : 0
Green Saturation : 0
Blue Hue : 0
Blue Saturation : 0
Fill Light : 3
Vibrance : +43
Highlight Recovery : 0
Clarity : 0
Defringe : 0
Hue Adjustment Red : 0
Hue Adjustment Orange : 0
Hue Adjustment Yellow : 0
Hue Adjustment Green : 0
Hue Adjustment Aqua : 0
Hue Adjustment Blue : 0
Hue Adjustment Purple : 0
Hue Adjustment Magenta : 0
Saturation Adjustment Red : 0
Saturation Adjustment Orange : 0
Saturation Adjustment Yellow : 0
Saturation Adjustment Green : 0
Saturation Adjustment Aqua : 0
Saturation Adjustment Blue : 0
Saturation Adjustment Purple : 0
Saturation Adjustment Magenta : 0
Luminance Adjustment Red : 0
Luminance Adjustment Orange : 0
Luminance Adjustment Yellow : 0
Luminance Adjustment Green : 0
Luminance Adjustment Aqua : 0
Luminance Adjustment Blue : 0
Luminance Adjustment Purple : 0
Luminance Adjustment Magenta : 0
Split Toning Shadow Hue : 0
Split Toning Shadow Saturation : 0
Split Toning Highlight Hue : 0
Split Toning Highlight Saturation : 0
Split Toning Balance : 0
Parametric Shadows : 0
Parametric Darks : 0
Parametric Lights : 0
Parametric Highlights : 0
Parametric Shadow Split : 25
Parametric Midtone Split : 50
Parametric Highlight Split : 75
Sharpen Radius : +1.0
Sharpen Detail : 25
Sharpen Edge Masking : 0
Post Crop Vignette Amount : 0
Grain Amount : 0
Convert To Grayscale : False
Tone Curve Name : Medium Contrast
Camera Profile : Camera Landscape
Has Settings : True
Has Crop : False
Already Applied : True
Marked : True
Flash Fired : False
Flash Return : No return detection
Flash Mode : Unknown
Flash Function : False
Flash Red Eye Mode : False
Subject : afternoon, alpine, blue, California, camping, canyon, cliff, climbing, clouds, dome, eve, evening, famous, glow, gold, granite, half, hiking, iconic, landscape, Merced, national, Park, picturesque, recreation, renown, River, scenic, snow, sunrise, sunset, trees, valley, water, whispy, white, winter, Yosemite
Creator : Jeff Banke
Description : El Capitan and the Merced river at sunset in Yosemite valley, California during winter
Rights : Copyrighted © 2009 Jeff Banke all rights reserved
Title : El Capitan in winter
Tone Curve : 0, 0, 32, 22, 64, 56, 128, 128, 192, 196, 255, 255
Creator Address : 3499 La Mesa Drive
Creator City : Hayward
Creator Region : California
Creator Postal Code : 94542
Creator Country : USA
Creator Work Telephone : office 510-581-0349, cell 510-501-4502
Creator Work Email : j.banke@comcast.net
Creator Work URL : www.xlr8photo.com
Image Width : 203
Image Height : 300
Bits Per Sample : 8
Color Components : 3
Image Size : 203x300
Megapixels : 0.061
Shutter Speed : 1/80
Create Date : 2008:12:27 16:49:30.60
Date/Time Original : 2008:12:27 16:49:30.60
Modify Date : 2010:08:31 12:25:02.60
Flash : No Flash
Lens ID : 0.0mm f/0.0