Uber Exif Photo
Caption-Abstract : Golden Gate bridge from the peninsula looking towards Marin
By-line : Jeff Banke
By-line Title : Photographer
Object Name : Golden Gate bridge
Keywords : golden, gate, bridge, gateway, span, metal, suspension, traffic, automobile, scenic, iconic, vertucal, tower, cable, boat, red, orange, blue
Copyright Notice : Copyright (C) Jeff Banke 2010 all rights reserved.
Copyright Flag : True
Image Description : Golden Gate bridge from the peninsula looking towards Marin
Make : NIKON CORPORATION
Camera Model Name : NIKON D100
Orientation : Horizontal (normal)
Software : Adobe Photoshop CS4 Windows
Modify Date : 2010:01:11 22:23:05
Artist : Jeff Banke
Copyright : Copyright (C) Jeff Banke 2010 all rights reserved.
Exposure Time : 1/400
F Number : 8.0
Exposure Program : Manual
ISO : 200
Date/Time Original : 2009:12:24 14:06:11
Create Date : 2009:12:24 14:06:11
Shutter Speed Value : 1/400
Aperture Value : 8.0
Exposure Compensation : +1/3
Max Aperture Value : 2.8
Metering Mode : Spot
Light Source : Unknown
Focal Length : 86.0 mm
User Comment : (C) 2009) JEFF BANKE)<
Color Space : Uncalibrated
Exif Image Width : 2000
Exif Image Height : 3008
Sensing Method : One-chip color area
Scene Type : Directly photographed
CFA Pattern : [Green,Red][Blue,Green]
Custom Rendered : Normal
Exposure Mode : Manual
White Balance : Auto
Digital Zoom Ratio : 1
Focal Length In 35mm Format : 129 mm
Scene Capture Type : Standard
Gain Control : None
Contrast : Normal
Saturation : Normal
Sharpness : Soft
Subject Distance Range : Unknown
Profile Description : Adobe RGB (1998)
Date/Time Digitized : 2009:12:24 14:06:11.10-08:00
Creator Tool : Ver.2.00
Rating : 5
Lens Info : 70-200mm f/2.8
Lens : 70.0-200.0 mm f/2.8
Raw File Name : DSC_6803.NEF
Version : 5.3
Color Temperature : 5500
Tint : +2
Exposure : -0.45
Shadows : 0
Brightness : +50
Luminance Smoothing : 0
Color Noise Reduction : 25
Chromatic Aberration R : 0
Chromatic Aberration B : 0
Vignette Amount : 0
Shadow Tint : 0
Red Hue : 0
Red Saturation : 0
Green Hue : 0
Green Saturation : 0
Blue Hue : 0
Blue Saturation : +9
Fill Light : 0
Vibrance : +54
Highlight Recovery : 0
Clarity : 0
Defringe : 0
Hue Adjustment Red : 0
Hue Adjustment Orange : 0
Hue Adjustment Yellow : 0
Hue Adjustment Green : 0
Hue Adjustment Aqua : 0
Hue Adjustment Blue : 0
Hue Adjustment Purple : 0
Hue Adjustment Magenta : 0
Saturation Adjustment Red : 0
Saturation Adjustment Orange : 0
Saturation Adjustment Yellow : 0
Saturation Adjustment Green : 0
Saturation Adjustment Aqua : 0
Saturation Adjustment Blue : 0
Saturation Adjustment Purple : 0
Saturation Adjustment Magenta : 0
Luminance Adjustment Red : 0
Luminance Adjustment Orange : 0
Luminance Adjustment Yellow : 0
Luminance Adjustment Green : 0
Luminance Adjustment Aqua : 0
Luminance Adjustment Blue : 0
Luminance Adjustment Purple : 0
Luminance Adjustment Magenta : 0
Split Toning Shadow Hue : 0
Split Toning Shadow Saturation : 0
Split Toning Highlight Hue : 0
Split Toning Highlight Saturation : 0
Split Toning Balance : 0
Parametric Shadows : 0
Parametric Darks : 0
Parametric Lights : 0
Parametric Highlights : 0
Parametric Shadow Split : 25
Parametric Midtone Split : 50
Parametric Highlight Split : 75
Sharpen Radius : +1.0
Sharpen Detail : 25
Sharpen Edge Masking : 0
Post Crop Vignette Amount : 0
Convert To Grayscale : False
Tone Curve Name : Medium Contrast
Camera Profile : Camera Landscape
Has Settings : True
Has Crop : False
Already Applied : True
Sidecar For Extension : NEF
Color Mode : RGB
ICC Profile Name : Adobe RGB (1998)
Authors Position : Photographer
Format : image/jpeg
Marked : True
Flash Fired : False
Flash Return : No return detection
Flash Mode : Unknown
Flash Function : False
Flash Red Eye Mode : False
Tone Curve : 0, 0, 32, 22, 64, 56, 128, 128, 192, 196, 255, 255
Title : Golden Gate bridge
Creator : Jeff Banke
Description : Golden Gate bridge from the peninsula looking towards Marin
Subject : golden, gate, bridge, gateway, span, metal, suspension, traffic, automobile, scenic, iconic, vertucal, tower, cable, boat, red, orange, blue
Rights : Copyright (C) Jeff Banke 2010 all rights reserved.
Creator Address : 3499 La Mesa drive
Creator City : Hayward
Creator Region : California
Creator Postal Code : 94542
Creator Country : USA
Creator Work Telephone : 510-581-0349 office, 510-501-4502 Cell
Creator Work Email : j.banke@comcast.net
Creator Work URL : www.xlr8photo.com
Image Width : 199
Image Height : 300
Bits Per Sample : 8
Color Components : 3
Aperture : 8.0
Image Size : 199x300
Megapixels : 0.060
Scale Factor To 35 mm Equivalent : 1.5
Shutter Speed : 1/400
Create Date : 2009:12:24 14:06:11.10
Date/Time Original : 2009:12:24 14:06:11.10
Modify Date : 2010:01:11 22:23:05.10
Flash : No Flash
Circle Of Confusion : 0.020 mm
Field Of View : 15.9 deg
Focal Length : 86.0 mm (35 mm equivalent: 129.0 mm)
Hyperfocal Distance : 46.15 m
Light Value : 13.6
Lens ID : 70.0-200.0mm f/2.8