Uber Exif Photo
Caption-Abstract : Hot air balloon at the Taos Balloon festival 2007
By-line : Jeffrey Banke
By-line Title : Photographer
Object Name : Hot air balloons at the Taos Balloon festival 2007
Keywords : air, aircraft, Aviation, balloon, basket, blue, bright, colorful, expanding, expansion, fan, flight, guide, heat, heating, hot, hot-air, inflated, inflating, panels, pilot, rising, ropes, sewn, stripes, Transportation
Copyright Notice : Copyright © 2007 Jeff Banke all rights reserved
Copyright Flag : True
Image Description : Hot air balloon at the Taos Balloon festival 2007
Make : NIKON CORPORATION
Camera Model Name : NIKON D100
Orientation : Horizontal (normal)
Software : Adobe Photoshop CS4 Windows
Modify Date : 2010:02:19 11:34:39
Artist : Jeffrey Banke
Copyright : Copyright © 2007 Jeff Banke all rights reserved
Exposure Time : 1/250
F Number : 8.0
Exposure Program : Manual
ISO : 200
Date/Time Original : 2007:10:26 07:27:37
Create Date : 2007:10:26 07:27:37
Shutter Speed Value : 1/250
Aperture Value : 8.0
Exposure Compensation : +1/3
Max Aperture Value : 4.4
Metering Mode : Spot
Light Source : Unknown
Focal Length : 70.0 mm
User Comment : (C) 2007 JEFF BANKE
Color Space : Uncalibrated
Exif Image Width : 2000
Exif Image Height : 3008
Sensing Method : One-chip color area
Scene Type : Directly photographed
CFA Pattern : [Green,Red][Blue,Green]
Custom Rendered : Normal
Exposure Mode : Manual
White Balance : Auto
Digital Zoom Ratio : 1
Focal Length In 35mm Format : 105 mm
Scene Capture Type : Standard
Gain Control : None
Contrast : Normal
Saturation : Normal
Sharpness : Soft
Subject Distance Range : Unknown
Profile Description : Adobe RGB (1998)
Date/Time Digitized : 2007:10:26 07:27:37.30-07:00
Rating : 5
Creator Tool : Ver.2.00
Lens : 18.0-70.0 mm f/3.5-4.5
Lens Info : 18-70mm f/3.5-4.5
ICC Profile Name : Adobe RGB (1998)
Color Mode : RGB
Sidecar For Extension : NEF
Authors Position : Photographer
Format : image/jpeg
Already Applied : True
Has Crop : False
Has Settings : True
Camera Profile : Camera Landscape
Tone Curve Name : Medium Contrast
Convert To Grayscale : False
Post Crop Vignette Amount : 0
Sharpen Edge Masking : 0
Sharpen Detail : 25
Sharpen Radius : +1.0
Parametric Highlight Split : 75
Parametric Midtone Split : 50
Parametric Shadow Split : 25
Parametric Highlights : 0
Parametric Lights : 0
Parametric Darks : 0
Parametric Shadows : 0
Split Toning Balance : 0
Split Toning Highlight Saturation : 0
Split Toning Highlight Hue : 0
Split Toning Shadow Saturation : 0
Split Toning Shadow Hue : 0
Luminance Adjustment Magenta : 0
Luminance Adjustment Purple : 0
Luminance Adjustment Blue : 0
Luminance Adjustment Aqua : 0
Luminance Adjustment Green : 0
Luminance Adjustment Yellow : 0
Luminance Adjustment Orange : 0
Luminance Adjustment Red : 0
Saturation Adjustment Magenta : 0
Saturation Adjustment Purple : 0
Saturation Adjustment Blue : 0
Saturation Adjustment Aqua : 0
Saturation Adjustment Green : 0
Saturation Adjustment Yellow : 0
Saturation Adjustment Orange : 0
Saturation Adjustment Red : 0
Hue Adjustment Magenta : 0
Hue Adjustment Purple : 0
Hue Adjustment Blue : 0
Hue Adjustment Aqua : 0
Hue Adjustment Green : 0
Hue Adjustment Yellow : 0
Hue Adjustment Orange : 0
Hue Adjustment Red : 0
Defringe : 0
Clarity : 0
Highlight Recovery : 28
Vibrance : +6
Fill Light : 0
Blue Saturation : 0
Blue Hue : 0
Green Saturation : 0
Green Hue : 0
Red Saturation : 0
Red Hue : 0
Shadow Tint : 0
Vignette Amount : 0
Chromatic Aberration B : 0
Chromatic Aberration R : 0
Color Noise Reduction : 25
Luminance Smoothing : 0
Brightness : +49
Shadows : 2
Exposure : -0.15
Tint : -5
Color Temperature : 4800
Version : 5.3
Raw File Name : DSC_1161 face.NEF
Marked : True
Preserved File Name : DSC_1161 face.psd
Flash Fired : False
Flash Return : No return detection
Flash Mode : Unknown
Flash Function : False
Flash Red Eye Mode : False
Description : Hot air balloon at the Taos Balloon festival 2007
Rights : Copyright © 2007 Jeff Banke all rights reserved
Title : Hot air balloons at the Taos Balloon festival 2007
Creator : Jeffrey Banke
Subject : air, aircraft, Aviation, balloon, basket, blue, bright, colorful, expanding, expansion, fan, flight, guide, heat, heating, hot, hot-air, inflated, inflating, panels, pilot, rising, ropes, sewn, stripes, Transportation
Tone Curve : 0, 0, 32, 22, 64, 56, 128, 128, 192, 196, 255, 255
Creator Address : 3499 La Mesa Drive
Creator City : Hayward
Creator Region : California
Creator Postal Code : 94542
Creator Country : USA
Creator Work Telephone : 510-581-0349 office, 510-501-4502 cell
Creator Work Email : j.banke@comcast.net
Creator Work URL : www.xlr8photo.com
Image Width : 199
Image Height : 300
Bits Per Sample : 8
Color Components : 3
Aperture : 8.0
Image Size : 199x300
Megapixels : 0.060
Scale Factor To 35 mm Equivalent : 1.5
Shutter Speed : 1/250
Create Date : 2007:10:26 07:27:37.3
Date/Time Original : 2007:10:26 07:27:37.3
Modify Date : 2010:02:19 11:34:39.30
Flash : No Flash
Circle Of Confusion : 0.020 mm
Field Of View : 19.5 deg
Focal Length : 70.0 mm (35 mm equivalent: 105.0 mm)
Hyperfocal Distance : 30.58 m
Light Value : 13.0
Lens ID : 18.0-70.0mm f/3.5-4.5