Uber Exif Photo
Caption-Abstract : Gray heron fishing in a lake is reflected in the still water
By-line : Jeff Banke
By-line Title : Photographer
Object Name : Heron
Keywords : ardea cinerea, Aves, Birds, blue, ciconiiformes, early, feather, feeding, fishing, Gray, green, grey, Heron, lake, morning, plumage, stalking, wading, Walking, watching, water, Waterfowl, wild, Wildlife, still, calm, alert
Copyright Notice : Copyright (C) Jeff Banke 2009 all rights reserved.
Copyright Flag : True
Image Description : Gray heron fishing in a lake is reflected in the still water
Make : NIKON CORPORATION
Camera Model Name : NIKON D70s
Orientation : Horizontal (normal)
Software : Adobe Photoshop CS4 Windows
Modify Date : 2009:08:07 11:48:46
Artist : Jeff Banke
Copyright : Copyright (C) Jeff Banke 2009 all rights reserved.
Exposure Time : 1/160
F Number : 9.0
Exposure Program : Manual
ISO : 200
Date/Time Original : 2007:03:13 05:58:38
Create Date : 2007:03:13 05:58:38
Shutter Speed Value : 1/160
Aperture Value : 9.0
Exposure Compensation : -2
Max Aperture Value : 2.8
Metering Mode : Spot
Light Source : Fine Weather
Focal Length : 200.0 mm
Color Space : Uncalibrated
Exif Image Width : 2000
Exif Image Height : 2644
Sensing Method : One-chip color area
Scene Type : Directly photographed
CFA Pattern : [Blue,Green][Green,Red]
Custom Rendered : Normal
Exposure Mode : Manual
White Balance : Manual
Digital Zoom Ratio : 1
Focal Length In 35mm Format : 300 mm
Scene Capture Type : Standard
Gain Control : None
Contrast : Normal
Saturation : Normal
Sharpness : Normal
Subject Distance Range : Unknown
Profile Description : ProPhoto RGB
Date/Time Digitized : 2007:03:13 05:58:38.00-07:00
Rating : 5
Creator Tool : Ver.1.00
Image Number : 12235
Lens : 70.0-200.0 mm f/2.8
Lens Info : 70-200mm f/2.8
Already Applied : True
Has Crop : False
Has Settings : True
Camera Profile : Adobe Standard
Tone Curve Name : Medium Contrast
Convert To Grayscale : False
Post Crop Vignette Amount : 0
Sharpen Edge Masking : 0
Sharpen Detail : 25
Sharpen Radius : +1.0
Parametric Highlight Split : 75
Parametric Midtone Split : 50
Parametric Shadow Split : 25
Parametric Highlights : 0
Parametric Lights : 0
Parametric Darks : 0
Parametric Shadows : 0
Split Toning Balance : 0
Split Toning Highlight Saturation : 0
Split Toning Highlight Hue : 0
Split Toning Shadow Saturation : 0
Split Toning Shadow Hue : 0
Luminance Adjustment Magenta : 0
Luminance Adjustment Purple : 0
Luminance Adjustment Blue : 0
Luminance Adjustment Aqua : 0
Luminance Adjustment Green : 0
Luminance Adjustment Yellow : 0
Luminance Adjustment Orange : 0
Luminance Adjustment Red : 0
Saturation Adjustment Magenta : 0
Saturation Adjustment Purple : 0
Saturation Adjustment Blue : 0
Saturation Adjustment Aqua : 0
Saturation Adjustment Green : 0
Saturation Adjustment Yellow : 0
Saturation Adjustment Orange : 0
Saturation Adjustment Red : 0
Hue Adjustment Magenta : 0
Hue Adjustment Purple : 0
Hue Adjustment Blue : +20
Hue Adjustment Aqua : 0
Hue Adjustment Green : 0
Hue Adjustment Yellow : 0
Hue Adjustment Orange : 0
Hue Adjustment Red : 0
Defringe : 0
Clarity : 0
Highlight Recovery : 0
Vibrance : +28
Fill Light : 0
Blue Saturation : +10
Blue Hue : 0
Green Saturation : 0
Green Hue : 0
Red Saturation : 0
Red Hue : 0
Shadow Tint : 0
Vignette Amount : 0
Chromatic Aberration B : 0
Chromatic Aberration R : 0
Color Noise Reduction : 25
Luminance Smoothing : 0
Brightness : +50
Shadows : 5
Exposure : +0.15
Tint : -4
Color Temperature : 5100
Version : 5.3
Raw File Name : DSC_1936.NEF
Authors Position : Photographer
ICC Profile Name : ProPhoto RGB
Color Mode : RGB
Sidecar For Extension : NEF
Format : image/jpeg
Marked : True
Flash Fired : False
Flash Return : No return detection
Flash Mode : Unknown
Flash Function : False
Flash Red Eye Mode : False
Tone Curve : 0, 0, 32, 22, 64, 56, 128, 128, 192, 196, 255, 255
Title : Heron
Creator : Jeff Banke
Rights : Copyright (C) Jeff Banke 2009 all rights reserved.
Subject : ardea cinerea, Aves, Birds, blue, ciconiiformes, early, feather, feeding, fishing, Gray, green, grey, Heron, lake, morning, plumage, stalking, wading, Walking, watching, water, Waterfowl, wild, Wildlife, still, calm, alert
Description : Gray heron fishing in a lake is reflected in the still water
Creator Address : 3499 La Mesa drive
Creator City : Hayward
Creator Region : California
Creator Postal Code : 94542
Creator Country : USA
Creator Work Telephone : 510-581-0349 office, 510-501-4502 Cell
Creator Work Email : j.banke@comcast.net
Creator Work URL : www.xlr8photo.com
Hierarchical Subject : Birds|Aves, Birds|Waterfowl|Heron, Colors|blue, Colors|grey, Colors|green, Birds|Waterfowl, Birds|Waterfowl|Heron|Gray, Birds|Waterfowl|Heron|Gray|"ardea cinerea", Birds|Waterfowl|Heron|ciconiiformes, Birds, Birds|feather, scenic description|water, scenic description|lake, Mammals|wild, Mammals|Wildlife, Actions|feeding, Actions|stalking, Actions|fishing, Actions|wading, Actions|watching, Actions|Walking, Seasons and time|early, Seasons and time|morning, Birds|plumage
Image Width : 227
Image Height : 300
Bits Per Sample : 8
Color Components : 3
Aperture : 9.0
Image Size : 227x300
Megapixels : 0.068
Scale Factor To 35 mm Equivalent : 1.5
Shutter Speed : 1/160
Create Date : 2007:03:13 05:58:38.00
Date/Time Original : 2007:03:13 05:58:38.00
Modify Date : 2009:08:07 11:48:46.00
Flash : No Flash
Circle Of Confusion : 0.020 mm
Field Of View : 6.9 deg
Focal Length : 200.0 mm (35 mm equivalent: 300.0 mm)
Hyperfocal Distance : 221.88 m
Light Value : 12.7
Lens ID : 70.0-200.0mm f/2.8